Workbook

Sheet SAŽETAK
B1: IZVJEŠTAJ O IZVRŠENJU FINANCIJSKOG PLANA DOMA ZDRAVLJA VUKOVAR ZA RAZDOBLJE OD 01.01. DO 31.12.2025. GODINE
B3: I. OPĆI DIO
B5: SAŽETAK RAČUNA PRIHODA I RASHODA I RAČUNA FINANCIRANJA
B7: SAŽETAK RAČUNA PRIHODA I RASHODA | K7: EUR | L7: EUR
B8: BROJČANA OZNAKA I NAZIV | G8: OSTVARENJE/ IZVRŠENJE 1.-12.2024. | H8: IZVORNI PLAN ZA 2025. | I8: TEKUĆI PLAN 2025. | J8: OSTVARENJE/ IZVRŠENJE 1.-12.2025. | K8: Indeks | L8: Indeks
B9: 1 | G9: 2 | H9: 3 | I9: 4 | J9: 5 | K9: 6=5/3*100 | L9: 6=5/4*100
B10: PRIHODI UKUPNO | G10: =G11+G12 -> 5100997.3 | H10: =H11+H12 -> 4702255.6 | I10: =I11+I12 -> 5292700.8 | J10: =J11+J12 -> 5342526.1 | K10: =J10/H10*100 -> 113.61624 | L10: =J10/I10*100 -> 100.9414
B11: 6 PRIHODI POSLOVANJA | G11: ='Prihodi po ekonomskoj klas'!D10 -> 5100997.3 | H11: ='Prihodi po ekonomskoj klas'!E10 -> 4702255.6 | I11: ='Prihodi po ekonomskoj klas'!F10 -> 5291900.8 | J11: ='Prihodi po ekonomskoj klas'!G10 -> 5341726.1 | K11: =J11/H11*100 -> 113.59923 | L11: =J11/I11*100 -> 100.94154
B12: 7 PRIHODI OD PRODAJE NEFINANCIJSKE IMOVINE | G12: ='Prihodi po ekonomskoj klas'!D70 -> 0 | H12: ='Prihodi po ekonomskoj klas'!E70 -> 0 | I12: ='Prihodi po ekonomskoj klas'!F70 -> 800 | J12: ='Prihodi po ekonomskoj klas'!G70 -> 800 | K12: =IFERROR(J12/H12*100,J12) -> 800 | L12: =J12/I12*100 -> 100
B13: RASHODI UKUPNO | G13: =G14+G15 -> 5931700.2 | H13: =H14+H15 -> 4725934.6 | I13: =I14+I15 -> 4763941.6 | J13: =J14+J15 -> 5188831.5 | K13: =J13/H13*100 -> 109.79482 | L13: =J13/I13*100 -> 108.91887
B14: 3 RASHODI POSLOVANJA | G14: ='RASHODI-ek.kl.'!D57 -> 5084825.9 | H14: ='RASHODI-ek.kl.'!E57 -> 4299508.7 | I14: ='RASHODI-ek.kl.'!F57 -> 4337963.5 | J14: ='RASHODI-ek.kl.'!G57 -> 4919030.6 | K14: =J14/H14*100 -> 114.40913 | L14: =J14/I14*100 -> 113.39493
B15: 4 RASHODI ZA NABAVU NEFINANCIJSKE IMOVINE | G15: ='RASHODI-ek.kl.'!D213 -> 846874.29 | H15: ='RASHODI-ek.kl.'!E213 -> 426425.88 | I15: ='RASHODI-ek.kl.'!F213 -> 425978.17 | J15: ='RASHODI-ek.kl.'!G213 -> 269800.91 | K15: =J15/H15*100 -> 63.270294 | L15: =J15/I15*100 -> 63.336793
B16: RAZLIKA - VIŠAK MANJAK | G16: =G10-G13 -> -830702.87 | H16: =H10-H13 -> -23678.94 | I16: =I10-I13 -> 528759.19 | J16: =J10-J13 -> 153694.6 | K16: =J16/H16*100 -> -649.0772 | L16: =J16/I16*100 -> 29.067031
B18: SAŽETAK RAČUNA FINANCIRANJA
B19: BROJČANA OZNAKA I NAZIV | G19: OSTVARENJE/ IZVRŠENJE 1.-12.2024. | H19: IZVORNI PLAN ZA 2025. | I19: TEKUĆI PLAN 2025. | J19: OSTVARENJE/ IZVRŠENJE 1.-12.2025. | K19: Indeks | L19: Indeks
B20: 1 | G20: 2 | H20: 3 | I20: 4 | J20: 5 | K20: 6 | L20: 7
B21: 8 PRIMICI OD FINANCIJSKE IMOVINE I ZADUŽIVANJA
B22: 5 IZDACI ZA FINANCIJSKU IMOVINU I OTPLATE ZAJMOVA
B23: RAZLIKA PRIMITAKA I IZDATAKA
B25: PRENESENI VIŠAK ILI PRENESENI MANJAK
B26: BROJČANA OZNAKA I NAZIV | G26: OSTVARENJE/ IZVRŠENJE 1.-12.2024. | H26: IZVORNI PLAN ZA 2025. | I26: TEKUĆI PLAN 2025. | J26: OSTVARENJE/ IZVRŠENJE 1.-12.2025. | K26: Indeks | L26: Indeks
B27: PRENESENI VIŠAK / MANJAK IZ PRETHODNE(IH) GODINE | G27: -12356.04 | H27: =G28 -> -843058.91 | I27: =G28 -> -843058.91 | J27: =G28 -> -843058.91 | K27: =IFERROR(J27/H27*100,J27) -> 100 | L27: =IFERROR(J27/I27*100,J27) -> 100
B28: VIŠAK/MANJAK IZ PRETHODNE GODINE KOJI ĆE SE RASPOREDITI/POKRITI | G28: =G16+G27 -> -843058.91 | H28: =H16+H27 -> -866737.85 | I28: =I27+I16 -> -314299.72 | J28: =J27+J16 -> -689364.31 | K28: =IFERROR(J28/H28*100,J28) -> 79.535503 | L28: =IFERROR(J28/I28*100,J28) -> 219.33342

Sheet Prihodi po ekonomskoj klas
A2: I. OPĆI DIO
A4: A. RAČUN PRIHODA
A6: PRIHODI PREMA EKONOMSKOJ KLASIFIKACIJI
A8: PRIHODI POSLOVANJA
A9: Razred | B9: Skupina/podskupina/odjeljak | C9: Naziv | D9: OSTVARENJE/ IZVRŠENJE 1.-12.2024. | E9: IZVORNI PLAN ZA 2025. | F9: TEKUĆI PLAN 2025. | G9: OSTVARENJE/ IZVRŠENJE 1.-12.2025.
A10: 6 | D10: =D11+D33+D40+D47+D57+D66 -> 5100997.3 | E10: =E11+E33+E40+E47+E57+E66 -> 4702255.6 | F10: =F11+F33+F40+F47+F57+F66 -> 5291900.8 | G10: =G11+G33+G40+G47+G57+G66 -> 5341726.1
B11: 63 | C11: Pomoći | D11: =D12+D14+D19+D22+D27+D31 -> 331632.4 | E11: =E12+E14+E19+E22+E27+E31 -> 128013.95 | F11: =F12+F14+F19+F22+F27+F31 -> 514923.83 | G11: =G12+G14+G19+G22+G27+G31 -> 309715.23 | I11: SAVJET: PRVO POPUNITE PRETHODNI LIST
B12: 632 | C12: Pomoći od međunaodnih organizacija te institucija i tijela EU | D12: =SUM(D13) -> 0 | E12: =SUM(E13) -> 0 | F12: =SUM(F13) -> 0 | G12: =SUM(G13) -> 0
B13: 6324 | C13: Kapitalne pomoći od instucija i tijela EU | D13: 0 | E13: 0 | F13: 0 | G13: 0
B14: 633 | C14: Pomoć proračunu iz drugih proračuna | D14: =D15+D18 -> 799.5 | E14: =E15+E18 -> 0 | F14: =F15+F18 -> 0 | G14: =G15+G18 -> 0 | I14: OVA TABLICA AUTOMATSKI POVLAČI IZNOSE IZ PRETHODNOG LISTA (PRIHODI PO EK KLAS I IZVORIMA)
B15: 6331 | C15: Tekuća pomoć proračunu iz drugih proračuna | D15: =SUM(D17) -> 799.5 | E15: =SUM(E17) -> 0 | F15: =SUM(F16:F17) -> 0 | G15: =SUM(G16:G17) -> 0 | I15: UKOLIKO STE U PRVOM LISTU DODAVALI RAČUNE MORATI ĆETE I U OVOME LISTU NAPRAVITI IZMJENE U FORMULI RAČUNA NA KOJI SE IZMJENA ODNOSI
B16: 63312 | C16: Tekuće potpore iz županijskog proračuna | F16: ='Prihodi po ek klas i izvorima'!G19 -> 0 | G16: ='Prihodi po ek klas i izvorima'!H19 -> 0
B17: 63313 | C17: Tekuće potpore iz gradskog proračuna | D17: ='Prihodi po ek klas i izvorima'!E20 -> 799.5 | E17: ='Prihodi po ek klas i izvorima'!F20 -> 0 | F17: ='Prihodi po ek klas i izvorima'!G20 -> 0 | G17: ='Prihodi po ek klas i izvorima'!H20 -> 0
B18: 6332 | C18: Kapitalna pomoć proračunu iz drugih proračuna | D18: ='Prihodi po ek klas i izvorima'!E21 -> 0 | E18: ='Prihodi po ek klas i izvorima'!F21 -> 0 | F18: ='Prihodi po ek klas i izvorima'!G21 -> 0 | G18: ='Prihodi po ek klas i izvorima'!H21 -> 0
B19: 634 | C19: Pomoći od izvanproračunskih korisnika | D19: =SUM(D20) -> 0 | E19: =SUM(E20) -> 68314.61 | F19: =SUM(F20) -> 68314.61 | G19: =SUM(G20) -> 0
B20: 6341 | C20: Tekuće pomoći od izvanproračunskih korisnika | D20: =D21 -> 0 | E20: =E21 -> 68314.61 | F20: =F21 -> 68314.61 | G20: =G21 -> 0
B21: 63414 | C21: Tekuće pomoći od izvanproračunskih korisnika | D21: ='Prihodi po ek klas i izvorima'!E24 -> 0 | E21: ='Prihodi po ek klas i izvorima'!F24 -> 68314.61 | F21: ='Prihodi po ek klas i izvorima'!G24 -> 68314.61 | G21: ='Prihodi po ek klas i izvorima'!H24 -> 0
B22: 636 | C22: Pomoć proračunskim korisnicima iz prorač.koji im nije nadležan | D22: =D23+D25 -> 299750 | E22: =E23+E25 -> 14000 | F22: =F23+F25 -> 298000 | G22: =G23+G25 -> 299750
B23: 6361 | C23: Tekuće pomoći iz državnog prorač. prorač.korisnicima JLP(R)S | D23: =D24 -> 14000 | E23: =E24 -> 14000 | F23: =F24 -> 14000 | G23: =G24 -> 14000
B24: 63612 | C24: Tekuće pomoći iz državnog prorač. prorač.korisnicima JLP(R)S | D24: ='Prihodi po ek klas i izvorima'!E27 -> 14000 | E24: ='Prihodi po ek klas i izvorima'!F27 -> 14000 | F24: ='Prihodi po ek klas i izvorima'!G27 -> 14000 | G24: ='Prihodi po ek klas i izvorima'!H27 -> 14000
B25: 6362 | C25: Kapitalne pomoći iz državnog proračuna proračunskim korisnicima JLP(R)S | D25: =D26 -> 285750 | E25: =E26 -> 0 | F25: =F26 -> 284000 | G25: =G26 -> 285750
B26: 63622 | C26: Kapitalne pomoći iz državnog proračuna proračunskim korisnicima JLP(R)S | D26: ='Prihodi po ek klas i izvorima'!E29 -> 285750 | E26: ='Prihodi po ek klas i izvorima'!F29 -> 0 | F26: ='Prihodi po ek klas i izvorima'!G29 -> 284000 | G26: ='Prihodi po ek klas i izvorima'!H29 -> 285750
B27: 638 | C27: Pomoć temeljem prijenosa EU | D27: =D28+D30 -> 31082.9 | E27: =E28+E30 -> 45699.34 | F27: =F28+F30 -> 148609.22 | G27: =G28+G30 -> 9965.23
B28: 6381 | C28: Tekuće pomoći temeljem prijenosa EU sredstava | D28: =SUM(D29) -> 31082.9 | E28: =SUM(E29) -> 45699.34 | F28: =SUM(F29) -> 148609.22 | G28: =SUM(G29) -> 9965.23
B29: 63814 | C29: Tekuće pomoći temeljem prijenosa EU sredstava | D29: ='Prihodi po ek klas i izvorima'!E32 -> 31082.9 | E29: ='Prihodi po ek klas i izvorima'!F32 -> 45699.34 | F29: ='Prihodi po ek klas i izvorima'!G32 -> 148609.22 | G29: ='Prihodi po ek klas i izvorima'!H32 -> 9965.23
B30: 6382 | C30: kapitalna pomoć temeljem prijenosa EU | D30: ='Prihodi po ek klas i izvorima'!E33 -> 0 | E30: ='Prihodi po ek klas i izvorima'!F33 -> 0 | F30: ='Prihodi po ek klas i izvorima'!G33 -> 0 | G30: ='Prihodi po ek klas i izvorima'!H33 -> 0
B31: 639 | C31: Prijenosi između proračunskih korisnika | D31: =SUM(D32) -> 0 | E31: =SUM(E32) -> 0 | F31: =SUM(F32) -> 0 | G31: =SUM(G32) -> 0
B32: 6391 | C32: Tekući prijenosi između proračunskih korisnika | D32: ='Prihodi po ek klas i izvorima'!E35 -> 0 | E32: ='Prihodi po ek klas i izvorima'!F35 -> 0 | F32: ='Prihodi po ek klas i izvorima'!G35 -> 0 | G32: ='Prihodi po ek klas i izvorima'!H35 -> 0
B33: 64 | C33: Prihodi od imovine | D33: =D34+D36+D38+D39 -> 40.76 | E33: =E34+E36+E38+E39 -> 200 | F33: =F34+F36+F38+F39 -> 200 | G33: =G34+G36+G38+G39 -> 4.18
B34: 6413 | C34: Kamate na oročena sredstva i depozite po viđenju | D34: =SUM(D35) -> 24.01 | E34: =SUM(E35) -> 200 | F34: =SUM(F35) -> 200 | G34: =SUM(G35) -> 4.18
B35: 64132 | C35: Kamate na oročena sredstva i depozite po viđenju | D35: ='Prihodi po ek klas i izvorima'!E61 -> 24.01 | E35: ='Prihodi po ek klas i izvorima'!F61 -> 200 | F35: ='Prihodi po ek klas i izvorima'!G61 -> 200 | G35: ='Prihodi po ek klas i izvorima'!H61 -> 4.18
B36: 6414 | C36: Prihodi od zateznih kamata | D36: =SUM(D37) -> 16.75 | E36: =SUM(E37) -> 0 | F36: =SUM(F37) -> 0 | G36: =SUM(G37) -> 0
B37: 64143 | C37: Prihodi od zateznih kamata | D37: ='Prihodi po ek klas i izvorima'!E63 -> 16.75 | E37: ='Prihodi po ek klas i izvorima'!F63 -> 0 | F37: ='Prihodi po ek klas i izvorima'!G63 -> 0 | G37: ='Prihodi po ek klas i izvorima'!H63 -> 0
B38: 6419 | C38: Ostali prihode o financijske imovine | D38: ='Prihodi po ek klas i izvorima'!E39+'Prihodi po ek klas i izvorima'!E64 -> 0 | E38: ='Prihodi po ek klas i izvorima'!F39+'Prihodi po ek klas i izvorima'!F64 -> 0 | F38: ='Prihodi po ek klas i izvorima'!G39+'Prihodi po ek klas i izvorima'!G64 -> 0 | G38: ='Prihodi po ek klas i izvorima'!H39+'Prihodi po ek klas i izvorima'!H64 -> 0
B39: 6429 | C39: Ostali prihodi od nefinancijske imovine | D39: ='Prihodi po ek klas i izvorima'!E65 -> 0 | E39: ='Prihodi po ek klas i izvorima'!F65 -> 0 | F39: ='Prihodi po ek klas i izvorima'!G65 -> 0 | G39: ='Prihodi po ek klas i izvorima'!H65 -> 0
B40: 65 | C40: Prihodi po posebnim propisima | D40: =D41 -> 78585.41 | E40: =E41 -> 53000 | F40: =F41 -> 53000 | G40: =G41 -> 48280.21
B41: 652 | C41: Prihodi po posebnim propisima | D41: =SUM(D42) -> 78585.41 | E41: =SUM(E42) -> 53000 | F41: =SUM(F42) -> 53000 | G41: =SUM(G42) -> 48280.21
B42: 6526 | C42: Ostali nespomenuti prihodi (participacija) | D42: =SUM(D43:D46) -> 78585.41 | E42: =SUM(E43:E46) -> 53000 | F42: =SUM(F43:F46) -> 53000 | G42: =SUM(G43:G46) -> 48280.21
B43: 65264 | C43: Sufinanciranje cijene usluge, participacija | D43: ='Prihodi po ek klas i izvorima'!E43 -> 51154.92 | E43: ='Prihodi po ek klas i izvorima'!F43 -> 44000 | F43: ='Prihodi po ek klas i izvorima'!G43 -> 44000 | G43: ='Prihodi po ek klas i izvorima'!H43 -> 47712.18
B44: 65265 | C44: Dopunsko osiguranje | D44: ='Prihodi po ek klas i izvorima'!E44 -> 0 | E44: ='Prihodi po ek klas i izvorima'!F44 -> 0 | F44: ='Prihodi po ek klas i izvorima'!G44 -> 0 | G44: ='Prihodi po ek klas i izvorima'!H44 -> 0
...

Sheet RASHODI-ek.kl.
A1: I. OPĆI DIO
A2: A. RAČUN PRIHODA I RASHODA
A4: RASHODI PREMA EKONOMSKOJ KLASIFIKACIJI
A7: PRIHODI POSLOVANJA
A8: Razred | B8: Skupina/podskupina/odjeljak | C8: Naziv | E8: Izvršenje prethodne godine I.-VI. 2022. | G8: REBALANS 2023.
A9: 1 | E9: 2 | G9: 3
A10: 6 | E10: =E11+E26+E30+E33+E40+E43 -> 24659146 | G10: =G11+G26+G30+G33+G40+G43 -> 63888652
B11: 63 | C11: Pomoći | E11: =E12+E14+E17+E19+E21+E24 -> 324811.47 | G11: =SUM(G12,G14,G17,G19,G21,G24) -> 639378.86
B12: 632 | C12: Pomoći od međunaodnih organizacija te institucija i tijela EU | E12: =SUM(E13) -> 0 | G12: =SUM(G13) -> 0
B13: 6324 | C13: Kapitalne pomoći od instucija i tijela EU | E13: 0 | G13: 0
B14: 633 | C14: Pomoć proračunu iz drugih proračuna | E14: =SUM(E15:E16) -> 50556.109 | G14: =SUM(G15:G16) -> 0
B15: 6331 | C15: Tekuća pomoć proračunu iz drugih proračuna | E15: =380915/7.5345 -> 50556.109 | G15: 0
B16: 6332 | C16: Kapitalna pomoć proračunu iz drugih proračuna | E16: 0 | G16: 0
B17: 634 | C17: Pomoći od izvanproračunskih korisnika | E17: =SUM(E18) -> 111981.95 | G17: =SUM(G18) -> 366500.76
B18: 6341 | C18: Tekuće pomoći od HZZ-a, HZZO-a | E18: =843728/7.5345 -> 111981.95 | G18: 366500.76
B19: 636 | C19: Pomoć proračunskim korisnicima iz prorač.koji im nije nadležan | E19: =SUM(E20) -> 54857.124 | G19: =SUM(G20) -> 796.34
B20: 6361 | C20: Tekuće pomoći iz državnog prorač. prorač.korisnicima JLP(R)S | E20: =413321/7.5345 -> 54857.124 | G20: =796.34 -> 796.34
B21: 638 | C21: Pomoć temeljem prijenosa EU | E21: =SUM(E22:E23) -> 107244.81 | G21: =SUM(G23) -> 272081.76
B22: 6381 | C22: Tekuće pomoći temeljem prijenosa EU sredstava | E22: =493624/7.5345 -> 65515.164 | G22: 0
B23: 6382 | C23: kapitalna pomoć temeljem prijenosa EU | E23: =314412/7.5345 -> 41729.644 | G23: 272081.76
B24: 639 | C24: Prijenosi između proračunskih korisnika | E24: =SUM(E25) -> 171.47787 | G24: =SUM(G25) -> 0
B25: 6391 | C25: Tekući prijenosi između proračunskih korisnika | E25: =1292/7.5345 -> 171.47787 | G25: 0
B26: 64 | C26: Prihodi od imovine | E26: =SUM(E27:E29) -> 50144.535 | G26: =SUM(G27:G29) -> 120462.42
B27: 6413 | C27: Kamate na oročena sredstva i depozite po viđenju | E27: =439/7.5345 -> 58.265313 | G27: 746.44
B28: 6419 | C28: Ostali prihode o financijske imovine | E28: =376342/7.5345 -> 49949.167 | G28: 119450.53
B29: 6429 | C29: Ostali prihodi od nefinancijske imovine | E29: =1033/7.5345 -> 137.10266 | G29: =265.45 -> 265.45
B30: 65 | C30: Prihodi po posebnim propisima | E30: =E31 -> 1523828.4 | G30: =SUM(G31) -> 6950029.9
B31: 652 | C31: Prihodi po posebnim propisima | E31: =SUM(E32) -> 1523828.4 | G31: =SUM(G32) -> 6950029.9
B32: 6526 | C32: Ostali nespomenuti prihodi (participacija) | E32: =11481285/7.5345 -> 1523828.4 | G32: =6950029.86 -> 6950029.9
B33: 66 | C33: Prihodi od prodaje i donacija | E33: =E34+E37 -> 1701559.2 | G33: =SUM(G34,G37) -> 3641484.9
B34: 661 | C34: Prihodi od prodaje roba i pruženih usluga (vlastiti prihodi) | E34: =SUM(E35:E36) -> 1677912 | G34: =SUM(G36,G35) -> 3521370.8
B35: 6614 | C35: Prihodi od prodaje proizvoda i robe | E35: =6216809/7.5345 -> 825112.35 | G35: 1725396.5
B36: 6615 | C36: Prihodi od pruženih usluga | E36: =6425419/7.5345 -> 852799.65 | G36: 1795974.2
B37: 663 | C37: Donacije od pravnih i fizičkih osoba izvan proračuna | E37: =SUM(E38:E39) -> 23647.223 | G37: =SUM(G38:G39) -> 120114.13
B38: 6631 | C38: Tekuće donacije | E38: =5000/7.5345 -> 663.61404 | G38: 53752.73
B39: 6632 | C39: Kapitalne donacije | E39: =173170/7.5345 -> 22983.609 | G39: 66361.4
B40: 67 | C40: Prihodi iz nadležnog proračuna i HZZOa | E40: =SUM(E41) -> 20985600 | G40: =SUM(G41) -> 52367289
B41: 673 | C41: Prihodi od HZZO-a | E41: =SUM(E42) -> 20985600 | G41: =SUM(G42) -> 52367289
B42: 6731 | C42: Prihodi od HZZO-a temeljem ugovora | E42: =158116000/7.5345 -> 20985600 | G42: 52367289
B43: 68 | C43: Kazne, upravne mjere i ostali prihodi | E43: =SUM(E44) -> 73202.601 | G43: =SUM(G44) -> 170007.44
...

Sheet Prihodi po ek klas i izvorima
A1: I. OPĆI DIO
A2: A. RAČUN PRIHODA
A3: PRIHODI PREMA EKONOMSKOJ KLASIFIKACIJI I IZVORIMA FINANCIRANJA
A5: PRIHODI POSLOVANJA
A6: Razred | B6: Skupina/podskupina/odjeljak | C6: Izvor | D6: Naziv | E6: OSTVARENJE/ IZVRŠENJE 1.-12.2024. | F6: IZVORNI PLAN ZA 2025. | G6: TEKUĆI PLAN 2025. | H6: OSTVARENJE/ IZVRŠENJE 1.-12.2025. | I6: Indeks | J6: Indeks
A7: 1 | E7: 2 | F7: 3 | G7: 4 | H7: 5 | I7: 6=5/3*100 | J7: 7=5/4*100
A8: 6 | D8: Prihodi poslovanja | E8: =SUM(E9,E16,E37,E40,E46,E53,E58,E66,E72,E76,E82) -> 5100997.3 | F8: =SUM(F9,F16,F37,F40,F46,F53,F58,F66,F72,F76,F82) -> 4702255.6 | G8: =SUM(G9,G16,G37,G40,G46,G53,G58,G66,G72,G76,G82) -> 5291900.8 | H8: =SUM(H9,H16,H37,H40,H46,H53,H58,H66,H72,H76,H82) -> 5341726.1 | I8: =IFERROR(H8/F8*100,H8) -> 113.59923 | J8: =IFERROR(H8/G8*100,H8) -> 100.94154
B9: 67 | D9: Prihodi iz nadležnog proračuna i od HZZO-a temeljem ugovornih obveza | E9: =E10 -> 397160.43 | F9: =F10 -> 369361.73 | G9: =G10 -> 608264.02 | H9: =H10 -> 618103.51 | I9: =IFERROR(H9/F9*100,H9) -> 167.34368 | J9: =IFERROR(H9/G9*100,H9) -> 101.61763
B10: 671 | D10: Prihodi iz nadležnog proračuna za financiranje redovne djelatnosti proračunskih korisnika | E10: =SUM(E11,E13) -> 397160.43 | F10: =SUM(F11,F13) -> 369361.73 | G10: =SUM(G11,G13) -> 608264.02 | H10: =SUM(H11,H13) -> 618103.51 | I10: =IFERROR(H10/F10*100,H10) -> 167.34368 | J10: =IFERROR(H10/G10*100,H10) -> 101.61763
B11: 6711 | D11: Prihodi iz nadležnog proračuna za financiranje rashoda poslovanja | E11: =E12 -> 141650.92 | F11: =F12 -> 103638.02 | G11: =G12 -> 342988.02 | H11: =H12 -> 352987.51 | I11: =IFERROR(H11/F11*100,H11) -> 340.59654 | J11: =IFERROR(H11/G11*100,H11) -> 102.91541
B12: 67111 | D12: Prihodi iz nadležnog proračuna za financiranje rashoda poslovanja | E12: 141650.92 | F12: 103638.02 | G12: 342988.02 | H12: 352987.51 | I12: =IFERROR(H12/F12*100,H12) -> 340.59654 | J12: =IFERROR(H12/G12*100,H12) -> 102.91541
B13: 6712 | D13: Prihodi iz nadležnog proračuna za nabavu nefinancijske imovine | E13: =E14 -> 255509.51 | F13: =F14 -> 265723.71 | G13: =G14 -> 265276 | H13: =H14 -> 265116 | I13: =IFERROR(H13/F13*100,H13) -> 99.7713 | J13: =IFERROR(H13/G13*100,H13) -> 99.939685
B14: 67121 | D14: Prihodi iz nadležnog proračuna za nabavu nefinancijske imovine | E14: 255509.51 | F14: 265723.71 | G14: 265276 | H14: 265116 | I14: =IFERROR(H14/F14*100,H14) -> 99.7713 | J14: =IFERROR(H14/G14*100,H14) -> 99.939685
C15: 11 | D15: Opći prihodi i primici | E15: =E9 -> 397160.43 | F15: =F9 -> 369361.73 | G15: =G9 -> 608264.02 | H15: =H9 -> 618103.51 | I15: =IFERROR(H15/F15*100,H15) -> 167.34368 | J15: =IFERROR(H15/G15*100,H15) -> 101.61763
B16: 63 | D16: Pomoći iz inozemstva i od subjekata unutar općeg proračuna | E16: =SUM(E17,E22,E25,E30,E34) -> 331632.4 | F16: =SUM(F17,F22,F25,F30,F34) -> 128013.95 | G16: =SUM(G17,G22,G25,G30,G34) -> 514923.83 | H16: =SUM(H17,H22,H25,H30,H34) -> 309715.23 | I16: =IFERROR(H16/F16*100,H16) -> 241.93866 | J16: =IFERROR(H16/G16*100,H16) -> 60.147776
B17: 633 | D17: Pomoći proračunu iz drugih proračuna | E17: =E18 -> 799.5 | F17: =F18 -> 0 | G17: =G18 -> 0 | H17: =H18 -> 0 | I17: =IFERROR(H17/F17*100,H17) -> 0 | J17: =IFERROR(H17/G17*100,H17) -> 0
B18: 6331 | D18: Tekuće pomoći proračunu iz drugih proračuna | E18: =E20 -> 799.5 | F18: =F20 -> 0 | G18: =G19+G20 -> 0 | H18: =H19+H20 -> 0 | I18: =IFERROR(H18/F18*100,H18) -> 0 | J18: =IFERROR(H18/G18*100,H18) -> 0
B19: 63312 | D19: Tekuće potpore iz županijskog proračuna | H19: 0 | I19: =IFERROR(H19/F19*100,H19) -> 0 | J19: =IFERROR(H19/G19*100,H19) -> 0
B20: 63313 | D20: Tekuće potpore iz gradskog proračuna | E20: 799.5 | F20: 0 | G20: 0 | H20: 0 | I20: =IFERROR(H20/F20*100,H20) -> 0 | J20: =IFERROR(H20/G20*100,H20) -> 0
B21: 6332 | D21: Kapitalne pomoći proračunu iz drugih proračuna | I21: =IFERROR(H21/F21*100,H21) -> 0 | J21: =IFERROR(H21/G21*100,H21) -> 0
B22: 634 | D22: Pomoći od izvanproračunskih korisnika | E22: =SUM(E23) -> 0 | F22: =SUM(F23) -> 68314.61 | G22: =SUM(G23) -> 68314.61 | H22: =SUM(H23) -> 0 | I22: =IFERROR(H22/F22*100,H22) -> 0 | J22: =IFERROR(H22/G22*100,H22) -> 0
B23: 6341 | D23: Tekuće pomoći od HZZ-a, HZZO-a | E23: =SUM(E24) -> 0 | F23: =SUM(F24) -> 68314.61 | G23: =SUM(G24) -> 68314.61 | H23: =SUM(H24) -> 0 | I23: =IFERROR(H23/F23*100,H23) -> 0 | J23: =IFERROR(H23/G23*100,H23) -> 0
B24: 63414 | D24: Tekuće pomoći od HZZ-a, HZZO-a | E24: 0 | F24: 68314.61 | G24: 68314.61 | H24: 0 | I24: =IFERROR(H24/F24*100,H24) -> 0 | J24: =IFERROR(H24/G24*100,H24) -> 0
B25: 636 | D25: Pomoći proračunskim korisnicima iz proračuna koji im nije nadležan | E25: =E26+E28 -> 299750 | F25: =F26+F28 -> 14000 | G25: =G26+G28 -> 298000 | H25: =H26+H28 -> 299750 | I25: =IFERROR(H25/F25*100,H25) -> 2141.0714 | J25: =IFERROR(H25/G25*100,H25) -> 100.58725
B26: 6361 | D26: Tekuće pomoći iz državnog proračuna proračunskim korisnicma JLP(R)S | E26: =SUM(E27) -> 14000 | F26: =SUM(F27) -> 14000 | G26: =SUM(G27) -> 14000 | H26: =SUM(H27) -> 14000 | I26: =IFERROR(H26/F26*100,H26) -> 100 | J26: =IFERROR(H26/G26*100,H26) -> 100
B27: 63612 | D27: Tekuće pomoći iz državnog proračuna proračunskim korisnicma JLP(R)S | E27: 14000 | F27: 14000 | G27: 14000 | H27: 14000 | I27: =IFERROR(H27/F27*100,H27) -> 100 | J27: =IFERROR(H27/G27*100,H27) -> 100
B28: 6362 | D28: Kapitalne pomoći iz državnog proračuna proračunskim korisnicima JLP(R)S | E28: =SUM(E29) -> 285750 | F28: =SUM(F29) -> 0 | G28: =SUM(G29) -> 284000 | H28: =SUM(H29) -> 285750 | I28: =IFERROR(H28/F28*100,H28) -> 285750 | J28: =IFERROR(H28/G28*100,H28) -> 100.6162
B29: 63622 | D29: Kapitalne pomoći iz državnog proračuna proračunskim korisnicima JLP(R)S | E29: 285750 | F29: 0 | G29: 284000 | H29: 285750 | I29: =IFERROR(H29/F29*100,H29) -> 285750 | J29: =IFERROR(H29/G29*100,H29) -> 100.6162
B30: 638 | D30: Pomoć temeljem prijenosa EU sredstava | E30: =SUM(E31,E33) -> 31082.9 | F30: =SUM(F31,F33) -> 45699.34 | G30: =SUM(G31,G33) -> 148609.22 | H30: =SUM(H31,H33) -> 9965.23 | I30: =IFERROR(H30/F30*100,H30) -> 21.80607 | J30: =IFERROR(H30/G30*100,H30) -> 6.7056607
B31: 6381 | D31: Tekuće pomoći temeljem prijenosa EU sredstava | E31: =SUM(E32) -> 31082.9 | F31: =SUM(F32) -> 45699.34 | G31: =SUM(G32) -> 148609.22 | H31: =SUM(H32) -> 9965.23 | I31: =IFERROR(H31/F31*100,H31) -> 21.80607 | J31: =IFERROR(H31/G31*100,H31) -> 6.7056607
B32: 63814 | D32: Tekuće pomoći temeljem prijenosa EU sredstava | E32: 31082.9 | F32: 45699.34 | G32: 148609.22 | H32: 9965.23 | I32: =IFERROR(H32/F32*100,H32) -> 21.80607 | J32: =IFERROR(H32/G32*100,H32) -> 6.7056607
B33: 6382 | D33: Kapitalna pomoć temeljem prijenosa EU sredstava | I33: =IFERROR(H33/F33*100,H33) -> 0 | J33: =IFERROR(H33/G33*100,H33) -> 0
B34: 639 | D34: Prijenosi između proračunskih korisnika istog proračuna | E34: =E35 -> 0 | F34: =F35 -> 0 | G34: =G35 -> 0 | H34: =H35 -> 0 | I34: =IFERROR(H34/F34*100,H34) -> 0 | J34: =IFERROR(H34/G34*100,H34) -> 0
B35: 6391 | D35: Tekući prijenosi između proračunskih korisnika istog proračuna | I35: =IFERROR(H35/F35*100,H35) -> 0 | J35: =IFERROR(H35/G35*100,H35) -> 0
C36: 52 | D36: Pomoći | E36: =SUM(E16) -> 331632.4 | F36: =SUM(F16) -> 128013.95 | G36: =SUM(G16) -> 514923.83 | H36: =SUM(H16) -> 309715.23 | I36: =IFERROR(H36/F36*100,H36) -> 241.93866 | J36: =IFERROR(H36/G36*100,H36) -> 60.147776
B37: 64 | D37: Prihodi od imovine | E37: =SUM(E38) -> 0 | F37: =SUM(F38) -> 0 | G37: =SUM(G38) -> 0 | H37: =SUM(H38) -> 0 | I37: =IFERROR(H37/F37*100,H37) -> 0 | J37: =IFERROR(H37/G37*100,H37) -> 0
B38: 641 | D38: Prihodi od financijske imovine | E38: =SUM(E39:E39) -> 0 | F38: =SUM(F39:F39) -> 0 | G38: =SUM(G39:G39) -> 0 | H38: =SUM(H39:H39) -> 0 | I38: =IFERROR(H38/F38*100,H38) -> 0 | J38: =IFERROR(H38/G38*100,H38) -> 0
B39: 6419 | D39: Ostali prihodi od financijske imovine | I39: =IFERROR(H39/F39*100,H39) -> 0 | J39: =IFERROR(H39/G39*100,H39) -> 0
B40: 65 | D40: Prihodi od upravnih i administrativnih pristojbi, pristojbi po posebnim propisima i nakanda | E40: =SUM(E41) -> 69787.18 | F40: =SUM(F41) -> 47500 | G40: =SUM(G41) -> 47500 | H40: =SUM(H41) -> 48280.21 | I40: =IFERROR(H40/F40*100,H40) -> 101.64255 | J40: =IFERROR(H40/G40*100,H40) -> 101.64255
B41: 652 | D41: Prihodi po posebnim propisima | E41: =SUM(E42) -> 69787.18 | F41: =SUM(F42) -> 47500 | G41: =SUM(G42) -> 47500 | H41: =SUM(H42) -> 48280.21 | I41: =IFERROR(H41/F41*100,H41) -> 101.64255 | J41: =IFERROR(H41/G41*100,H41) -> 101.64255
...

Sheet  PRIHODI I RASHODI-izvori
A1: I. OPĆI DIO
A2: A. RAČUN PRIHODA I RASHODA
A3: RASHODI PREMA EKONOMSKOJ KLASIFIKACIJI I IZVORIMA FINANCIRANJA
A5: RASHODI POSLOVANJA
A6: Razred | B6: Skupina/podskupina/odjeljak | C6: Izvor | D6: Naziv | E6: OSTVARENJE/ IZVRŠENJE 1.-12.2024. | F6: IZVORNI PLAN ZA 2025. | G6: TEKUĆI PLAN 2025. | H6: OSTVARENJE/ IZVRŠENJE 1.-12.2025. | I6: Indeks | J6: Indeks
A7: 1 | E7: 2 | F7: 3 | G7: 4 | H7: 5 | I7: 6=5/3*100 | J7: 7=5/4*100
A8: 3 | D8: Rashodi poslovanja | E8: =E11+E100+(E290-0.01)+E396+E468+E493+E518 -> 5084825.9 | F8: =F11+F100+F290+F396+F468+F493+F518 -> 4299508.7 | G8: =G11+G100+G290+G396+G468+G493+G518 -> 4337963.5 | H8: =H11+H100+H290+H396+H468+H493+H518 -> 4919030.6 | I8: =IFERROR(H8/F8*100,H8) -> 114.40913 | J8: =IFERROR(H8/G8*100,H8) -> 113.39493
A9: 4 | D9: Rashodi za nabavu nefinancijske imovine | E9: =E83+E255+E374+E459+E506+E529 -> 846874.29 | F9: =F83+F255+F374+F459+F506+F529 -> 426425.88 | G9: =G83+G255+G374+G459+G488+G506+G529 -> 425978.17 | H9: =H83+H255+H374+H459+H488+H506+H529 -> 269800.91 | I9: =IFERROR(H9/F9*100,H9) -> 63.270294 | J9: =IFERROR(H9/G9*100,H9) -> 63.336793
D10: KORIŠTENJE DEC-a SREDSTAVA ŽUPANIJE | J10: =IFERROR(H10/G10*100,H10) -> 0
A11: 3 | D11: Rashodi poslovanja | E11: =E12+E23 -> 141650.92 | F11: =F12+F23 -> 103638.02 | G11: =G12+G23 -> 342988.02 | H11: =H12+H23 -> 352987.51 | I11: =IFERROR(H11/F11*100,H11) -> 340.59654 | J11: =IFERROR(H11/G11*100,H11) -> 102.91541
B12: 31 | D12: Rashodi za zaposlene | E12: =E13+E16+E20 -> 10163.3 | F12: =F13+F16+F20 -> 6978.02 | G12: =G13+G16+G20 -> 46978.02 | H12: =H13+H16+H20 -> 54508.2 | I12: =IFERROR(H12/F12*100,H12) -> 781.14136 | J12: =IFERROR(H12/G12*100,H12) -> 116.02916
B13: 311 | D13: Plaće | E13: =SUM(E14) -> 8723.89 | F13: =SUM(F14) -> 5989.73 | G13: =SUM(G14) -> 5989.73 | H13: =SUM(H14) -> 3869.68 | I13: =IFERROR(H13/F13*100,H13) -> 64.605249 | J13: =IFERROR(H13/G13*100,H13) -> 64.605249
B14: 3111 | D14: Plaće za redovan rad | E14: =SUM(E15) -> 8723.89 | F14: =SUM(F15) -> 5989.73 | G14: =SUM(G15) -> 5989.73 | H14: =SUM(H15) -> 3869.68 | I14: =IFERROR(H14/F14*100,H14) -> 64.605249 | J14: =IFERROR(H14/G14*100,H14) -> 64.605249
B15: 31111 | D15: Plaće za redovan rad | E15: ='Rekapitulacija Posebni dio'!C549+'Rekapitulacija Posebni dio'!C568+'Rekapitulacija Posebni dio'!C590 -> 8723.89 | F15: ='Rekapitulacija Posebni dio'!D549+'Rekapitulacija Posebni dio'!D568+'Rekapitulacija Posebni dio'!D590 -> 5989.73 | G15: ='Rekapitulacija Posebni dio'!E549+'Rekapitulacija Posebni dio'!E568+'Rekapitulacija Posebni dio'!E590 -> 5989.73 | H15: ='Rekapitulacija Posebni dio'!F549+'Rekapitulacija Posebni dio'!F568+'Rekapitulacija Posebni dio'!F590 -> 3869.68 | I15: =IFERROR(H15/F15*100,H15) -> 64.605249 | J15: =IFERROR(H15/G15*100,H15) -> 64.605249
B16: 312 | D16: Ostali rashodi za zaposlene | E16: =SUM(E17) -> 0 | F16: =SUM(F17) -> 0 | G16: =SUM(G17) -> 0 | H16: =SUM(H17) -> 10000 | I16: =IFERROR(H16/F16*100,H16) -> 10000 | J16: =IFERROR(H16/G16*100,H16) -> 10000
B17: 3121 | D17: Ostali rashodi za zaposlene | E17: =SUM(E18:E19) -> 0 | F17: =SUM(F18:F19) -> 0 | G17: =SUM(G18:G19) -> 0 | H17: =SUM(H18:H19) -> 10000 | I17: =IFERROR(H17/F17*100,H17) -> 10000 | J17: =IFERROR(H17/G17*100,H17) -> 10000
B18: 31212 | D18: Ostali rashodi za zaposlene-nagrade | E18: ='Rekapitulacija Posebni dio'!C496 -> 0 | F18: ='Rekapitulacija Posebni dio'!D496 -> 0 | G18: ='Rekapitulacija Posebni dio'!E496 -> 0 | H18: ='Rekapitulacija Posebni dio'!F496 -> 958.56 | I18: =IFERROR(H18/F18*100,H18) -> 958.56 | J18: =IFERROR(H18/G18*100,H18) -> 958.56
B19: 31213 | D19: Darovi | E19: ='Rekapitulacija Posebni dio'!C497 -> 0 | F19: ='Rekapitulacija Posebni dio'!D497 -> 0 | G19: ='Rekapitulacija Posebni dio'!E497 -> 0 | H19: ='Rekapitulacija Posebni dio'!F497 -> 9041.44 | I19: =IFERROR(H19/F19*100,H19) -> 9041.44 | J19: =IFERROR(H19/G19*100,H19) -> 9041.44
B20: 313 | D20: Doprinosi na plaće | E20: =SUM(E21) -> 1439.41 | F20: =SUM(F21) -> 988.29 | G20: =SUM(G21) -> 40988.29 | H20: =SUM(H21) -> 40638.52 | I20: =IFERROR(H20/F20*100,H20) -> 4112.0036 | J20: =IFERROR(H20/G20*100,H20) -> 99.146659
B21: 3132 | D21: Doprinosi za obvezno zdravstveno osiguranje | E21: =SUM(E22) -> 1439.41 | F21: =SUM(F22) -> 988.29 | G21: =SUM(G22) -> 40988.29 | H21: =SUM(H22) -> 40638.52 | I21: =IFERROR(H21/F21*100,H21) -> 4112.0036 | J21: =IFERROR(H21/G21*100,H21) -> 99.146659
B22: 31321 | D22: Doprinosi za obvezno zdravstveno osiguranje | E22: ='Rekapitulacija Posebni dio'!C402+'Rekapitulacija Posebni dio'!C554+'Rekapitulacija Posebni dio'!C573+'Rekapitulacija Posebni dio'!C595 -> 1439.41 | F22: ='Rekapitulacija Posebni dio'!D402+'Rekapitulacija Posebni dio'!D554+'Rekapitulacija Posebni dio'!D573+'Rekapitulacija Posebni dio'!D595 -> 988.29 | G22: ='Rekapitulacija Posebni dio'!E402+'Rekapitulacija Posebni dio'!E554+'Rekapitulacija Posebni dio'!E573+'Rekapitulacija Posebni dio'!E595 -> 40988.29 | H22: ='Rekapitulacija Posebni dio'!F402+'Rekapitulacija Posebni dio'!F573+'Rekapitulacija Posebni dio'!F595 -> 40638.52 | I22: =IFERROR(H22/F22*100,H22) -> 4112.0036 | J22: =IFERROR(H22/G22*100,H22) -> 99.146659
B23: 32 | D23: Materijalni rashodi | E23: =E24+E29+E48+E69+E73 -> 131487.62 | F23: =F24+F29+F48+F69+F73 -> 96660 | G23: =G24+G29+G48+G69+G73 -> 296010 | H23: =H24+H29+H48+H69+H73 -> 298479.31 | I23: =IFERROR(H23/F23*100,H23) -> 308.793 | J23: =IFERROR(H23/G23*100,H23) -> 100.8342
B24: 321 | D24: Naknade troškova zaposlenima | E24: =E25+E27 -> 0 | F24: =F25+F27 -> 0 | G24: =G25+G27 -> 0 | H24: =H25+H27 -> 411.25 | I24: =IFERROR(H24/F24*100,H24) -> 411.25 | J24: =IFERROR(H24/G24*100,H24) -> 411.25
B25: 3211 | D25: Službena putovanja | E25: =E26 -> 0 | F25: =F26 -> 0 | G25: =G26 -> 0 | H25: =H26 -> 180 | I25: =IFERROR(H25/F25*100,H25) -> 180 | J25: =IFERROR(H25/G25*100,H25) -> 180
B26: 32111 | D26: Dnevnice za službeni put u zemlji | E26: ='Rekapitulacija Posebni dio'!C599 -> 0 | F26: ='Rekapitulacija Posebni dio'!D599 -> 0 | G26: ='Rekapitulacija Posebni dio'!E599 -> 0 | H26: ='Rekapitulacija Posebni dio'!F599 -> 180 | I26: =IFERROR(H26/F26*100,H26) -> 180 | J26: =IFERROR(H26/G26*100,H26) -> 180
B27: 3213 | D27: Stručno usavršavanje zaposlenih | E27: =E28 -> 0 | F27: =F28 -> 0 | G27: =G28 -> 0 | H27: =H28 -> 231.25 | I27: =IFERROR(H27/F27*100,H27) -> 231.25 | J27: =IFERROR(H27/G27*100,H27) -> 231.25
B28: 32131 | D28: Seminari, savjetovanja i simpoziji | E28: ='Rekapitulacija Posebni dio'!C448 -> 0 | F28: ='Rekapitulacija Posebni dio'!D448 -> 0 | G28: ='Rekapitulacija Posebni dio'!E448 -> 0 | H28: ='Rekapitulacija Posebni dio'!F448 -> 231.25 | I28: =IFERROR(H28/F28*100,H28) -> 231.25 | J28: =IFERROR(H28/G28*100,H28) -> 231.25
B29: 322 | D29: Rashodi za materijal i energiju | E29: =E30+E34+E36+E41+E44+E46 -> 20672.78 | F29: =F30+F34+F36+F41+F44+F46 -> 0 | G29: =G30+G34+G36+G41+G44+G46 -> 4000 | H29: =H30+H34+H36+H41+H44+H46 -> 29283.37 | I29: =IFERROR(H29/F29*100,H29) -> 29283.37 | J29: =IFERROR(H29/G29*100,H29) -> 732.08425
B30: 3221 | D30: Uredski materijal i ostali materijalni rashodi | E30: =SUM(E31:E33) -> 1543.88 | F30: =SUM(F31:F33) -> 0 | G30: =SUM(G31:G33) -> 4000 | H30: =SUM(H31:H33) -> 9867.78 | I30: =IFERROR(H30/F30*100,H30) -> 9867.78 | J30: =IFERROR(H30/G30*100,H30) -> 246.6945
B31: 32211 | D31: Uredski materijal | E31: ='Rekapitulacija Posebni dio'!C408+'Rekapitulacija Posebni dio'!C451 -> 1228.88 | F31: ='Rekapitulacija Posebni dio'!D408+'Rekapitulacija Posebni dio'!D451 -> 0 | G31: ='Rekapitulacija Posebni dio'!E408+'Rekapitulacija Posebni dio'!E451 -> 2000 | H31: ='Rekapitulacija Posebni dio'!F408+'Rekapitulacija Posebni dio'!F451 -> 2747.52 | I31: =IFERROR(H31/F31*100,H31) -> 2747.52 | J31: =IFERROR(H31/G31*100,H31) -> 137.376
B32: 32214 | D32: Materijal i sredstva za čišćenje i održavanje | E32: ='Rekapitulacija Posebni dio'!C409+'Rekapitulacija Posebni dio'!C452 -> 315 | F32: ='Rekapitulacija Posebni dio'!D409+'Rekapitulacija Posebni dio'!D452 -> 0 | G32: ='Rekapitulacija Posebni dio'!E409+'Rekapitulacija Posebni dio'!E452 -> 2000 | H32: ='Rekapitulacija Posebni dio'!F409+'Rekapitulacija Posebni dio'!F452 -> 4803.36 | I32: =IFERROR(H32/F32*100,H32) -> 4803.36 | J32: =IFERROR(H32/G32*100,H32) -> 240.168
B33: 32219 | D33: Ostali materijal za potrebe redovnog poslovanja | E33: ='Rekapitulacija Posebni dio'!C453+'Rekapitulacija Posebni dio'!C603 -> 0 | F33: ='Rekapitulacija Posebni dio'!D453+'Rekapitulacija Posebni dio'!D603 -> 0 | G33: ='Rekapitulacija Posebni dio'!E453+'Rekapitulacija Posebni dio'!E603 -> 0 | H33: ='Rekapitulacija Posebni dio'!F453+'Rekapitulacija Posebni dio'!F603 -> 2316.9 | I33: =IFERROR(H33/F33*100,H33) -> 2316.9 | J33: =IFERROR(H33/G33*100,H33) -> 2316.9
B34: 3222 | D34: Materijal i sirovine | E34: =E35 -> 12071.02 | F34: =F35 -> 0 | G34: =G35 -> 0 | H34: =H35 -> 0 | I34: =IFERROR(H34/F34*100,H34) -> 0 | J34: =IFERROR(H34/G34*100,H34) -> 0
B35: 32221 | D35: Potrošni medicinski materijal | E35: ='Rekapitulacija Posebni dio'!C411 -> 12071.02 | F35: ='Rekapitulacija Posebni dio'!D411 -> 0 | G35: ='Rekapitulacija Posebni dio'!E411 -> 0 | H35: ='Rekapitulacija Posebni dio'!F411 -> 0 | I35: =IFERROR(H35/F35*100,H35) -> 0 | J35: =IFERROR(H35/G35*100,H35) -> 0
B36: 3223 | D36: Energija | E36: =SUM(E37:E40) -> 3057.88 | F36: =SUM(F37:F40) -> 0 | G36: =SUM(G37:G40) -> 0 | H36: =SUM(H37:H40) -> 16477.72 | I36: =IFERROR(H36/F36*100,H36) -> 16477.72 | J36: =IFERROR(H36/G36*100,H36) -> 16477.72
B37: 32231 | D37: Električna energija | E37: ='Rekapitulacija Posebni dio'!C413+'Rekapitulacija Posebni dio'!C455 -> 2416.99 | F37: ='Rekapitulacija Posebni dio'!D413+'Rekapitulacija Posebni dio'!D455 -> 0 | G37: ='Rekapitulacija Posebni dio'!E413+'Rekapitulacija Posebni dio'!E455 -> 0 | H37: ='Rekapitulacija Posebni dio'!F413+'Rekapitulacija Posebni dio'!F455 -> 8552.36 | I37: =IFERROR(H37/F37*100,H37) -> 8552.36 | J37: =IFERROR(H37/G37*100,H37) -> 8552.36
B38: 32232 | D38: Topla voda | E38: ='Rekapitulacija Posebni dio'!C456 -> 0 | F38: ='Rekapitulacija Posebni dio'!D456 -> 0 | G38: ='Rekapitulacija Posebni dio'!E456 -> 0 | H38: ='Rekapitulacija Posebni dio'!F456 -> 173.42 | I38: =IFERROR(H38/F38*100,H38) -> 173.42 | J38: =IFERROR(H38/G38*100,H38) -> 173.42
B39: 32233 | D39: Plin | E39: ='Rekapitulacija Posebni dio'!C414+'Rekapitulacija Posebni dio'!C457 -> 640.89 | F39: ='Rekapitulacija Posebni dio'!D414+'Rekapitulacija Posebni dio'!D457 -> 0 | G39: ='Rekapitulacija Posebni dio'!E414+'Rekapitulacija Posebni dio'!E457 -> 0 | H39: ='Rekapitulacija Posebni dio'!F414+'Rekapitulacija Posebni dio'!F457 -> 4736.47 | I39: =IFERROR(H39/F39*100,H39) -> 4736.47 | J39: =IFERROR(H39/G39*100,H39) -> 4736.47
B40: 32234 | D40: Motorni benzin i dizel gorivo | E40: ='Rekapitulacija Posebni dio'!C458 -> 0 | F40: ='Rekapitulacija Posebni dio'!D458 -> 0 | G40: ='Rekapitulacija Posebni dio'!E458 -> 0 | H40: ='Rekapitulacija Posebni dio'!F458 -> 3015.47 | I40: =IFERROR(H40/F40*100,H40) -> 3015.47 | J40: =IFERROR(H40/G40*100,H40) -> 3015.47
B41: 3224 | D41: Materijal i dijelovi za tekuće i investicijsko održavanje | E41: =E42+E43 -> 4000 | F41: =F42+F43 -> 0 | G41: =G42+G43 -> 0 | H41: =H42+H43 -> 1379.61 | I41: =IFERROR(H41/F41*100,H41) -> 1379.61 | J41: =IFERROR(H41/G41*100,H41) -> 1379.61
...

Sheet RASHODI-funkcijska
A2: I. OPĆI DIO
A4: A. RAČUN PRIHODA I RASHODA
A6: IZVJEŠTAJ O RASHODIMA PREMA FUNKCIJSKOJ KLASIFIKACIJI
A8: BROJČANA OZNAKA I NAZIV | B8: OSTVARENJE/ IZVRŠENJE 1.-12.2024. | C8: IZVORNI PLAN ZA 2025. | D8: TEKUĆI PLAN 2025. | E8: OSTVARENJE/ IZVRŠENJE 1.-12.2025. | F8: Indeks | G8: Indeks
A9: 1 | C9: 2 | D9: 3 | E9: 4 | F9: 5 | G9: 5
A10: UKUPNO RASHODI | B10: ='RASHODI-ek.kl.'!D249 -> 5931700.2 | C10: ='RASHODI-ek.kl.'!E249 -> 4725934.6 | D10: ='RASHODI-ek.kl.'!F249 -> 4763941.6 | E10: ='RASHODI-ek.kl.'!G249 -> 5188831.5 | F10: =IFERROR(E10/C10*100,E10) -> 109.79482 | G10: =IFERROR(E10/D10*100,E10) -> 108.91887
A11: 07 Zdravstvo | B11: =B12 -> 5931700.2 | C11: =C12 -> 4725934.6 | D11: =D12 -> 4763941.7 | E11: =E12 -> 5188831.5 | F11: =IFERROR(E11/C11*100,E11) -> 109.79482 | G11: =IFERROR(E11/D11*100,E11) -> 108.91887
A12: 072 Služba za vanjske pacijente | B12: =B13+B14+B15 -> 5931700.2 | C12: =C13+C14+C15 -> 4725934.6 | D12: =D13+D14+D15 -> 4763941.7 | E12: =E13+E14+E15 -> 5188831.5 | F12: =IFERROR(E12/C12*100,E12) -> 109.79482 | G12: =IFERROR(E12/D12*100,E12) -> 108.91887
A13: 0721 Opće medicinske usluge | B13: =ROUND(B10*0.6,2) -> 3559020.1 | C13: =ROUND(C10*0.6,2) -> 2835560.7 | D13: =ROUND(D10*0.6,2) -> 2858365 | E13: =ROUND(E10*0.6,2) -> 3113298.9 | F13: =IFERROR(E13/C13*100,E13) -> 109.79482 | G13: =IFERROR(E13/D13*100,E13) -> 108.91887
A14: 0722 Specijalističke med. usluge | B14: =ROUND(B10*0.15,2) -> 889755.03 | C14: =ROUND(C10*0.15,2) -> 708890.19 | D14: =ROUND(D10*0.15,2) -> 714591.25 | E14: =ROUND(E10*0.15,2) -> 778324.73 | F14: =IFERROR(E14/C14*100,E14) -> 109.79482 | G14: =IFERROR(E14/D14*100,E14) -> 108.91887
A15: 0723 Zubarske usluge | B15: =ROUND(B10*0.25,2) -> 1482925 | C15: =ROUND(C10*0.25,2) -> 1181483.6 | D15: =ROUND(D10*0.25,2) -> 1190985.4 | E15: =ROUND(E10*0.25,2) -> 1297207.9 | F15: =IFERROR(E15/C15*100,E15) -> 109.79482 | G15: =IFERROR(E15/D15*100,E15) -> 108.91887
A16: 073 Bolničke službe | C16: =C17 -> 0 | D16: =D17 -> 0 | E16: =E17 -> 0 | F16: =IFERROR(E16/C16*100,E16) -> 0 | G16: =IFERROR(E16/D16*100,E16) -> 0
A17: 0731 Usluge općih bolnica | F17: =IFERROR(E17/C17*100,E17) -> 0 | G17: =IFERROR(E17/D17*100,E17) -> 0
A18: 074 Službe javnog zdravstva | C18: 0 | D18: 0 | E18: 0 | F18: =IFERROR(E18/C18*100,E18) -> 0 | G18: =IFERROR(E18/D18*100,E18) -> 0

Sheet Rekapitulacija Posebni dio
A1: II. POSEBNI DIO
A2: Rashodi i izdaci po izvorima financiranja i ekonomskoj klasifikaciji raspoređenih u programe, aktivnosti i projekte
A4: Šifra | B4: Naziv | C4: OSTVARENJE/ IZVRŠENJE 1.-12.2024. | D4: IZVORNI PLAN ZA 2025. | E4: TEKUĆI PLAN 2025. | F4: OSTVARENJE/ IZVRŠENJE 1.-12.2025. | G4: Indeks | H4: Indeks
A5: PROGRAM | B5: RAD I RAZVOJ USTANOVE | C5: 2 | D5: 3 | E5: 4 | F5: 5 | G5: 6=5/3*100 | H5: 7=5/4*100
A6: AKTIVNOST | B6: Redovna djelatnost | C6: =C7+C198+C298+C361+C377+C397+C403+C437+C443+C491 -> 4952099.2 | D6: =D7+D198+D298+D361+D377+D397+D403+D437+D443+D491 -> 4247373.5 | E6: =E7+E198+E298+E361+E377+E397+E403+E437+E443+E491 -> 4193568.4 | F6: =F7+F198+F298+F361+F377+F397+F403+F437+F443+F491 -> 4777418.1 | G6: =IFERROR(F6/D6*100,F6) -> 112.47935 | H6: =IFERROR(F6/E6*100,F6) -> 113.9225
A7: 43 | B7: Ostali prihodi za posebne namjene | C7: =C8+C163 -> 4777402.3 | D7: =D8+D163 -> 4009442.6 | E7: =E8+E163 -> 3705637.5 | F7: =F8+F163 -> 4378780.3 | G7: =IFERROR(F7/D7*100,F7) -> 109.2117 | H7: =IFERROR(F7/E7*100,F7) -> 118.16537
A8: 3 | B8: Rashodi poslovanja | C8: =C9+C32+C129+C141+C144+C149 -> 4756406.2 | D8: =D9+D32+D129+D141+D144+D149 -> 3883930.4 | E8: =E9+E32+E129+E141+E144+E149 -> 3580125.3 | F8: =F9+F32+F129+F141+F144+F149 -> 4374707.8 | G8: =IFERROR(F8/D8*100,F8) -> 112.6361 | H8: =IFERROR(F8/E8*100,F8) -> 122.19427
A9: 31 | B9: Rashodi za zaposlene | C9: =C10+C19+C27 -> 4058051.6 | D9: =D10+D19+D27 -> 3042112.3 | E9: =E10+E19+E27 -> 3002112.3 | F9: =F10+F19+F27 -> 3953169.5 | G9: =IFERROR(F9/D9*100,F9) -> 129.94818 | H9: =IFERROR(F9/E9*100,F9) -> 131.6796
A10: 311 | B10: Plaće | C10: =C11+C14+C15+C17 -> 3379334.8 | D10: =D11+D14+D15+D17 -> 2505491.4 | E10: =E11+E14+E15+E17 -> 2505491.4 | F10: =F11+F14+F15+F17 -> 3314839.7 | G10: =IFERROR(F10/D10*100,F10) -> 132.30297 | H10: =IFERROR(F10/E10*100,F10) -> 132.30297
A11: 3111 | B11: Plaće za redovan rad | C11: =SUM(C12:C13) -> 3257753.1 | D11: =SUM(D12:D13) -> 2456384 | E11: =SUM(E12:E13) -> 2456384 | F11: =SUM(F12:F13) -> 3214978.1 | G11: =IFERROR(F11/D11*100,F11) -> 130.88255 | H11: =IFERROR(F11/E11*100,F11) -> 130.88255
A12: 31111 | B12: Plaće za redovan rad | C12: 3256037.1 | D12: 2451384 | E12: 2451384 | F12: =3311673.68+3935.98-F203-F549-F568-F590-F615-F644-F724 -> 3214978.1 | G12: =IFERROR(F12/D12*100,F12) -> 131.14951 | H12: =IFERROR(F12/E12*100,F12) -> 131.14951
A13: 31113 | B13: Plaće po sudskim presudama | C13: 1715.99 | D13: 5000 | E13: 5000 | G13: =IFERROR(F13/D13*100,F13) -> 0 | H13: =IFERROR(F13/E13*100,F13) -> 0
A14: 3112 | B14: Plaće u naravi | G14: =IFERROR(F14/D14*100,F14) -> 0 | H14: =IFERROR(F14/E14*100,F14) -> 0
A15: 3113 | B15: Plaće za prekovremeni rad | C15: =SUM(C16) -> 79831.87 | D15: =SUM(D16) -> 49107.44 | E15: =SUM(E16) -> 49107.44 | F15: =SUM(F16) -> 99861.59 | G15: =IFERROR(F15/D15*100,F15) -> 203.35328 | H15: =IFERROR(F15/E15*100,F15) -> 203.35328
A16: 31131 | B16: Plaće za prekovremeni rad | C16: 79831.87 | D16: 49107.44 | E16: 49107.44 | F16: =99861.59 -> 99861.59 | G16: =IFERROR(F16/D16*100,F16) -> 203.35328 | H16: =IFERROR(F16/E16*100,F16) -> 203.35328
A17: 3114 | B17: Plaće za posebne uvjete rada | C17: =SUM(C18) -> 41749.86 | D17: =SUM(D18) -> 0 | E17: =SUM(E18) -> 0 | F17: =SUM(F18) -> 0 | G17: =IFERROR(F17/D17*100,F17) -> 0 | H17: =IFERROR(F17/E17*100,F17) -> 0
A18: 31141 | B18: Plaće za posebne uvjete rada | C18: 41749.86 | D18: 0 | F18: =0-F207-F677 -> 0 | G18: =IFERROR(F18/D18*100,F18) -> 0 | H18: =IFERROR(F18/E18*100,F18) -> 0
A19: 312 | B19: Ostali rashodi za zaposlene | C19: =C20 -> 142684.44 | D19: =D20 -> 123214.88 | E19: =E20 -> 123214.88 | F19: =F20 -> 127637.11 | G19: =IFERROR(F19/D19*100,F19) -> 103.58904 | H19: =IFERROR(F19/E19*100,F19) -> 103.58904
A20: 3121 | B20: Ostali rashodi za zaposlene | C20: =SUM(C21:C26) -> 142684.44 | D20: =SUM(D21:D26) -> 123214.88 | E20: =SUM(E21:E26) -> 123214.88 | F20: =SUM(F21:F26) -> 127637.11 | G20: =IFERROR(F20/D20*100,F20) -> 103.58904 | H20: =IFERROR(F20/E20*100,F20) -> 103.58904
A21: 31212 | B21: Ostali rashodi za zaposlene-nagrade | C21: 32979.2 | D21: 13000 | E21: 13000 | F21: =39526.31-F496 -> 38567.75 | G21: =IFERROR(F21/D21*100,F21) -> 296.675 | H21: =IFERROR(F21/E21*100,F21) -> 296.675
A22: 31213 | B22: Darovi | C22: 30736.17 | D22: 25000 | E22: 25000 | F22: =22986.48-F497 -> 13945.04 | G22: =IFERROR(F22/D22*100,F22) -> 55.78016 | H22: =IFERROR(F22/E22*100,F22) -> 55.78016
A23: 31214 | B23: Otpremnine | D23: 2000 | E23: 2000 | F23: 0 | G23: =IFERROR(F23/D23*100,F23) -> 0 | H23: =IFERROR(F23/E23*100,F23) -> 0
A24: 31215 | B24: Naknade za bolest, invalidnost i smrt | C24: 4022.98 | D24: 3800 | E24: 3800 | F24: 2524.32 | G24: =IFERROR(F24/D24*100,F24) -> 66.429474 | H24: =IFERROR(F24/E24*100,F24) -> 66.429474
A25: 31216 | B25: Regres za godišnji odmor | C25: 39600 | D25: 40000 | E25: 40000 | F25: =36600-F618-F647 -> 36600 | G25: =IFERROR(F25/D25*100,F25) -> 91.5 | H25: =IFERROR(F25/E25*100,F25) -> 91.5
A26: 31219 | B26: Ostali nenavedeni rashodi za zaposlene | C26: 35346.09 | D26: =123214.88-D21-D22-D23-D24-D25 -> 39414.88 | E26: 39414.88 | F26: =39900-F210-F619-F648 -> 36000 | G26: =IFERROR(F26/D26*100,F26) -> 91.336064 | H26: =IFERROR(F26/E26*100,F26) -> 91.336064
A27: 313 | B27: Doprinosi na plaće | C27: =C28+C30 -> 536032.32 | D27: =D28+D30 -> 413406 | E27: =E28+E30 -> 373406 | F27: =F28+F30 -> 510692.71 | G27: =IFERROR(F27/D27*100,F27) -> 123.53297 | H27: =IFERROR(F27/E27*100,F27) -> 136.76607
A28: 3132 | B28: Doprinosi za obvezno zdravstveno osiguranje | C28: =SUM(C29) -> 535994.58 | D28: =SUM(D29) -> 413406 | E28: =SUM(E29) -> 373406 | F28: =SUM(F29) -> 510680.4 | G28: =IFERROR(F28/D28*100,F28) -> 123.52999 | H28: =IFERROR(F28/E28*100,F28) -> 136.76277
A29: 31321 | B29: Doprinosi za obvezno zdravstveno osiguranje | C29: 535994.58 | D29: 413406 | E29: =373406 -> 373406 | F29: =558972.6-F213-F310-F402-F554-F573-F595-F622-F651-F727 -> 510680.4 | G29: =IFERROR(F29/D29*100,F29) -> 123.52999 | H29: =IFERROR(F29/E29*100,F29) -> 136.76277
A30: 3133 | B30: Doprinosi za zapošljavanje | C30: =C31 -> 37.74 | D30: =D31 -> 0 | E30: =E31 -> 0 | F30: =F31 -> 12.31 | G30: =IFERROR(F30/D30*100,F30) -> 12.31 | H30: =IFERROR(F30/E30*100,F30) -> 12.31
A31: 31332 | B31: Doprinosi za obvezno osiguranje u slučaju nezaposlenosti | C31: 37.74 | F31: 12.31 | G31: =IFERROR(F31/D31*100,F31) -> 12.31 | H31: =IFERROR(F31/E31*100,F31) -> 12.31
A32: 32 | B32: Materijalni rashodi | C32: =C33+C45+C70+C101+C108 -> 682391.78 | D32: =D33+D45+D70+D101+D108 -> 829345.58 | E32: =E33+E45+E70+E101+E104+E108 -> 565540.49 | F32: =F33+F45+F70+F101+F104+F108 -> 414295.39 | G32: =IFERROR(F32/D32*100,F32) -> 49.954494 | H32: =IFERROR(F32/E32*100,F32) -> 73.256539
A33: 321 | B33: Naknade troškova zaposlenima | C33: =C34+C38+C40+C43 -> 100222.78 | D33: =D34+D38+D40+D43 -> 106441.57 | E33: =E34+E38+E40+E43 -> 106441.57 | F33: =F34+F38+F40+F43 -> 82014.11 | G33: =IFERROR(F33/D33*100,F33) -> 77.050827 | H33: =IFERROR(F33/E33*100,F33) -> 77.050827
A34: 3211 | B34: Službena putovanja | C34: =SUM(C35:C37) -> 3262.2405 | D34: =SUM(D35:D37) -> 18977.24 | E34: =SUM(E35:E37) -> 18977.24 | F34: =SUM(F35:F37) -> 1596.29 | G34: =IFERROR(F34/D34*100,F34) -> 8.4116025 | H34: =IFERROR(F34/E34*100,F34) -> 8.4116025
A35: 32111 | B35: Dnevnice za službeni put u zemlji | C35: 2952.7505 | D35: 11800 | E35: 11800 | F35: =3349.32-F366-F599-F626-F655-F731 -> 1140 | G35: =IFERROR(F35/D35*100,F35) -> 9.6610169 | H35: =IFERROR(F35/E35*100,F35) -> 9.6610169
A36: 32113 | B36: Naknade za smještaj na službenom putu u zemlji | C36: 0 | D36: 700 | E36: 700 | F36: =827.6-F656-F732 -> 227.6 | G36: =IFERROR(F36/D36*100,F36) -> 32.514286 | H36: =IFERROR(F36/E36*100,F36) -> 32.514286
A37: 32115 | B37: Naknade za prijevoz na službenom putu u zemlji | C37: 309.49 | D37: =18977.24-D35-D36 -> 6477.24 | E37: 6477.24 | F37: =931.4-F217-F367-F657-F733 -> 228.69 | G37: =IFERROR(F37/D37*100,F37) -> 3.5306705 | H37: =IFERROR(F37/E37*100,F37) -> 3.5306705
A38: 3212 | B38: Naknade za prijevoz, za rad na terenu i odvojeni život | C38: =SUM(C39) -> 92041.02 | D38: =SUM(D39) -> 82288.14 | E38: =SUM(E39) -> 82288.14 | F38: =SUM(F39) -> 76715.8 | G38: =IFERROR(F38/D38*100,F38) -> 93.228259 | H38: =IFERROR(F38/E38*100,F38) -> 93.228259
A39: 32121 | B39: Naknade za prijevoz, za rad na terenu i odvojeni život | C39: 92041.02 | D39: 82288.14 | E39: 82288.14 | F39: =91748.23+339.77-F219-F628-F659-F735 -> 76715.8 | G39: =IFERROR(F39/D39*100,F39) -> 93.228259 | H39: =IFERROR(F39/E39*100,F39) -> 93.228259
A40: 3213 | B40: Stručno usavršavanje zaposlenih | C40: =SUM(C41:C42) -> 4919.52 | D40: =SUM(D41:D42) -> 4778.02 | E40: =SUM(E41:E42) -> 4778.02 | F40: =SUM(F41:F42) -> 3702.02 | G40: =IFERROR(F40/D40*100,F40) -> 77.480211 | H40: =IFERROR(F40/E40*100,F40) -> 77.480211
A41: 32131 | B41: Seminari, savjetovanja i simpoziji | C41: 1080 | D41: 2200 | E41: 2200 | F41: =1802.75-F448 -> 1571.5 | G41: =IFERROR(F41/D41*100,F41) -> 71.431818 | H41: =IFERROR(F41/E41*100,F41) -> 71.431818
...

Sheet Kontrolna tablica
C2: PRIHODI I RASHODI PREMA IZVORIMA FINANCIRANJA
B4: R.br. | C4: Opis | D4: Izvorni plan 2025. | E4: Plan | F4: Ostvareno | G4: Indeks | H4: Indeks
C5: UKUPNO PRIHODI | D5: =D6+D8+D10+D14+D16+D18 -> 4702255.6 | E5: =E6+E8+E10+E14+E16+E18 -> 5292700.8 | F5: =F6+F8+F10+F14+F16+F18 -> 5342526.2 | G5: =F5/D5*100 -> 113.61624 | H5: =F5/E5*100 -> 100.9414
B6: 1 | C6: Opći prihodi i primici | D6: =D7 -> 369361.73 | E6: =E7 -> 608264.02 | F6: =F7 -> 618103.51 | G6: =F6/D6*100 -> 167.34368 | H6: =F6/E6*100 -> 101.61763
C7: 11 Opći prihodi i primici | D7: ='Prihodi po ek klas i izvorima'!F15 -> 369361.73 | E7: ='Prihodi po ek klas i izvorima'!G15 -> 608264.02 | F7: ='Prihodi po ek klas i izvorima'!H15 -> 618103.51 | G7: =F7/D7*100 -> 167.34368 | H7: =F7/E7*100 -> 101.61763
B8: 2 | C8: Vlastiti prihodi | D8: =D9 -> 199283.29 | E8: =E9 -> 163116.33 | F8: =F9 -> 137837.86 | G8: =F8/D8*100 -> 69.166793 | H8: =F8/E8*100 -> 84.502796
C9: 31 Vlastiti prihodi | D9: ='Prihodi po ek klas i izvorima'!F75 -> 199283.29 | E9: ='Prihodi po ek klas i izvorima'!G75 -> 163116.33 | F9: ='Prihodi po ek klas i izvorima'!H75 -> 137837.86 | G9: =F9/D9*100 -> 69.166793 | H9: =F9/E9*100 -> 84.502796
B10: 3 | C10: Prihodi za posebne namjene | D10: =SUM(D11:D13) -> 3949596.7 | E10: =SUM(E11:E13) -> 3949596.7 | F10: =SUM(F11:F13) -> 4276069.5 | G10: =F10/D10*100 -> 108.26598 | H10: =F10/E10*100 -> 108.26598
C11: 43 Prihodi za posebne namjene (HZZO) | D11: ='Prihodi po ek klas i izvorima'!F46 -> 3899096.7 | E11: ='Prihodi po ek klas i izvorima'!G46 -> 3899096.7 | F11: ='Prihodi po ek klas i izvorima'!H46 -> 4227449.3 | G11: =F11/D11*100 -> 108.42125 | H11: =F11/E11*100 -> 108.42125
C12: 43 Prihodi za posebne namjene (dopunsko osiguranje, participacija,…) | D12: ='Prihodi po ek klas i izvorima'!F40 -> 47500 | E12: ='Prihodi po ek klas i izvorima'!G40 -> 47500 | F12: ='Prihodi po ek klas i izvorima'!H40 -> 48280.21 | G12: =F12/D12*100 -> 101.64255 | H12: =F12/E12*100 -> 101.64255
C13: 43 Ostali prihodi | D13: ='Prihodi po ek klas i izvorima'!F53 -> 3000 | E13: ='Prihodi po ek klas i izvorima'!G53 -> 3000 | F13: ='Prihodi po ek klas i izvorima'!H53 -> 340.07 | G13: =F13/D13*100 -> 11.335667 | H13: =F13/E13*100 -> 11.335667
B14: 4 | C14: Pomoći | D14: =D15 -> 128013.95 | E14: =E15 -> 514923.83 | F14: =F15 -> 309715.23 | G14: =F14/D14*100 -> 241.93866 | H14: =F14/E14*100 -> 60.147776
C15: 52 Ostale pomoći | D15: ='Prihodi po ek klas i izvorima'!F36 -> 128013.95 | E15: ='Prihodi po ek klas i izvorima'!G36 -> 514923.83 | F15: ='Prihodi po ek klas i izvorima'!H36 -> 309715.23 | G15: =F15/D15*100 -> 241.93866 | H15: =F15/E15*100 -> 60.147776
B16: 5 | C16: Donacije | D16: =D17 -> 50500 | E16: =E17 -> 50500 | F16: =F17 -> 0 | G16: =F16/D16*100 -> 0 | H16: =F16/E16*100 -> 0
C17: 61 Donacije | D17: ='Prihodi po ek klas i izvorima'!F81 -> 50500 | E17: ='Prihodi po ek klas i izvorima'!G81 -> 50500 | F17: ='Prihodi po ek klas i izvorima'!H81 -> 0 | G17: =F17/D17*100 -> 0 | H17: =F17/E17*100 -> 0
B18: 6 | C18: Prihodi od nefinancijske imovine i naknade štete s naslova osiguranja | D18: =D19 -> 5500 | E18: =E19 -> 6300 | F18: =F19 -> 800 | G18: =F18/D18*100 -> 14.545455 | H18: =F18/E18*100 -> 12.698413
C19: 71 Prihodi od nefinancijske imovine i naknade štete s naslova osiguranja | D19: ='Prihodi po ek klas i izvorima'!F86 -> 5500 | E19: ='Prihodi po ek klas i izvorima'!G86+'Prihodi po ek klas i izvorima'!G94 -> 6300 | F19: ='Prihodi po ek klas i izvorima'!H86+'Prihodi po ek klas i izvorima'!H94 -> 800 | G19: =F19/D19*100 -> 14.545455 | H19: =F19/E19*100 -> 12.698413
C20: UKUPNO PRIHODI | D20: =D6+D8+D10+D14+D16+D18 -> 4702255.6 | E20: =E6+E8+E10+E14+E16+E18 -> 5292700.8 | F20: =F6+F8+F10+F14+F16+F18 -> 5342526.2 | G20: =F20/D20*100 -> 113.61624 | H20: =F20/E20*100 -> 100.9414
C21: Redovna aktivnost | E21: =E20-E6 -> 4684436.8 | F21: =F20-F6 -> 4724422.6 | G21: =G20-G6 -> -53.727437 | H21: =F21/E21*100 -> 100.85359 | I21: *Financiranje izvan županijskog proračuna
B23: R.br. | C23: Opis | D23: Izvorni plan 2025. | E23: Plan | F23: Ostvareno | G23: Indeks | H23: Indeks
C24: UKUPNO RASHODI | D24: =D25+D27+D29+D31+D33+D35 -> 4725934.6 | E24: =E25+E27+E29+E31+E33+E35 -> 4763941.7 | F24: =F25+F27+F29+F31+F33+F35 -> 5188831.5 | G24: =F24/D24*100 -> 109.79482 | H24: =F24/E24*100 -> 108.91887
B25: 1 | C25: Opći prihodi i primici | D25: =D26 -> 369361.73 | E25: =E26 -> 608264.02 | F25: =F26 -> 618103.51 | G25: =F25/D25*100 -> 167.34368 | H25: =F25/E25*100 -> 101.61763
C26: 11 Opći prihodi i primici | D26: ='Rekapitulacija Posebni dio'!D499+'Rekapitulacija Posebni dio'!D544+'Rekapitulacija Posebni dio'!D563+'Rekapitulacija Posebni dio'!D585 -> 369361.73 | E26: ='Rekapitulacija Posebni dio'!E397+'Rekapitulacija Posebni dio'!E403+'Rekapitulacija Posebni dio'!E437+'Rekapitulacija Posebni dio'!E443+'Rekapitulacija Posebni dio'!E499+'Rekapitulacija Posebni dio'!E544+'Rekapitulacija Posebni dio'!E563+'Rekapitulacija Posebni dio'!E585 -> 608264.02 | F26: ='Rekapitulacija Posebni dio'!F397+'Rekapitulacija Posebni dio'!F403+'Rekapitulacija Posebni dio'!F437+'Rekapitulacija Posebni dio'!F443+'Rekapitulacija Posebni dio'!F491+'Rekapitulacija Posebni dio'!F499+'Rekapitulacija Posebni dio'!F544+'Rekapitulacija Posebni dio'!F563+'Rekapitulacija Posebni dio'!F585 -> 618103.51 | G26: =F26/D26*100 -> 167.34368 | H26: =F26/E26*100 -> 101.61763
B27: 2 | C27: Vlastiti prihodi | D27: =D28 -> 163116.33 | E27: =E28 -> 163116.33 | F27: =F28 -> 137837.86 | G27: =F27/D27*100 -> 84.502796 | H27: =F27/E27*100 -> 84.502796
C28: 31 Vlastiti prihodi | D28: ='Rekapitulacija Posebni dio'!D198+'Rekapitulacija Posebni dio'!D687 -> 163116.33 | E28: ='Rekapitulacija Posebni dio'!E198+'Rekapitulacija Posebni dio'!E687 -> 163116.33 | F28: ='Rekapitulacija Posebni dio'!F198+'Rekapitulacija Posebni dio'!F687 -> 137837.86 | G28: =F28/D28*100 -> 84.502796 | H28: =F28/E28*100 -> 84.502796
B29: 3 | C29: Prihodi za posebne namjene | D29: =D30 -> 4009442.6 | E29: =E30 -> 3705637.5 | F29: =F30 -> 4378780.3 | G29: =F29/D29*100 -> 109.2117 | H29: =F29/E29*100 -> 118.16537
C30: 43 Prihodi za posebne namjene | D30: ='Rekapitulacija Posebni dio'!D7 -> 4009442.6 | E30: ='Rekapitulacija Posebni dio'!E7 -> 3705637.5 | F30: ='Rekapitulacija Posebni dio'!F7 -> 4378780.3 | G30: =F30/D30*100 -> 109.2117 | H30: =F30/E30*100 -> 118.16537
B31: 4 | C31: Pomoći | D31: =D32 -> 128013.95 | E31: =E32 -> 230923.83 | F31: =F32 -> 53309.92 | G31: =F31/D31*100 -> 41.643836 | H31: =F31/E31*100 -> 23.0855
C32: 52 Ostale pomoći | D32: ='Rekapitulacija Posebni dio'!D298+'Rekapitulacija Posebni dio'!D610+'Rekapitulacija Posebni dio'!D670+'Rekapitulacija Posebni dio'!D719 -> 128013.95 | E32: ='Rekapitulacija Posebni dio'!E298+'Rekapitulacija Posebni dio'!E610+'Rekapitulacija Posebni dio'!E639+'Rekapitulacija Posebni dio'!E719+'Rekapitulacija Posebni dio'!E765 -> 230923.83 | F32: ='Rekapitulacija Posebni dio'!F298+'Rekapitulacija Posebni dio'!F610+'Rekapitulacija Posebni dio'!F639+'Rekapitulacija Posebni dio'!F719+'Rekapitulacija Posebni dio'!F765 -> 53309.92 | G32: =F32/D32*100 -> 41.643836 | H32: =F32/E32*100 -> 23.0855
B33: 5 | C33: Donacije | D33: =D34 -> 50500 | E33: =E34 -> 50500 | F33: =F34 -> 0 | G33: =F33/D33*100 -> 0 | H33: =F33/E33*100 -> 0
C34: 61 Donacije | D34: ='Rekapitulacija Posebni dio'!D361+'Rekapitulacija Posebni dio'!D781 -> 50500 | E34: ='Rekapitulacija Posebni dio'!E361+'Rekapitulacija Posebni dio'!E781 -> 50500 | F34: ='Rekapitulacija Posebni dio'!F361 -> 0 | G34: =F34/D34*100 -> 0 | H34: =F34/E34*100 -> 0
B35: 6 | C35: Prihodi od nefinancijske imovine i naknade štete s naslova osiguranja | D35: =D36 -> 5500 | E35: =E36 -> 5500 | F35: =F36 -> 800 | G35: =F35/D35*100 -> 14.545455 | H35: =F35/E35*100 -> 14.545455
C36: 71 Prihodi od nefinancijske imovine i naknade štete s naslova osiguranja | D36: ='Rekapitulacija Posebni dio'!D377 -> 5500 | E36: ='Rekapitulacija Posebni dio'!E377 -> 5500 | F36: ='Rekapitulacija Posebni dio'!F377 -> 800 | G36: =F36/D36*100 -> 14.545455 | H36: =F36/E36*100 -> 14.545455
C37: UKUPNO RASHODI | D37: =D25+D27+D29+D31+D33+D35 -> 4725934.6 | E37: =E25+E27+E29+E31+E33+E35 -> 4763941.7 | F37: =F25+F27+F29+F31+F33+F35 -> 5188831.5 | G37: =F37/D37*100 -> 109.79482 | H37: =F37/E37*100 -> 108.91887
C38: Redovna aktivnost | E38: =E37-E25 -> 4155677.6 | F38: =F37-F25 -> 4570728 | G38: =G37-G23 -> #VALUE! | H38: =F38/E38*100 -> 109.98755 | I38: *Financiranje izvan županijskog proračuna
B40: R.br. | C40: Opis | D40: Izvorni plan 2025. | E40: Plan | F40: Ostvareno | G40: Indeks | H40: Indeks
B41: 1 | C41: Rashodi za zaposlene | D41: ='RASHODI-ek.kl.'!E58 -> 3228791.6 | E41: ='RASHODI-ek.kl.'!F58 -> 3308338 | F41: ='RASHODI-ek.kl.'!G58 -> 4115993.3 | G41: =F41/D41*100 -> 127.47782 | H41: =F41/E41*100 -> 124.41272
B42: 2 | C42: Materijalni rashodi | D42: ='RASHODI-ek.kl.'!E82 -> 1058244.5 | E42: ='RASHODI-ek.kl.'!F82 -> 1017152.9 | F42: ='RASHODI-ek.kl.'!G82 -> 795794.39 | G42: =F42/D42*100 -> 75.199481 | H42: =F42/E42*100 -> 78.237437
B43: 3 | C43: Financijski rashodi | D43: ='RASHODI-ek.kl.'!E179 -> 9972.52 | E43: ='RASHODI-ek.kl.'!F179 -> 9972.52 | F43: ='RASHODI-ek.kl.'!G179 -> 6392.68 | G43: =F43/D43*100 -> 64.102955 | H43: =F43/E43*100 -> 64.102955
B44: 4 | C44: Naknade građanima i kućanstvima na temelju osiguranja i druge naknade | D44: ='RASHODI-ek.kl.'!E195 -> 2000 | E44: ='RASHODI-ek.kl.'!F195 -> 2000 | F44: ='RASHODI-ek.kl.'!G195 -> 0 | G44: =F44/D44*100 -> 0 | H44: =F44/E44*100 -> 0
...

Sheet RAČUN FINANCIRANJA
A2: I. OPĆI DIO
A4: B. RAČUN FINANCIRANJA - prema ekonomskoj klasifikaciji i prema izvorima financiranja
A7: Razred | B7: Skupina | C7: Izvor | D7: Naziv | E7: OSTVARENJE/ IZVRŠENJE 1.-12.2024. | F7: IZVORNI PLAN ZA 2025. | G7: TEKUĆI PLAN 2025. | H7: OSTVARENJE/ IZVRŠENJE 1.-12.2025. | I7: Indeks | J7: Indeks
A8: 1 | E8: 2 | F8: 3 | G8: 4 | H8: 5 | I8: 6=5/2*100 | J8: 7=5/4*100
A9: 8 | D9: Primici od financijske imovine i zaduživanja | E9: =SUM(E10) -> 0 | F9: =SUM(F10) -> 0 | G9: =SUM(G10) -> 0 | H9: =SUM(H10) -> 0 | I9: 0 | J9: 0
B10: 84 | D10: Primici od zaduživanja | E10: =SUM(E11) -> 0 | F10: 0 | G10: =SUM(G11) -> 0 | H10: =SUM(H11) -> 0 | I10: 0 | J10: 0
B11: 842 | D11: Primljeni krediti i zajmovi od kreditnih i ostalih financijskih institucija u javnom sektoru | E11: 0 | F11: 0 | G11: =SUM(G12) -> 0 | H11: =SUM(H12) -> 0 | I11: 0 | J11: 0
B12: 8422 | D12: Primljeni krediti od kreditnih institucija u javnom sektoru | E12: 0 | F12: 0 | G12: 0 | H12: 0 | I12: 0 | J12: 0
C13: 81 | D13: Namjenski primici od zaduživanja | E13: =SUM(E9) -> 0 | F13: =SUM(F9) -> 0 | G13: =SUM(G9) -> 0 | H13: =SUM(H9) -> 0 | I13: 0 | J13: 0
A14: 5 | D14: Izdaci za financijsku imovinu i otplate zajmova | E14: =SUM(E15) -> 0 | F14: =SUM(F15) -> 0 | G14: =SUM(G15) -> 0 | H14: =SUM(H15) -> 0 | I14: 0 | J14: 0
B15: 54 | D15: Izdaci za otplatu glavnice primljenih kredita i zajmova | E15: =SUM(E16) -> 0 | F15: 0 | G15: =SUM(G16) -> 0 | H15: =SUM(H16) -> 0 | I15: 0 | J15: 0
B16: 542 | D16: Otplata glavnice primljenih kredita i zajmova od kreditnih i ostalih financijskih institucija u javnom sektoru | E16: =SUM(E17) -> 0 | F16: =SUM(F17) -> 0 | G16: =SUM(G17) -> 0 | H16: =SUM(H17) -> 0 | I16: 0 | J16: 0
B17: 5422 | D17: Otplata glavnice primljenih kredita od kreditnih institucija u javnom sektoru | E17: 0 | F17: 0 | G17: 0 | H17: 0 | I17: 0 | J17: 0
C18: 11 | D18: Opći prihodi i primici | E18: =SUM(E14) -> 0 | F18: =SUM(F14) -> 0 | G18: =SUM(G14) -> 0 | H18: =SUM(H14) -> 0 | I18: 0 | J18: 0
