Workbook

Sheet SAŽETAK
B1: IZVJEŠTAJ O IZVRŠENJU FINANCIJSKOG PLANA DOMA ZDRAVLJA VUKOVAR ZA RAZDOBLJE OD 01.01. DO 31.12.2025. GODINE
B3: I. OPĆI DIO
B5: SAŽETAK RAČUNA PRIHODA I RASHODA I RAČUNA FINANCIRANJA
B7: SAŽETAK RAČUNA PRIHODA I RASHODA | K7: EUR | L7: EUR
B8: BROJČANA OZNAKA I NAZIV | G8: OSTVARENJE/ IZVRŠENJE 1.-12.2024. | H8: IZVORNI PLAN ZA 2025. | I8: TEKUĆI PLAN 2025. | J8: OSTVARENJE/ IZVRŠENJE 1.-12.2025. | K8: Indeks | L8: Indeks
B9: 1 | G9: 2 | H9: 3 | I9: 4 | J9: 5 | K9: 6=5/3*100 | L9: 6=5/4*100
B10: PRIHODI UKUPNO | G10: =G11+G12 -> 5100997.3 | H10: =H11+H12 -> 4702255.6 | I10: =I11+I12 -> 5292700.8 | J10: =J11+J12 -> 5342526.1 | K10: =J10/H10*100 -> 113.61624 | L10: =J10/I10*100 -> 100.9414
B11: 6 PRIHODI POSLOVANJA | G11: ='Prihodi po ekonomskoj klas'!D10 -> 5100997.3 | H11: ='Prihodi po ekonomskoj klas'!E10 -> 4702255.6 | I11: ='Prihodi po ekonomskoj klas'!F10 -> 5291900.8 | J11: ='Prihodi po ekonomskoj klas'!G10 -> 5341726.1 | K11: =J11/H11*100 -> 113.59923 | L11: =J11/I11*100 -> 100.94154
B12: 7 PRIHODI OD PRODAJE NEFINANCIJSKE IMOVINE | G12: ='Prihodi po ekonomskoj klas'!D70 -> 0 | H12: ='Prihodi po ekonomskoj klas'!E70 -> 0 | I12: ='Prihodi po ekonomskoj klas'!F70 -> 800 | J12: ='Prihodi po ekonomskoj klas'!G70 -> 800 | K12: =IFERROR(J12/H12*100,J12) -> 800 | L12: =J12/I12*100 -> 100
B13: RASHODI UKUPNO | G13: =G14+G15 -> 5931700.2 | H13: =H14+H15 -> 4725934.6 | I13: =I14+I15 -> 4763941.6 | J13: =J14+J15 -> 5188831.5 | K13: =J13/H13*100 -> 109.79482 | L13: =J13/I13*100 -> 108.91887
B14: 3 RASHODI POSLOVANJA | G14: ='RASHODI-ek.kl.'!D57 -> 5084825.9 | H14: ='RASHODI-ek.kl.'!E57 -> 4299508.7 | I14: ='RASHODI-ek.kl.'!F57 -> 4337963.5 | J14: ='RASHODI-ek.kl.'!G57 -> 4919030.6 | K14: =J14/H14*100 -> 114.40913 | L14: =J14/I14*100 -> 113.39493
B15: 4 RASHODI ZA NABAVU NEFINANCIJSKE IMOVINE | G15: ='RASHODI-ek.kl.'!D213 -> 846874.29 | H15: ='RASHODI-ek.kl.'!E213 -> 426425.88 | I15: ='RASHODI-ek.kl.'!F213 -> 425978.17 | J15: ='RASHODI-ek.kl.'!G213 -> 269800.91 | K15: =J15/H15*100 -> 63.270294 | L15: =J15/I15*100 -> 63.336793
B16: RAZLIKA - VIŠAK MANJAK | G16: =G10-G13 -> -830702.87 | H16: =H10-H13 -> -23678.94 | I16: =I10-I13 -> 528759.19 | J16: =J10-J13 -> 153694.6 | K16: =J16/H16*100 -> -649.0772 | L16: =J16/I16*100 -> 29.067031
B18: SAŽETAK RAČUNA FINANCIRANJA
B19: BROJČANA OZNAKA I NAZIV | G19: OSTVARENJE/ IZVRŠENJE 1.-12.2024. | H19: IZVORNI PLAN ZA 2025. | I19: TEKUĆI PLAN 2025. | J19: OSTVARENJE/ IZVRŠENJE 1.-12.2025. | K19: Indeks | L19: Indeks
B20: 1 | G20: 2 | H20: 3 | I20: 4 | J20: 5 | K20: 6 | L20: 7
B21: 8 PRIMICI OD FINANCIJSKE IMOVINE I ZADUŽIVANJA
B22: 5 IZDACI ZA FINANCIJSKU IMOVINU I OTPLATE ZAJMOVA
B23: RAZLIKA PRIMITAKA I IZDATAKA
B25: PRENESENI VIŠAK ILI PRENESENI MANJAK
B26: BROJČANA OZNAKA I NAZIV | G26: OSTVARENJE/ IZVRŠENJE 1.-12.2024. | H26: IZVORNI PLAN ZA 2025. | I26: TEKUĆI PLAN 2025. | J26: OSTVARENJE/ IZVRŠENJE 1.-12.2025. | K26: Indeks | L26: Indeks
B27: PRENESENI VIŠAK / MANJAK IZ PRETHODNE(IH) GODINE | G27: -12356.04 | H27: =G28 -> -843058.91 | I27: =G28 -> -843058.91 | J27: =G28 -> -843058.91 | K27: =IFERROR(J27/H27*100,J27) -> 100 | L27: =IFERROR(J27/I27*100,J27) -> 100
B28: VIŠAK/MANJAK IZ PRETHODNE GODINE KOJI ĆE SE RASPOREDITI/POKRITI | G28: =G16+G27 -> -843058.91 | H28: =H16+H27 -> -866737.85 | I28: =I27+I16 -> -314299.72 | J28: =J27+J16 -> -689364.31 | K28: =IFERROR(J28/H28*100,J28) -> 79.535503 | L28: =IFERROR(J28/I28*100,J28) -> 219.33342

Sheet Prihodi po ekonomskoj klas
A2: I. OPĆI DIO
A4: A. RAČUN PRIHODA
A6: PRIHODI PREMA EKONOMSKOJ KLASIFIKACIJI
A8: PRIHODI POSLOVANJA
A9: Razred | B9: Skupina/podskupina/odjeljak | C9: Naziv | D9: OSTVARENJE/ IZVRŠENJE 1.-12.2024. | E9: IZVORNI PLAN ZA 2025. | F9: TEKUĆI PLAN 2025. | G9: OSTVARENJE/ IZVRŠENJE 1.-12.2025.
A10: 6 | D10: =D11+D33+D40+D47+D57+D66 -> 5100997.3 | E10: =E11+E33+E40+E47+E57+E66 -> 4702255.6 | F10: =F11+F33+F40+F47+F57+F66 -> 5291900.8 | G10: =G11+G33+G40+G47+G57+G66 -> 5341726.1
B11: 63 | C11: Pomoći | D11: =D12+D14+D19+D22+D27+D31 -> 331632.4 | E11: =E12+E14+E19+E22+E27+E31 -> 128013.95 | F11: =F12+F14+F19+F22+F27+F31 -> 514923.83 | G11: =G12+G14+G19+G22+G27+G31 -> 309715.23 | I11: SAVJET: PRVO POPUNITE PRETHODNI LIST
B12: 632 | C12: Pomoći od međunaodnih organizacija te institucija i tijela EU | D12: =SUM(D13) -> 0 | E12: =SUM(E13) -> 0 | F12: =SUM(F13) -> 0 | G12: =SUM(G13) -> 0
B13: 6324 | C13: Kapitalne pomoći od instucija i tijela EU | D13: 0 | E13: 0 | F13: 0 | G13: 0
B14: 633 | C14: Pomoć proračunu iz drugih proračuna | D14: =D15+D18 -> 799.5 | E14: =E15+E18 -> 0 | F14: =F15+F18 -> 0 | G14: =G15+G18 -> 0 | I14: OVA TABLICA AUTOMATSKI POVLAČI IZNOSE IZ PRETHODNOG LISTA (PRIHODI PO EK KLAS I IZVORIMA)
B15: 6331 | C15: Tekuća pomoć proračunu iz drugih proračuna | D15: =SUM(D17) -> 799.5 | E15: =SUM(E17) -> 0 | F15: =SUM(F16:F17) -> 0 | G15: =SUM(G16:G17) -> 0 | I15: UKOLIKO STE U PRVOM LISTU DODAVALI RAČUNE MORATI ĆETE I U OVOME LISTU NAPRAVITI IZMJENE U FORMULI RAČUNA NA KOJI SE IZMJENA ODNOSI
B16: 63312 | C16: Tekuće potpore iz županijskog proračuna | F16: ='Prihodi po ek klas i izvorima'!G19 -> 0 | G16: ='Prihodi po ek klas i izvorima'!H19 -> 0
B17: 63313 | C17: Tekuće potpore iz gradskog proračuna | D17: ='Prihodi po ek klas i izvorima'!E20 -> 799.5 | E17: ='Prihodi po ek klas i izvorima'!F20 -> 0 | F17: ='Prihodi po ek klas i izvorima'!G20 -> 0 | G17: ='Prihodi po ek klas i izvorima'!H20 -> 0
B18: 6332 | C18: Kapitalna pomoć proračunu iz drugih proračuna | D18: ='Prihodi po ek klas i izvorima'!E21 -> 0 | E18: ='Prihodi po ek klas i izvorima'!F21 -> 0 | F18: ='Prihodi po ek klas i izvorima'!G21 -> 0 | G18: ='Prihodi po ek klas i izvorima'!H21 -> 0
B19: 634 | C19: Pomoći od izvanproračunskih korisnika | D19: =SUM(D20) -> 0 | E19: =SUM(E20) -> 68314.61 | F19: =SUM(F20) -> 68314.61 | G19: =SUM(G20) -> 0
B20: 6341 | C20: Tekuće pomoći od izvanproračunskih korisnika | D20: =D21 -> 0 | E20: =E21 -> 68314.61 | F20: =F21 -> 68314.61 | G20: =G21 -> 0
B21: 63414 | C21: Tekuće pomoći od izvanproračunskih korisnika | D21: ='Prihodi po ek klas i izvorima'!E24 -> 0 | E21: ='Prihodi po ek klas i izvorima'!F24 -> 68314.61 | F21: ='Prihodi po ek klas i izvorima'!G24 -> 68314.61 | G21: ='Prihodi po ek klas i izvorima'!H24 -> 0
B22: 636 | C22: Pomoć proračunskim korisnicima iz prorač.koji im nije nadležan | D22: =D23+D25 -> 299750 | E22: =E23+E25 -> 14000 | F22: =F23+F25 -> 298000 | G22: =G23+G25 -> 299750
B23: 6361 | C23: Tekuće pomoći iz državnog prorač. prorač.korisnicima JLP(R)S | D23: =D24 -> 14000 | E23: =E24 -> 14000 | F23: =F24 -> 14000 | G23: =G24 -> 14000
B24: 63612 | C24: Tekuće pomoći iz državnog prorač. prorač.korisnicima JLP(R)S | D24: ='Prihodi po ek klas i izvorima'!E27 -> 14000 | E24: ='Prihodi po ek klas i izvorima'!F27 -> 14000 | F24: ='Prihodi po ek klas i izvorima'!G27 -> 14000 | G24: ='Prihodi po ek klas i izvorima'!H27 -> 14000
B25: 6362 | C25: Kapitalne pomoći iz državnog proračuna proračunskim korisnicima JLP(R)S | D25: =D26 -> 285750 | E25: =E26 -> 0 | F25: =F26 -> 284000 | G25: =G26 -> 285750
B26: 63622 | C26: Kapitalne pomoći iz državnog proračuna proračunskim korisnicima JLP(R)S | D26: ='Prihodi po ek klas i izvorima'!E29 -> 285750 | E26: ='Prihodi po ek klas i izvorima'!F29 -> 0 | F26: ='Prihodi po ek klas i izvorima'!G29 -> 284000 | G26: ='Prihodi po ek klas i izvorima'!H29 -> 285750
B27: 638 | C27: Pomoć temeljem prijenosa EU | D27: =D28+D30 -> 31082.9 | E27: =E28+E30 -> 45699.34 | F27: =F28+F30 -> 148609.22 | G27: =G28+G30 -> 9965.23
B28: 6381 | C28: Tekuće pomoći temeljem prijenosa EU sredstava | D28: =SUM(D29) -> 31082.9 | E28: =SUM(E29) -> 45699.34 | F28: =SUM(F29) -> 148609.22 | G28: =SUM(G29) -> 9965.23
B29: 63814 | C29: Tekuće pomoći temeljem prijenosa EU sredstava | D29: ='Prihodi po ek klas i izvorima'!E32 -> 31082.9 | E29: ='Prihodi po ek klas i izvorima'!F32 -> 45699.34 | F29: ='Prihodi po ek klas i izvorima'!G32 -> 148609.22 | G29: ='Prihodi po ek klas i izvorima'!H32 -> 9965.23
B30: 6382 | C30: kapitalna pomoć temeljem prijenosa EU | D30: ='Prihodi po ek klas i izvorima'!E33 -> 0 | E30: ='Prihodi po ek klas i izvorima'!F33 -> 0 | F30: ='Prihodi po ek klas i izvorima'!G33 -> 0 | G30: ='Prihodi po ek klas i izvorima'!H33 -> 0
B31: 639 | C31: Prijenosi između proračunskih korisnika | D31: =SUM(D32) -> 0 | E31: =SUM(E32) -> 0 | F31: =SUM(F32) -> 0 | G31: =SUM(G32) -> 0
B32: 6391 | C32: Tekući prijenosi između proračunskih korisnika | D32: ='Prihodi po ek klas i izvorima'!E35 -> 0 | E32: ='Prihodi po ek klas i izvorima'!F35 -> 0 | F32: ='Prihodi po ek klas i izvorima'!G35 -> 0 | G32: ='Prihodi po ek klas i izvorima'!H35 -> 0
B33: 64 | C33: Prihodi od imovine | D33: =D34+D36+D38+D39 -> 40.76 | E33: =E34+E36+E38+E39 -> 200 | F33: =F34+F36+F38+F39 -> 200 | G33: =G34+G36+G38+G39 -> 4.18
B34: 6413 | C34: Kamate na oročena sredstva i depozite po viđenju | D34: =SUM(D35) -> 24.01 | E34: =SUM(E35) -> 200 | F34: =SUM(F35) -> 200 | G34: =SUM(G35) -> 4.18
B35: 64132 | C35: Kamate na oročena sredstva i depozite po viđenju | D35: ='Prihodi po ek klas i izvorima'!E61 -> 24.01 | E35: ='Prihodi po ek klas i izvorima'!F61 -> 200 | F35: ='Prihodi po ek klas i izvorima'!G61 -> 200 | G35: ='Prihodi po ek klas i izvorima'!H61 -> 4.18
B36: 6414 | C36: Prihodi od zateznih kamata | D36: =SUM(D37) -> 16.75 | E36: =SUM(E37) -> 0 | F36: =SUM(F37) -> 0 | G36: =SUM(G37) -> 0
B37: 64143 | C37: Prihodi od zateznih kamata | D37: ='Prihodi po ek klas i izvorima'!E63 -> 16.75 | E37: ='Prihodi po ek klas i izvorima'!F63 -> 0 | F37: ='Prihodi po ek klas i izvorima'!G63 -> 0 | G37: ='Prihodi po ek klas i izvorima'!H63 -> 0
B38: 6419 | C38: Ostali prihode o financijske imovine | D38: ='Prihodi po ek klas i izvorima'!E39+'Prihodi po ek klas i izvorima'!E64 -> 0 | E38: ='Prihodi po ek klas i izvorima'!F39+'Prihodi po ek klas i izvorima'!F64 -> 0 | F38: ='Prihodi po ek klas i izvorima'!G39+'Prihodi po ek klas i izvorima'!G64 -> 0 | G38: ='Prihodi po ek klas i izvorima'!H39+'Prihodi po ek klas i izvorima'!H64 -> 0
B39: 6429 | C39: Ostali prihodi od nefinancijske imovine | D39: ='Prihodi po ek klas i izvorima'!E65 -> 0 | E39: ='Prihodi po ek klas i izvorima'!F65 -> 0 | F39: ='Prihodi po ek klas i izvorima'!G65 -> 0 | G39: ='Prihodi po ek klas i izvorima'!H65 -> 0
B40: 65 | C40: Prihodi po posebnim propisima | D40: =D41 -> 78585.41 | E40: =E41 -> 53000 | F40: =F41 -> 53000 | G40: =G41 -> 48280.21
B41: 652 | C41: Prihodi po posebnim propisima | D41: =SUM(D42) -> 78585.41 | E41: =SUM(E42) -> 53000 | F41: =SUM(F42) -> 53000 | G41: =SUM(G42) -> 48280.21
B42: 6526 | C42: Ostali nespomenuti prihodi (participacija) | D42: =SUM(D43:D46) -> 78585.41 | E42: =SUM(E43:E46) -> 53000 | F42: =SUM(F43:F46) -> 53000 | G42: =SUM(G43:G46) -> 48280.21
B43: 65264 | C43: Sufinanciranje cijene usluge, participacija | D43: ='Prihodi po ek klas i izvorima'!E43 -> 51154.92 | E43: ='Prihodi po ek klas i izvorima'!F43 -> 44000 | F43: ='Prihodi po ek klas i izvorima'!G43 -> 44000 | G43: ='Prihodi po ek klas i izvorima'!H43 -> 47712.18
B44: 65265 | C44: Dopunsko osiguranje | D44: ='Prihodi po ek klas i izvorima'!E44 -> 0 | E44: ='Prihodi po ek klas i izvorima'!F44 -> 0 | F44: ='Prihodi po ek klas i izvorima'!G44 -> 0 | G44: ='Prihodi po ek klas i izvorima'!H44 -> 0
B45: 65267 | C45: Prihodi od osiguranja i refundacije štete | D45: ='Prihodi po ek klas i izvorima'!E85 -> 8798.23 | E45: ='Prihodi po ek klas i izvorima'!F85 -> 5500 | F45: ='Prihodi po ek klas i izvorima'!G85 -> 5500 | G45: ='Prihodi po ek klas i izvorima'!H85 -> 0
B46: 65269 | C46: Refundacija plaća specijalizanata | D46: ='Prihodi po ek klas i izvorima'!E45 -> 18632.26 | E46: ='Prihodi po ek klas i izvorima'!F45 -> 3500 | F46: ='Prihodi po ek klas i izvorima'!G45 -> 3500 | G46: ='Prihodi po ek klas i izvorima'!H45 -> 568.03
B47: 66 | C47: Prihodi od prodaje i donacija | D47: =D48+D53 -> 144110.86 | E47: =E48+E53 -> 249583.29 | F47: =F48+F53 -> 213416.33 | G47: =G48+G53 -> 137833.68
B48: 661 | C48: Prihodi od prodaje roba i pruženih usluga (vlastiti prihodi) | D48: =SUM(D49:D50) -> 140153.61 | E48: =SUM(E49:E50) -> 199083.29 | F48: =SUM(F49:F50) -> 162916.33 | G48: =SUM(G49:G50) -> 137833.68
B49: 6614 | C49: Prihodi od prodaje proizvoda i robe | D49: ='Prihodi po ek klas i izvorima'!E68 -> 0 | E49: ='Prihodi po ek klas i izvorima'!F68 -> 0 | F49: ='Prihodi po ek klas i izvorima'!G68 -> 0 | G49: ='Prihodi po ek klas i izvorima'!H68 -> 0
B50: 6615 | C50: Prihodi od pruženih usluga | D50: =SUM(D51:D52) -> 140153.61 | E50: =SUM(E51:E52) -> 199083.29 | F50: =SUM(F51:F52) -> 162916.33 | G50: =SUM(G51:G52) -> 137833.68
B51: 66151 | C51: Prihodi od pruženih usluga | D51: ='Prihodi po ek klas i izvorima'!E70 -> 139946.23 | E51: ='Prihodi po ek klas i izvorima'!F70 -> 199083.29 | F51: ='Prihodi po ek klas i izvorima'!G70 -> 162916.33 | G51: ='Prihodi po ek klas i izvorima'!H70 -> 137833.68
B52: 66153 | C52: Prihodi za udio troškova u zakupu | D52: ='Prihodi po ek klas i izvorima'!E71 -> 207.38 | E52: ='Prihodi po ek klas i izvorima'!F71 -> 0 | F52: ='Prihodi po ek klas i izvorima'!G71 -> 0 | G52: ='Prihodi po ek klas i izvorima'!H71 -> 0
B53: 663 | C53: Donacije od pravnih i fizičkih osoba izvan proračuna | D53: =D54+D56 -> 3957.25 | E53: =E54+E56 -> 50500 | F53: =F54+F56 -> 50500 | G53: =G54+G56 -> 0
B54: 6631 | C54: Tekuće donacije | D54: =SUM(D55) -> 3957.25 | E54: =SUM(E55) -> 50500 | F54: =SUM(F55) -> 50500 | G54: =SUM(G55) -> 0
B55: 66313 | C55: Tekuće donacije | D55: ='Prihodi po ek klas i izvorima'!E79 -> 3957.25 | E55: ='Prihodi po ek klas i izvorima'!F79 -> 50500 | F55: ='Prihodi po ek klas i izvorima'!G79 -> 50500 | G55: ='Prihodi po ek klas i izvorima'!H79 -> 0
B56: 6632 | C56: Kapitalne donacije | D56: ='Prihodi po ek klas i izvorima'!E80 -> 0 | E56: ='Prihodi po ek klas i izvorima'!F80 -> 0 | F56: ='Prihodi po ek klas i izvorima'!G80 -> 0 | G56: ='Prihodi po ek klas i izvorima'!H80 -> 0
B57: 67 | C57: Prihodi iz nadležnog proračuna i HZZOa | D57: =SUM(D58,D63) -> 4545915.2 | E57: =SUM(E58,E63) -> 4268458.4 | F57: =SUM(F58,F63) -> 4507360.7 | G57: =SUM(G58,G63) -> 4845552.8
B58: 671 | C58: Prihodi iz nadležnog proračuna za financiranje redovne djelatnosti proračunskih korisnika | D58: =D59+D61 -> 397160.43 | E58: =E59+E61 -> 369361.73 | F58: =F59+F61 -> 608264.02 | G58: =G59+G61 -> 618103.51
B59: 6711 | C59: Prihodi iz nadležnog proračuna za financiranje rashoda poslovanja | D59: =SUM(D60) -> 141650.92 | E59: =SUM(E60) -> 103638.02 | F59: =SUM(F60) -> 342988.02 | G59: =SUM(G60) -> 352987.51
B60: 67111 | C60: Prihodi iz nadležnog proračuna za financiranje rashoda poslovanja | D60: ='Prihodi po ek klas i izvorima'!E12 -> 141650.92 | E60: ='Prihodi po ek klas i izvorima'!F12 -> 103638.02 | F60: ='Prihodi po ek klas i izvorima'!G12 -> 342988.02 | G60: ='Prihodi po ek klas i izvorima'!H12 -> 352987.51
B61: 6712 | C61: Prihodi iz nadležnog proračuna za nabavu nefinancijske imovine | D61: =SUM(D62) -> 255509.51 | E61: =SUM(E62) -> 265723.71 | F61: =SUM(F62) -> 265276 | G61: =SUM(G62) -> 265116
B62: 67121 | C62: Prihodi iz nadležnog proračuna za nabavu nefinancijske imovine | D62: ='Prihodi po ek klas i izvorima'!E14 -> 255509.51 | E62: ='Prihodi po ek klas i izvorima'!F14 -> 265723.71 | F62: ='Prihodi po ek klas i izvorima'!G14 -> 265276 | G62: ='Prihodi po ek klas i izvorima'!H14 -> 265116
B63: 673 | C63: Prihodi od HZZO-a | D63: =SUM(D64) -> 4148754.7 | E63: =SUM(E64) -> 3899096.7 | F63: =SUM(F64) -> 3899096.7 | G63: =SUM(G64) -> 4227449.3
B64: 6731 | C64: Prihodi od HZZO-a temeljem ugovora | D64: =D65 -> 4148754.7 | E64: =E65 -> 3899096.7 | F64: =F65 -> 3899096.7 | G64: =G65 -> 4227449.3
B65: 67311 | C65: Prihodi od HZZO-a temeljem ugovora | D65: ='Prihodi po ek klas i izvorima'!E52 -> 4148754.7 | E65: ='Prihodi po ek klas i izvorima'!F52 -> 3899096.7 | F65: ='Prihodi po ek klas i izvorima'!G52 -> 3899096.7 | G65: ='Prihodi po ek klas i izvorima'!H52 -> 4227449.3
B66: 68 | C66: Kazne, upravne mjere i ostali prihodi | D66: =SUM(D67) -> 712.71 | E66: =SUM(E67) -> 3000 | F66: =SUM(F67) -> 3000 | G66: =SUM(G67) -> 340.07
B67: 683 | C67: Ostali prihodi | D67: =D68 -> 712.71 | E67: =E68 -> 3000 | F67: =F68 -> 3000 | G67: =G68 -> 340.07
B68: 6831 | C68: Ostali prihodi | D68: =D69 -> 712.71 | E68: =E69 -> 3000 | F68: =F69 -> 3000 | G68: =G69 -> 340.07
B69: 68311 | C69: Ostali prihodi | D69: ='Prihodi po ek klas i izvorima'!E56 -> 712.71 | E69: ='Prihodi po ek klas i izvorima'!F56 -> 3000 | F69: ='Prihodi po ek klas i izvorima'!G56 -> 3000 | G69: ='Prihodi po ek klas i izvorima'!H56 -> 340.07
A70: 7 | C70: Prihodi od prodaje nefinancijske imovine | D70: =SUM(D71) -> 0 | E70: =SUM(E71) -> 0 | F70: =SUM(F71) -> 800 | G70: =SUM(G71) -> 800
B71: 72 | C71: Prihodi od prodaje proizvedene dugotrajne imovine | D71: =SUM(D72,D74) -> 0 | E71: =SUM(E72,E74) -> 0 | F71: =SUM(F72,F74) -> 800 | G71: =SUM(G72,G74) -> 800
B72: 721 | C72: Prihodi od prodaje građevinskih objekata | D72: =D73 -> 0 | E72: =E73 -> 0 | F72: =F73 -> 0 | G72: =G73 -> 0
B73: 7211 | C73: Stambeni objekti | D73: ='Prihodi po ek klas i izvorima'!E90 -> 0 | E73: ='Prihodi po ek klas i izvorima'!F90 -> 0 | F73: 0 | G73: 0
B74: 723 | C74: Prihodi od prodaje prijevoznih sredstava | D74: =D75 -> 0 | E74: =E75 -> 0 | F74: =F75 -> 800 | G74: =G75 -> 800
B75: 7231 | C75: Prijevozna sredstva u cestovnom prometu | D75: ='Prihodi po ek klas i izvorima'!E92 -> 0 | E75: ='Prihodi po ek klas i izvorima'!F92 -> 0 | F75: =F76 -> 800 | G75: =G76 -> 800
B76: 72313 | C76: Kombi vozila | D76: ='Prihodi po ek klas i izvorima'!E93 -> 0 | E76: ='Prihodi po ek klas i izvorima'!F93 -> 0 | F76: ='Prihodi po ek klas i izvorima'!G93 -> 800 | G76: ='Prihodi po ek klas i izvorima'!H93 -> 800
A77: UKUPNO PRIHODI I PRIMICI: | D77: =D10+D70 -> 5100997.3 | E77: =E10+E70 -> 4702255.6 | F77: =F10+F70 -> 5292700.8 | G77: =G10+G70 -> 5342526.1

Sheet RASHODI-ek.kl.
A1: I. OPĆI DIO
A2: A. RAČUN PRIHODA I RASHODA
A4: RASHODI PREMA EKONOMSKOJ KLASIFIKACIJI
A7: PRIHODI POSLOVANJA
A8: Razred | B8: Skupina/podskupina/odjeljak | C8: Naziv | E8: Izvršenje prethodne godine I.-VI. 2022. | G8: REBALANS 2023.
A9: 1 | E9: 2 | G9: 3
A10: 6 | E10: =E11+E26+E30+E33+E40+E43 -> 24659146 | G10: =G11+G26+G30+G33+G40+G43 -> 63888652
B11: 63 | C11: Pomoći | E11: =E12+E14+E17+E19+E21+E24 -> 324811.47 | G11: =SUM(G12,G14,G17,G19,G21,G24) -> 639378.86
B12: 632 | C12: Pomoći od međunaodnih organizacija te institucija i tijela EU | E12: =SUM(E13) -> 0 | G12: =SUM(G13) -> 0
B13: 6324 | C13: Kapitalne pomoći od instucija i tijela EU | E13: 0 | G13: 0
B14: 633 | C14: Pomoć proračunu iz drugih proračuna | E14: =SUM(E15:E16) -> 50556.109 | G14: =SUM(G15:G16) -> 0
B15: 6331 | C15: Tekuća pomoć proračunu iz drugih proračuna | E15: =380915/7.5345 -> 50556.109 | G15: 0
B16: 6332 | C16: Kapitalna pomoć proračunu iz drugih proračuna | E16: 0 | G16: 0
B17: 634 | C17: Pomoći od izvanproračunskih korisnika | E17: =SUM(E18) -> 111981.95 | G17: =SUM(G18) -> 366500.76
B18: 6341 | C18: Tekuće pomoći od HZZ-a, HZZO-a | E18: =843728/7.5345 -> 111981.95 | G18: 366500.76
B19: 636 | C19: Pomoć proračunskim korisnicima iz prorač.koji im nije nadležan | E19: =SUM(E20) -> 54857.124 | G19: =SUM(G20) -> 796.34
B20: 6361 | C20: Tekuće pomoći iz državnog prorač. prorač.korisnicima JLP(R)S | E20: =413321/7.5345 -> 54857.124 | G20: =796.34 -> 796.34
B21: 638 | C21: Pomoć temeljem prijenosa EU | E21: =SUM(E22:E23) -> 107244.81 | G21: =SUM(G23) -> 272081.76
B22: 6381 | C22: Tekuće pomoći temeljem prijenosa EU sredstava | E22: =493624/7.5345 -> 65515.164 | G22: 0
B23: 6382 | C23: kapitalna pomoć temeljem prijenosa EU | E23: =314412/7.5345 -> 41729.644 | G23: 272081.76
B24: 639 | C24: Prijenosi između proračunskih korisnika | E24: =SUM(E25) -> 171.47787 | G24: =SUM(G25) -> 0
B25: 6391 | C25: Tekući prijenosi između proračunskih korisnika | E25: =1292/7.5345 -> 171.47787 | G25: 0
B26: 64 | C26: Prihodi od imovine | E26: =SUM(E27:E29) -> 50144.535 | G26: =SUM(G27:G29) -> 120462.42
B27: 6413 | C27: Kamate na oročena sredstva i depozite po viđenju | E27: =439/7.5345 -> 58.265313 | G27: 746.44
B28: 6419 | C28: Ostali prihode o financijske imovine | E28: =376342/7.5345 -> 49949.167 | G28: 119450.53
B29: 6429 | C29: Ostali prihodi od nefinancijske imovine | E29: =1033/7.5345 -> 137.10266 | G29: =265.45 -> 265.45
B30: 65 | C30: Prihodi po posebnim propisima | E30: =E31 -> 1523828.4 | G30: =SUM(G31) -> 6950029.9
B31: 652 | C31: Prihodi po posebnim propisima | E31: =SUM(E32) -> 1523828.4 | G31: =SUM(G32) -> 6950029.9
B32: 6526 | C32: Ostali nespomenuti prihodi (participacija) | E32: =11481285/7.5345 -> 1523828.4 | G32: =6950029.86 -> 6950029.9
B33: 66 | C33: Prihodi od prodaje i donacija | E33: =E34+E37 -> 1701559.2 | G33: =SUM(G34,G37) -> 3641484.9
B34: 661 | C34: Prihodi od prodaje roba i pruženih usluga (vlastiti prihodi) | E34: =SUM(E35:E36) -> 1677912 | G34: =SUM(G36,G35) -> 3521370.8
B35: 6614 | C35: Prihodi od prodaje proizvoda i robe | E35: =6216809/7.5345 -> 825112.35 | G35: 1725396.5
B36: 6615 | C36: Prihodi od pruženih usluga | E36: =6425419/7.5345 -> 852799.65 | G36: 1795974.2
B37: 663 | C37: Donacije od pravnih i fizičkih osoba izvan proračuna | E37: =SUM(E38:E39) -> 23647.223 | G37: =SUM(G38:G39) -> 120114.13
B38: 6631 | C38: Tekuće donacije | E38: =5000/7.5345 -> 663.61404 | G38: 53752.73
B39: 6632 | C39: Kapitalne donacije | E39: =173170/7.5345 -> 22983.609 | G39: 66361.4
B40: 67 | C40: Prihodi iz nadležnog proračuna i HZZOa | E40: =SUM(E41) -> 20985600 | G40: =SUM(G41) -> 52367289
B41: 673 | C41: Prihodi od HZZO-a | E41: =SUM(E42) -> 20985600 | G41: =SUM(G42) -> 52367289
B42: 6731 | C42: Prihodi od HZZO-a temeljem ugovora | E42: =158116000/7.5345 -> 20985600 | G42: 52367289
B43: 68 | C43: Kazne, upravne mjere i ostali prihodi | E43: =SUM(E44) -> 73202.601 | G43: =SUM(G44) -> 170007.44
B44: 683 | C44: Ostali prihodi | E44: =SUM(E45) -> 73202.601 | G44: =SUM(G45) -> 170007.44
B45: 6831 | C45: Ostali prihodi | E45: =551545/7.5345 -> 73202.601 | G45: 170007.44
A46: 7 | C46: Prihodi od prodaje nefinancijske imovine | E46: =E48 -> 206.78214 | G46: =SUM(G47) -> 7432.48
B47: 72 | C47: Prihodi od prodaje proizvedene dugotrajne imovine | E47: =SUM(E48) -> 206.78214 | G47: =SUM(G48) -> 7432.48
B48: 721 | C48: Prihodi od prodaje građevinskih objekata | E48: =SUM(E49) -> 206.78214 | G48: =SUM(G49,G50) -> 7432.48
B49: 7211 | C49: Stambeni objekti | E49: =1558/7.5345 -> 206.78214 | G49: 796.34
B50: 7231 | C50: Prijevozna sredstva u cestovnom prometu | E50: 0 | G50: 6636.14
A51: UKUPNO PRIHODI I PRIMICI: | E51: =E10+E46 -> 24659353 | G51: =G10+G46 -> 63896085
A54: RASHODI POSLOVANJA
A55: Razred | B55: Skupina/podskupina/odjeljak | C55: Naziv | D55: OSTVARENJE/ IZVRŠENJE 1.-12.2024. | E55: IZVORNI PLAN ZA 2025. | F55: TEKUĆI PLAN 2025. | G55: OSTVARENJE/ IZVRŠENJE 1.-12.2025.
A56: 1 | E56: 2 | G56: 3
A57: 3 | C57: RASHODI POSLOVANJA | D57: =D58+D82+D179+D191+D195+D200 -> 5084825.9 | E57: =E58+E82+E179+E191+E195+E200 -> 4299508.7 | F57: =F58+F82+F179+F191+F195+F200 -> 4337963.5 | G57: =G58+G82+G179+G191+G195+G200 -> 4919030.6
B58: 31 | C58: Rashodi za zaposlene | D58: =SUM(D59,D68,D76) -> 4163364.8 | E58: =SUM(E59,E68,E76) -> 3228791.6 | F58: =SUM(F59,F68,F76) -> 3308338 | G58: =SUM(G59,G68,G76) -> 4115993.3
B59: 311 | C59: Plaće (Bruto) | D59: =D60+D64+D66 -> 3472401.9 | E59: =E60+E64+E66 -> 2663983.7 | F59: =F60+F64+F66 -> 2728609 | G59: =G60+G64+G66 -> 3415471.3
B60: 3111 | C60: Plaće za redovan rad | D60: =D61+D62 -> 3350820.2 | E60: =E61+E62 -> 2614876.3 | F60: =F61+F62 -> 2679501.5 | G60: =G61+G62 -> 3315609.7
B61: 31111 | C61: Plaće za redovan rad | D61: =' PRIHODI I RASHODI-izvori'!E15+' PRIHODI I RASHODI-izvori'!E104+' PRIHODI I RASHODI-izvori'!E294+' PRIHODI I RASHODI-izvori'!E400 -> 3349104.2 | E61: =' PRIHODI I RASHODI-izvori'!F15+' PRIHODI I RASHODI-izvori'!F104+' PRIHODI I RASHODI-izvori'!F294+' PRIHODI I RASHODI-izvori'!F400 -> 2609876.3 | F61: =' PRIHODI I RASHODI-izvori'!G15+' PRIHODI I RASHODI-izvori'!G104+' PRIHODI I RASHODI-izvori'!G294+' PRIHODI I RASHODI-izvori'!G400 -> 2674501.5 | G61: =' PRIHODI I RASHODI-izvori'!H15+' PRIHODI I RASHODI-izvori'!H104+' PRIHODI I RASHODI-izvori'!H294+' PRIHODI I RASHODI-izvori'!H400 -> 3315609.7
B62: 31113 | C62: Plaće po sudskim presudama | D62: =' PRIHODI I RASHODI-izvori'!E105 -> 1715.99 | E62: =' PRIHODI I RASHODI-izvori'!F105 -> 5000 | F62: =' PRIHODI I RASHODI-izvori'!G105 -> 5000 | G62: =' PRIHODI I RASHODI-izvori'!H105 -> 0
B63: 3112 | C63: Plaće u naravi
B64: 3113 | C64: Plaće za prekovremeni rad | D64: =D65 -> 79831.87 | E64: =E65 -> 49107.44 | F64: =F65 -> 49107.44 | G64: =G65 -> 99861.59
B65: 31131 | C65: Plaće za prekovremeni rad | D65: =' PRIHODI I RASHODI-izvori'!E108 -> 79831.87 | E65: =' PRIHODI I RASHODI-izvori'!F108 -> 49107.44 | F65: =' PRIHODI I RASHODI-izvori'!G108 -> 49107.44 | G65: =' PRIHODI I RASHODI-izvori'!H108 -> 99861.59
B66: 3114 | C66: Plaće za posebne uvjete rada | D66: =D67 -> 41749.86 | E66: =E67 -> 0 | F66: =F67 -> 0 | G66: =G67 -> 0
B67: 31141 | C67: Plaće za posebne uvjete rada | D67: =' PRIHODI I RASHODI-izvori'!E110+' PRIHODI I RASHODI-izvori'!E298+' PRIHODI I RASHODI-izvori'!E403 -> 41749.86 | E67: =' PRIHODI I RASHODI-izvori'!F110+' PRIHODI I RASHODI-izvori'!F298+' PRIHODI I RASHODI-izvori'!F403 -> 0 | F67: =' PRIHODI I RASHODI-izvori'!G110+' PRIHODI I RASHODI-izvori'!G298+' PRIHODI I RASHODI-izvori'!G403 -> 0 | G67: =' PRIHODI I RASHODI-izvori'!H110+' PRIHODI I RASHODI-izvori'!H298+' PRIHODI I RASHODI-izvori'!H403 -> 0
B68: 312 | C68: Ostali rashodi za zaposlene | D68: =SUM(D69) -> 145684.44 | E68: =SUM(E69) -> 128191.98 | F68: =SUM(F69) -> 129591.98 | G68: =SUM(G69) -> 141537.11
B69: 3121 | C69: Ostali rashodi za zaposlene | D69: =SUM(D70:D75) -> 145684.44 | E69: =SUM(E70:E75) -> 128191.98 | F69: =SUM(F70:F75) -> 129591.98 | G69: =SUM(G70:G75) -> 141537.11
B70: 31212 | C70: Ostali rashodi za zaposlene-nagrade | D70: =' PRIHODI I RASHODI-izvori'!E18+' PRIHODI I RASHODI-izvori'!E113 -> 32979.2 | E70: =' PRIHODI I RASHODI-izvori'!F18+' PRIHODI I RASHODI-izvori'!F113 -> 13000 | F70: =' PRIHODI I RASHODI-izvori'!G18+' PRIHODI I RASHODI-izvori'!G113 -> 13000 | G70: =' PRIHODI I RASHODI-izvori'!H18+' PRIHODI I RASHODI-izvori'!H113 -> 39526.31
B71: 31213 | C71: Darovi | D71: =' PRIHODI I RASHODI-izvori'!E19+' PRIHODI I RASHODI-izvori'!E114 -> 30736.17 | E71: =' PRIHODI I RASHODI-izvori'!F19+' PRIHODI I RASHODI-izvori'!F114 -> 25000 | F71: =' PRIHODI I RASHODI-izvori'!G19+' PRIHODI I RASHODI-izvori'!G114 -> 25000 | G71: =' PRIHODI I RASHODI-izvori'!H19+' PRIHODI I RASHODI-izvori'!H114 -> 22986.48
B72: 31214 | C72: Otpremnine | D72: =' PRIHODI I RASHODI-izvori'!E115 -> 0 | E72: =' PRIHODI I RASHODI-izvori'!F115 -> 2000 | F72: =' PRIHODI I RASHODI-izvori'!G115 -> 2000 | G72: =' PRIHODI I RASHODI-izvori'!H115 -> 0
B73: 31215 | C73: Naknade za bolest, invalidnost i smrt | D73: =' PRIHODI I RASHODI-izvori'!E116 -> 4022.98 | E73: =' PRIHODI I RASHODI-izvori'!F116 -> 3800 | F73: =' PRIHODI I RASHODI-izvori'!G116 -> 3800 | G73: =' PRIHODI I RASHODI-izvori'!H116 -> 2524.32
B74: 31216 | C74: Regres za godišnji odmor | D74: =' PRIHODI I RASHODI-izvori'!E117+' PRIHODI I RASHODI-izvori'!E406 -> 39900 | E74: =' PRIHODI I RASHODI-izvori'!F117+' PRIHODI I RASHODI-izvori'!F406 -> 40300 | F74: =' PRIHODI I RASHODI-izvori'!G117+' PRIHODI I RASHODI-izvori'!G406 -> 40900 | G74: =' PRIHODI I RASHODI-izvori'!H117+' PRIHODI I RASHODI-izvori'!H406 -> 36600
B75: 31219 | C75: Ostali nenavedeni rashodi za zaposlene | D75: =' PRIHODI I RASHODI-izvori'!E118+' PRIHODI I RASHODI-izvori'!E301+' PRIHODI I RASHODI-izvori'!E407 -> 38046.09 | E75: =' PRIHODI I RASHODI-izvori'!F118+' PRIHODI I RASHODI-izvori'!F301+' PRIHODI I RASHODI-izvori'!F407 -> 44091.98 | F75: =' PRIHODI I RASHODI-izvori'!G118+' PRIHODI I RASHODI-izvori'!G301+' PRIHODI I RASHODI-izvori'!G407 -> 44891.98 | G75: =' PRIHODI I RASHODI-izvori'!H118+' PRIHODI I RASHODI-izvori'!H301+' PRIHODI I RASHODI-izvori'!H407 -> 39900
B76: 313 | C76: Doprinosi na plaće | D76: =D77+D78+D80 -> 545278.49 | E76: =E77+E78+E80 -> 436615.92 | F76: =F77+F78+F80 -> 450137.07 | G76: =G77+G78+G80 -> 558984.91
B77: 3131 | C77: Doprinosi za mirovinsko osiguranje
B78: 3132 | C78: Doprinosi za obavezno zdravst.osig. | D78: =D79 -> 545240.75 | E78: =E79 -> 436615.92 | F78: =F79 -> 450137.07 | G78: =G79 -> 558972.6
B79: 31321 | C79: Doprinosi za obavezno zdravst.osig. | D79: =' PRIHODI I RASHODI-izvori'!E22+' PRIHODI I RASHODI-izvori'!E121+' PRIHODI I RASHODI-izvori'!E304+' PRIHODI I RASHODI-izvori'!E410 -> 545240.75 | E79: =' PRIHODI I RASHODI-izvori'!F22+' PRIHODI I RASHODI-izvori'!F121+' PRIHODI I RASHODI-izvori'!F304+' PRIHODI I RASHODI-izvori'!F410 -> 436615.92 | F79: =' PRIHODI I RASHODI-izvori'!G22+' PRIHODI I RASHODI-izvori'!G121+' PRIHODI I RASHODI-izvori'!G304+' PRIHODI I RASHODI-izvori'!G410 -> 450137.07 | G79: =' PRIHODI I RASHODI-izvori'!H22+' PRIHODI I RASHODI-izvori'!H121+' PRIHODI I RASHODI-izvori'!H304+' PRIHODI I RASHODI-izvori'!H410 -> 558972.6
B80: 3133 | C80: Doprinosi za zapošljavanje | D80: =D81 -> 37.74 | E80: =E81 -> 0 | F80: =F81 -> 0 | G80: =G81 -> 12.31
B81: 31332 | C81: Doprinosi za obvezno osiguranje u slučaju nezaposlenosti | D81: =' PRIHODI I RASHODI-izvori'!E123 -> 37.74 | E81: =' PRIHODI I RASHODI-izvori'!F123 -> 0 | F81: =' PRIHODI I RASHODI-izvori'!G123 -> 0 | G81: =' PRIHODI I RASHODI-izvori'!H123 -> 12.31
B82: 32 | C82: Materijalni rashodi | D82: =D83+D95+D120+D151+D154+D158 -> 905498.14 | E82: =E83+E95+E120+E151+E154+E158 -> 1058244.5 | F82: =F83+F95+F120+F151+F154+F158 -> 1017152.9 | G82: =G83+G95+G120+G151+G154+G158 -> 795794.39
B83: 321 | C83: Naknade troškova zaposlenima | D83: =D84+D88+D90+D93 -> 116890.74 | E83: =E84+E88+E90+E93 -> 133321.71 | F83: =F84+F88+F90+F93 -> 152963.71 | G83: =G84+G88+G90+G93 -> 101793.2
B84: 3211 | C84: Službena putovanja | D84: =SUM(D85:D87) -> 7683.1005 | E84: =SUM(E85:E87) -> 25357.02 | F84: =SUM(F85:F87) -> 33357.02 | G84: =SUM(G85:G87) -> 5108.32
B85: 32111 | C85: Dnevnice za službeni put u zemlji | D85: =' PRIHODI I RASHODI-izvori'!E26+' PRIHODI I RASHODI-izvori'!E127+' PRIHODI I RASHODI-izvori'!E414+' PRIHODI I RASHODI-izvori'!E497 -> 5910.0005 | E85: =' PRIHODI I RASHODI-izvori'!F26+' PRIHODI I RASHODI-izvori'!F127+' PRIHODI I RASHODI-izvori'!F414+' PRIHODI I RASHODI-izvori'!F497 -> 17016.17 | F85: =' PRIHODI I RASHODI-izvori'!G26+' PRIHODI I RASHODI-izvori'!G127+' PRIHODI I RASHODI-izvori'!G414+' PRIHODI I RASHODI-izvori'!G497 -> 17516.17 | G85: =' PRIHODI I RASHODI-izvori'!H26+' PRIHODI I RASHODI-izvori'!H127+' PRIHODI I RASHODI-izvori'!H414+' PRIHODI I RASHODI-izvori'!H497 -> 3349.32
B86: 32113 | C86: Naknade za smještaj na službenom putu u zemlji | D86: =' PRIHODI I RASHODI-izvori'!E128+' PRIHODI I RASHODI-izvori'!E415 -> 0 | E86: =' PRIHODI I RASHODI-izvori'!F128+' PRIHODI I RASHODI-izvori'!F415 -> 700 | F86: =' PRIHODI I RASHODI-izvori'!G128+' PRIHODI I RASHODI-izvori'!G415 -> 5800 | G86: =' PRIHODI I RASHODI-izvori'!H128+' PRIHODI I RASHODI-izvori'!H415 -> 827.6
B87: 32115 | C87: Naknade za prijevoz na službenom putu u zemlji | D87: =' PRIHODI I RASHODI-izvori'!E129+' PRIHODI I RASHODI-izvori'!E308+' PRIHODI I RASHODI-izvori'!E498+' PRIHODI I RASHODI-izvori'!E416 -> 1773.1 | E87: =' PRIHODI I RASHODI-izvori'!F129+' PRIHODI I RASHODI-izvori'!F308+' PRIHODI I RASHODI-izvori'!F498+' PRIHODI I RASHODI-izvori'!F416 -> 7640.85 | F87: =' PRIHODI I RASHODI-izvori'!G129+' PRIHODI I RASHODI-izvori'!G308+' PRIHODI I RASHODI-izvori'!G498+' PRIHODI I RASHODI-izvori'!G416 -> 10040.85 | G87: =' PRIHODI I RASHODI-izvori'!H129+' PRIHODI I RASHODI-izvori'!H308+' PRIHODI I RASHODI-izvori'!H498+' PRIHODI I RASHODI-izvori'!H416 -> 931.4
B88: 3212 | C88: Naknade za prijevoz, odvojeni život | D88: =D89 -> 103824.51 | E88: =E89 -> 100465.85 | F88: =F89 -> 106865.85 | G88: =G89 -> 92088
B89: 32121 | C89: Naknade za prijevoz | D89: =' PRIHODI I RASHODI-izvori'!E131+' PRIHODI I RASHODI-izvori'!E310+' PRIHODI I RASHODI-izvori'!E418 -> 103824.51 | E89: =' PRIHODI I RASHODI-izvori'!F131+' PRIHODI I RASHODI-izvori'!F310+' PRIHODI I RASHODI-izvori'!F418 -> 100465.85 | F89: =' PRIHODI I RASHODI-izvori'!G131+' PRIHODI I RASHODI-izvori'!G310+' PRIHODI I RASHODI-izvori'!G418 -> 106865.85 | G89: =' PRIHODI I RASHODI-izvori'!H131+' PRIHODI I RASHODI-izvori'!H310+' PRIHODI I RASHODI-izvori'!H418 -> 92088
B90: 3213 | C90: Stručno usavršavanje zaposlenih | D90: =SUM(D91:D92) -> 5383.13 | E90: =SUM(E91:E92) -> 7100.67 | F90: =SUM(F91:F92) -> 12342.67 | G90: =SUM(G91:G92) -> 4596.88
B91: 32131 | C91: Seminari, savjetovanja i simpoziji | D91: =' PRIHODI I RASHODI-izvori'!E28+' PRIHODI I RASHODI-izvori'!E133 -> 1080 | E91: =' PRIHODI I RASHODI-izvori'!F28+' PRIHODI I RASHODI-izvori'!F133 -> 2200 | F91: =' PRIHODI I RASHODI-izvori'!G28+' PRIHODI I RASHODI-izvori'!G133 -> 2200 | G91: =' PRIHODI I RASHODI-izvori'!H28+' PRIHODI I RASHODI-izvori'!H133 -> 1802.75
B92: 32132 | C92: Tečajevi i stručni ispiti | D92: =' PRIHODI I RASHODI-izvori'!E134+' PRIHODI I RASHODI-izvori'!E312+' PRIHODI I RASHODI-izvori'!E420 -> 4303.13 | E92: =' PRIHODI I RASHODI-izvori'!F134+' PRIHODI I RASHODI-izvori'!F312+' PRIHODI I RASHODI-izvori'!F420 -> 4900.67 | F92: =' PRIHODI I RASHODI-izvori'!G134+' PRIHODI I RASHODI-izvori'!G312+' PRIHODI I RASHODI-izvori'!G420 -> 10142.67 | G92: =' PRIHODI I RASHODI-izvori'!H134+' PRIHODI I RASHODI-izvori'!H312+' PRIHODI I RASHODI-izvori'!H420 -> 2794.13
B93: 3214 | C93: Ostale naknade troškova zaposlenima | D93: =D94 -> 0 | E93: =E94 -> 398.17 | F93: =F94 -> 398.17 | G93: =G94 -> 0
B94: 32141 | C94: Naknada za korištenje privatnog automobila u službene svrhe | D94: =' PRIHODI I RASHODI-izvori'!E136 -> 0 | E94: =' PRIHODI I RASHODI-izvori'!F136 -> 398.17 | F94: =' PRIHODI I RASHODI-izvori'!G136 -> 398.17 | G94: =' PRIHODI I RASHODI-izvori'!H136 -> 0
B95: 322 | C95: Rashodi za materijal i energiju | D95: =D96+D102+D106+D111+D116+D118 -> 431247.24 | E95: =E96+E102+E106+E111+E116+E118 -> 492715.5 | F95: =F96+F102+F106+F111+F116+F118 -> 181956.2 | G95: =G96+G102+G106+G111+G116+G118 -> 121175.38
B96: 3221 | C96: Uredski materijal i ostali materijalni rashodi | D96: =SUM(D97:D101) -> 31308.19 | E96: =SUM(E97:E101) -> 30501.82 | F96: =SUM(F97:F101) -> 36501.82 | G96: =SUM(G97:G101) -> 26549.49
B97: 32211 | C97: Uredski materijal | D97: =' PRIHODI I RASHODI-izvori'!E31+' PRIHODI I RASHODI-izvori'!E139+' PRIHODI I RASHODI-izvori'!E316+' PRIHODI I RASHODI-izvori'!E423 -> 15555.7 | E97: =' PRIHODI I RASHODI-izvori'!F31+' PRIHODI I RASHODI-izvori'!F139+' PRIHODI I RASHODI-izvori'!F316+' PRIHODI I RASHODI-izvori'!F423 -> 12639.19 | F97: =' PRIHODI I RASHODI-izvori'!G31+' PRIHODI I RASHODI-izvori'!G139+' PRIHODI I RASHODI-izvori'!G316+' PRIHODI I RASHODI-izvori'!G423 -> 15439.19 | G97: =' PRIHODI I RASHODI-izvori'!H31+' PRIHODI I RASHODI-izvori'!H139+' PRIHODI I RASHODI-izvori'!H316+' PRIHODI I RASHODI-izvori'!H423 -> 11242.91
B98: 32212 | C98: Literatura | D98: =' PRIHODI I RASHODI-izvori'!E140 -> 0 | E98: =' PRIHODI I RASHODI-izvori'!F140 -> 500 | F98: =' PRIHODI I RASHODI-izvori'!G140 -> 500 | G98: =' PRIHODI I RASHODI-izvori'!H140 -> 565
B99: 32214 | C99: Materijal i sredstva za čišćenje i održavanje | D99: =' PRIHODI I RASHODI-izvori'!E32+' PRIHODI I RASHODI-izvori'!E141 -> 13684.64 | E99: =' PRIHODI I RASHODI-izvori'!F141 -> 15000 | F99: =' PRIHODI I RASHODI-izvori'!G32+' PRIHODI I RASHODI-izvori'!G141+' PRIHODI I RASHODI-izvori'!G424 -> 17000 | G99: =' PRIHODI I RASHODI-izvori'!H32+' PRIHODI I RASHODI-izvori'!H141+' PRIHODI I RASHODI-izvori'!H424 -> 10713.26
B100: 32215 | C100: Službena, radna i zaštitna odjeća | D100: =' PRIHODI I RASHODI-izvori'!E142 -> 0 | E100: =' PRIHODI I RASHODI-izvori'!F142 -> 700 | F100: =' PRIHODI I RASHODI-izvori'!G142 -> 700 | G100: =' PRIHODI I RASHODI-izvori'!H142 -> 0
B101: 32219 | C101: Ostali materijal za potrebe redovnog poslovanja | D101: =' PRIHODI I RASHODI-izvori'!E33+' PRIHODI I RASHODI-izvori'!E143+' PRIHODI I RASHODI-izvori'!E425 -> 2067.85 | E101: =' PRIHODI I RASHODI-izvori'!F33+' PRIHODI I RASHODI-izvori'!F143+' PRIHODI I RASHODI-izvori'!F425 -> 1662.63 | F101: =' PRIHODI I RASHODI-izvori'!G33+' PRIHODI I RASHODI-izvori'!G143+' PRIHODI I RASHODI-izvori'!G425 -> 2862.63 | G101: =' PRIHODI I RASHODI-izvori'!H33+' PRIHODI I RASHODI-izvori'!H143+' PRIHODI I RASHODI-izvori'!H425 -> 4028.32
B102: 3222 | C102: Materijal i sirovine | D102: =SUM(D103:D105) -> 236716.97 | E102: =SUM(E103:E105) -> 201075.05 | F102: =SUM(F103:F105) -> 0 | G102: =SUM(G103:G105) -> 0
B103: 32221 | C103: Potrošni medicinski materijal | D103: =' PRIHODI I RASHODI-izvori'!E35+' PRIHODI I RASHODI-izvori'!E145+' PRIHODI I RASHODI-izvori'!E318 -> 218514.66 | E103: =' PRIHODI I RASHODI-izvori'!F35+' PRIHODI I RASHODI-izvori'!F145+' PRIHODI I RASHODI-izvori'!F318 -> 177000 | F103: =' PRIHODI I RASHODI-izvori'!G35+' PRIHODI I RASHODI-izvori'!G145+' PRIHODI I RASHODI-izvori'!G318 -> 0 | G103: =' PRIHODI I RASHODI-izvori'!H35+' PRIHODI I RASHODI-izvori'!H145+' PRIHODI I RASHODI-izvori'!H318 -> 0
B104: 32226 | C104: Lijekovi | D104: =' PRIHODI I RASHODI-izvori'!E146+' PRIHODI I RASHODI-izvori'!E319 -> 17989.09 | E104: =' PRIHODI I RASHODI-izvori'!F146+' PRIHODI I RASHODI-izvori'!F319 -> 22954.21 | F104: =' PRIHODI I RASHODI-izvori'!G146+' PRIHODI I RASHODI-izvori'!G319 -> 0 | G104: =' PRIHODI I RASHODI-izvori'!H146+' PRIHODI I RASHODI-izvori'!H319 -> 0
B105: 32229 | C105: Ostali materijal i sirovine | D105: =' PRIHODI I RASHODI-izvori'!E147 -> 213.22 | E105: =' PRIHODI I RASHODI-izvori'!F147 -> 1120.84 | F105: =' PRIHODI I RASHODI-izvori'!G147 -> 0 | G105: =' PRIHODI I RASHODI-izvori'!H147 -> 0
...

Sheet Prihodi po ek klas i izvorima
A1: I. OPĆI DIO
A2: A. RAČUN PRIHODA
A3: PRIHODI PREMA EKONOMSKOJ KLASIFIKACIJI I IZVORIMA FINANCIRANJA
A5: PRIHODI POSLOVANJA
A6: Razred | B6: Skupina/podskupina/odjeljak | C6: Izvor | D6: Naziv | E6: OSTVARENJE/ IZVRŠENJE 1.-12.2024. | F6: IZVORNI PLAN ZA 2025. | G6: TEKUĆI PLAN 2025. | H6: OSTVARENJE/ IZVRŠENJE 1.-12.2025. | I6: Indeks | J6: Indeks
A7: 1 | E7: 2 | F7: 3 | G7: 4 | H7: 5 | I7: 6=5/3*100 | J7: 7=5/4*100
A8: 6 | D8: Prihodi poslovanja | E8: =SUM(E9,E16,E37,E40,E46,E53,E58,E66,E72,E76,E82) -> 5100997.3 | F8: =SUM(F9,F16,F37,F40,F46,F53,F58,F66,F72,F76,F82) -> 4702255.6 | G8: =SUM(G9,G16,G37,G40,G46,G53,G58,G66,G72,G76,G82) -> 5291900.8 | H8: =SUM(H9,H16,H37,H40,H46,H53,H58,H66,H72,H76,H82) -> 5341726.1 | I8: =IFERROR(H8/F8*100,H8) -> 113.59923 | J8: =IFERROR(H8/G8*100,H8) -> 100.94154
B9: 67 | D9: Prihodi iz nadležnog proračuna i od HZZO-a temeljem ugovornih obveza | E9: =E10 -> 397160.43 | F9: =F10 -> 369361.73 | G9: =G10 -> 608264.02 | H9: =H10 -> 618103.51 | I9: =IFERROR(H9/F9*100,H9) -> 167.34368 | J9: =IFERROR(H9/G9*100,H9) -> 101.61763
B10: 671 | D10: Prihodi iz nadležnog proračuna za financiranje redovne djelatnosti proračunskih korisnika | E10: =SUM(E11,E13) -> 397160.43 | F10: =SUM(F11,F13) -> 369361.73 | G10: =SUM(G11,G13) -> 608264.02 | H10: =SUM(H11,H13) -> 618103.51 | I10: =IFERROR(H10/F10*100,H10) -> 167.34368 | J10: =IFERROR(H10/G10*100,H10) -> 101.61763
B11: 6711 | D11: Prihodi iz nadležnog proračuna za financiranje rashoda poslovanja | E11: =E12 -> 141650.92 | F11: =F12 -> 103638.02 | G11: =G12 -> 342988.02 | H11: =H12 -> 352987.51 | I11: =IFERROR(H11/F11*100,H11) -> 340.59654 | J11: =IFERROR(H11/G11*100,H11) -> 102.91541
B12: 67111 | D12: Prihodi iz nadležnog proračuna za financiranje rashoda poslovanja | E12: 141650.92 | F12: 103638.02 | G12: 342988.02 | H12: 352987.51 | I12: =IFERROR(H12/F12*100,H12) -> 340.59654 | J12: =IFERROR(H12/G12*100,H12) -> 102.91541
B13: 6712 | D13: Prihodi iz nadležnog proračuna za nabavu nefinancijske imovine | E13: =E14 -> 255509.51 | F13: =F14 -> 265723.71 | G13: =G14 -> 265276 | H13: =H14 -> 265116 | I13: =IFERROR(H13/F13*100,H13) -> 99.7713 | J13: =IFERROR(H13/G13*100,H13) -> 99.939685
B14: 67121 | D14: Prihodi iz nadležnog proračuna za nabavu nefinancijske imovine | E14: 255509.51 | F14: 265723.71 | G14: 265276 | H14: 265116 | I14: =IFERROR(H14/F14*100,H14) -> 99.7713 | J14: =IFERROR(H14/G14*100,H14) -> 99.939685
C15: 11 | D15: Opći prihodi i primici | E15: =E9 -> 397160.43 | F15: =F9 -> 369361.73 | G15: =G9 -> 608264.02 | H15: =H9 -> 618103.51 | I15: =IFERROR(H15/F15*100,H15) -> 167.34368 | J15: =IFERROR(H15/G15*100,H15) -> 101.61763
B16: 63 | D16: Pomoći iz inozemstva i od subjekata unutar općeg proračuna | E16: =SUM(E17,E22,E25,E30,E34) -> 331632.4 | F16: =SUM(F17,F22,F25,F30,F34) -> 128013.95 | G16: =SUM(G17,G22,G25,G30,G34) -> 514923.83 | H16: =SUM(H17,H22,H25,H30,H34) -> 309715.23 | I16: =IFERROR(H16/F16*100,H16) -> 241.93866 | J16: =IFERROR(H16/G16*100,H16) -> 60.147776
B17: 633 | D17: Pomoći proračunu iz drugih proračuna | E17: =E18 -> 799.5 | F17: =F18 -> 0 | G17: =G18 -> 0 | H17: =H18 -> 0 | I17: =IFERROR(H17/F17*100,H17) -> 0 | J17: =IFERROR(H17/G17*100,H17) -> 0
B18: 6331 | D18: Tekuće pomoći proračunu iz drugih proračuna | E18: =E20 -> 799.5 | F18: =F20 -> 0 | G18: =G19+G20 -> 0 | H18: =H19+H20 -> 0 | I18: =IFERROR(H18/F18*100,H18) -> 0 | J18: =IFERROR(H18/G18*100,H18) -> 0
B19: 63312 | D19: Tekuće potpore iz županijskog proračuna | H19: 0 | I19: =IFERROR(H19/F19*100,H19) -> 0 | J19: =IFERROR(H19/G19*100,H19) -> 0
B20: 63313 | D20: Tekuće potpore iz gradskog proračuna | E20: 799.5 | F20: 0 | G20: 0 | H20: 0 | I20: =IFERROR(H20/F20*100,H20) -> 0 | J20: =IFERROR(H20/G20*100,H20) -> 0
B21: 6332 | D21: Kapitalne pomoći proračunu iz drugih proračuna | I21: =IFERROR(H21/F21*100,H21) -> 0 | J21: =IFERROR(H21/G21*100,H21) -> 0
B22: 634 | D22: Pomoći od izvanproračunskih korisnika | E22: =SUM(E23) -> 0 | F22: =SUM(F23) -> 68314.61 | G22: =SUM(G23) -> 68314.61 | H22: =SUM(H23) -> 0 | I22: =IFERROR(H22/F22*100,H22) -> 0 | J22: =IFERROR(H22/G22*100,H22) -> 0
B23: 6341 | D23: Tekuće pomoći od HZZ-a, HZZO-a | E23: =SUM(E24) -> 0 | F23: =SUM(F24) -> 68314.61 | G23: =SUM(G24) -> 68314.61 | H23: =SUM(H24) -> 0 | I23: =IFERROR(H23/F23*100,H23) -> 0 | J23: =IFERROR(H23/G23*100,H23) -> 0
B24: 63414 | D24: Tekuće pomoći od HZZ-a, HZZO-a | E24: 0 | F24: 68314.61 | G24: 68314.61 | H24: 0 | I24: =IFERROR(H24/F24*100,H24) -> 0 | J24: =IFERROR(H24/G24*100,H24) -> 0
B25: 636 | D25: Pomoći proračunskim korisnicima iz proračuna koji im nije nadležan | E25: =E26+E28 -> 299750 | F25: =F26+F28 -> 14000 | G25: =G26+G28 -> 298000 | H25: =H26+H28 -> 299750 | I25: =IFERROR(H25/F25*100,H25) -> 2141.0714 | J25: =IFERROR(H25/G25*100,H25) -> 100.58725
B26: 6361 | D26: Tekuće pomoći iz državnog proračuna proračunskim korisnicma JLP(R)S | E26: =SUM(E27) -> 14000 | F26: =SUM(F27) -> 14000 | G26: =SUM(G27) -> 14000 | H26: =SUM(H27) -> 14000 | I26: =IFERROR(H26/F26*100,H26) -> 100 | J26: =IFERROR(H26/G26*100,H26) -> 100
B27: 63612 | D27: Tekuće pomoći iz državnog proračuna proračunskim korisnicma JLP(R)S | E27: 14000 | F27: 14000 | G27: 14000 | H27: 14000 | I27: =IFERROR(H27/F27*100,H27) -> 100 | J27: =IFERROR(H27/G27*100,H27) -> 100
B28: 6362 | D28: Kapitalne pomoći iz državnog proračuna proračunskim korisnicima JLP(R)S | E28: =SUM(E29) -> 285750 | F28: =SUM(F29) -> 0 | G28: =SUM(G29) -> 284000 | H28: =SUM(H29) -> 285750 | I28: =IFERROR(H28/F28*100,H28) -> 285750 | J28: =IFERROR(H28/G28*100,H28) -> 100.6162
B29: 63622 | D29: Kapitalne pomoći iz državnog proračuna proračunskim korisnicima JLP(R)S | E29: 285750 | F29: 0 | G29: 284000 | H29: 285750 | I29: =IFERROR(H29/F29*100,H29) -> 285750 | J29: =IFERROR(H29/G29*100,H29) -> 100.6162
B30: 638 | D30: Pomoć temeljem prijenosa EU sredstava | E30: =SUM(E31,E33) -> 31082.9 | F30: =SUM(F31,F33) -> 45699.34 | G30: =SUM(G31,G33) -> 148609.22 | H30: =SUM(H31,H33) -> 9965.23 | I30: =IFERROR(H30/F30*100,H30) -> 21.80607 | J30: =IFERROR(H30/G30*100,H30) -> 6.7056607
B31: 6381 | D31: Tekuće pomoći temeljem prijenosa EU sredstava | E31: =SUM(E32) -> 31082.9 | F31: =SUM(F32) -> 45699.34 | G31: =SUM(G32) -> 148609.22 | H31: =SUM(H32) -> 9965.23 | I31: =IFERROR(H31/F31*100,H31) -> 21.80607 | J31: =IFERROR(H31/G31*100,H31) -> 6.7056607
B32: 63814 | D32: Tekuće pomoći temeljem prijenosa EU sredstava | E32: 31082.9 | F32: 45699.34 | G32: 148609.22 | H32: 9965.23 | I32: =IFERROR(H32/F32*100,H32) -> 21.80607 | J32: =IFERROR(H32/G32*100,H32) -> 6.7056607
B33: 6382 | D33: Kapitalna pomoć temeljem prijenosa EU sredstava | I33: =IFERROR(H33/F33*100,H33) -> 0 | J33: =IFERROR(H33/G33*100,H33) -> 0
B34: 639 | D34: Prijenosi između proračunskih korisnika istog proračuna | E34: =E35 -> 0 | F34: =F35 -> 0 | G34: =G35 -> 0 | H34: =H35 -> 0 | I34: =IFERROR(H34/F34*100,H34) -> 0 | J34: =IFERROR(H34/G34*100,H34) -> 0
B35: 6391 | D35: Tekući prijenosi između proračunskih korisnika istog proračuna | I35: =IFERROR(H35/F35*100,H35) -> 0 | J35: =IFERROR(H35/G35*100,H35) -> 0
C36: 52 | D36: Pomoći | E36: =SUM(E16) -> 331632.4 | F36: =SUM(F16) -> 128013.95 | G36: =SUM(G16) -> 514923.83 | H36: =SUM(H16) -> 309715.23 | I36: =IFERROR(H36/F36*100,H36) -> 241.93866 | J36: =IFERROR(H36/G36*100,H36) -> 60.147776
B37: 64 | D37: Prihodi od imovine | E37: =SUM(E38) -> 0 | F37: =SUM(F38) -> 0 | G37: =SUM(G38) -> 0 | H37: =SUM(H38) -> 0 | I37: =IFERROR(H37/F37*100,H37) -> 0 | J37: =IFERROR(H37/G37*100,H37) -> 0
B38: 641 | D38: Prihodi od financijske imovine | E38: =SUM(E39:E39) -> 0 | F38: =SUM(F39:F39) -> 0 | G38: =SUM(G39:G39) -> 0 | H38: =SUM(H39:H39) -> 0 | I38: =IFERROR(H38/F38*100,H38) -> 0 | J38: =IFERROR(H38/G38*100,H38) -> 0
B39: 6419 | D39: Ostali prihodi od financijske imovine | I39: =IFERROR(H39/F39*100,H39) -> 0 | J39: =IFERROR(H39/G39*100,H39) -> 0
B40: 65 | D40: Prihodi od upravnih i administrativnih pristojbi, pristojbi po posebnim propisima i nakanda | E40: =SUM(E41) -> 69787.18 | F40: =SUM(F41) -> 47500 | G40: =SUM(G41) -> 47500 | H40: =SUM(H41) -> 48280.21 | I40: =IFERROR(H40/F40*100,H40) -> 101.64255 | J40: =IFERROR(H40/G40*100,H40) -> 101.64255
B41: 652 | D41: Prihodi po posebnim propisima | E41: =SUM(E42) -> 69787.18 | F41: =SUM(F42) -> 47500 | G41: =SUM(G42) -> 47500 | H41: =SUM(H42) -> 48280.21 | I41: =IFERROR(H41/F41*100,H41) -> 101.64255 | J41: =IFERROR(H41/G41*100,H41) -> 101.64255
B42: 6526 | D42: Ostali nespomenuti prihodi (participacija) | E42: =SUM(E43:E45) -> 69787.18 | F42: =SUM(F43:F45) -> 47500 | G42: =SUM(G43:G45) -> 47500 | H42: =SUM(H43:H45) -> 48280.21 | I42: =IFERROR(H42/F42*100,H42) -> 101.64255 | J42: =IFERROR(H42/G42*100,H42) -> 101.64255
B43: 65264 | D43: Sufinanciranje cijene usluge, participacija | E43: 51154.92 | F43: 44000 | G43: 44000 | H43: 47712.18 | I43: =IFERROR(H43/F43*100,H43) -> 108.43677 | J43: =IFERROR(H43/G43*100,H43) -> 108.43677
B44: 65265 | D44: Dopunsko osiguranje | H44: 0 | I44: =IFERROR(H44/F44*100,H44) -> 0 | J44: =IFERROR(H44/G44*100,H44) -> 0
B45: 65269 | D45: Refundacija plaća specijalizanata | E45: 18632.26 | F45: 3500 | G45: 3500 | H45: 568.03 | I45: =IFERROR(H45/F45*100,H45) -> 16.229429 | J45: =IFERROR(H45/G45*100,H45) -> 16.229429
B46: 67 | D46: Prihodi iz nadležnog proračuna i od HZZO-a temeljem ugovornih obveza | E46: =SUM(E47,E50) -> 4148754.7 | F46: =SUM(F47,F50) -> 3899096.7 | G46: =SUM(G47,G50) -> 3899096.7 | H46: =SUM(H47,H50) -> 4227449.3 | I46: =IFERROR(H46/F46*100,H46) -> 108.42125 | J46: =IFERROR(H46/G46*100,H46) -> 108.42125
B47: 671 | D47: Prihodi iz nadležnog proračuna za financiranje redovne djelatnosti proračunskih korisnika | E47: =SUM(E48:E49) -> 0 | F47: =SUM(F48:F49) -> 0 | G47: =SUM(G48:G49) -> 0 | H47: =SUM(H48:H49) -> 0 | I47: =IFERROR(H47/F47*100,H47) -> 0 | J47: =IFERROR(H47/G47*100,H47) -> 0
B48: 6711 | D48: Prihodi iz nadležnog proračuna za financiranje rashoda poslovanja | E48: 0 | F48: 0 | G48: 0 | H48: 0 | I48: =IFERROR(H48/F48*100,H48) -> 0 | J48: =IFERROR(H48/G48*100,H48) -> 0
B49: 6712 | D49: Prihodi iz nadležnog proračuna za nabavu nefinancijske imovine | E49: 0 | F49: 0 | G49: 0 | H49: 0 | I49: =IFERROR(H49/F49*100,H49) -> 0 | J49: =IFERROR(H49/G49*100,H49) -> 0
B50: 673 | D50: Prihodi od HZZO-a temeljem ugovora | E50: =SUM(E51) -> 4148754.7 | F50: =SUM(F51) -> 3899096.7 | G50: =SUM(G51) -> 3899096.7 | H50: =SUM(H51) -> 4227449.3 | I50: =IFERROR(H50/F50*100,H50) -> 108.42125 | J50: =IFERROR(H50/G50*100,H50) -> 108.42125
B51: 6731 | D51: Prihodi od HZZO-a temeljem ugovora | E51: =SUM(E52) -> 4148754.7 | F51: =SUM(F52) -> 3899096.7 | G51: =SUM(G52) -> 3899096.7 | H51: =SUM(H52) -> 4227449.3 | I51: =IFERROR(H51/F51*100,H51) -> 108.42125 | J51: =IFERROR(H51/G51*100,H51) -> 108.42125
B52: 67311 | D52: Prihodi od HZZO-a temeljem ugovora | E52: 4148754.7 | F52: 3899096.7 | G52: 3899096.7 | H52: 4227449.3 | I52: =IFERROR(H52/F52*100,H52) -> 108.42125 | J52: =IFERROR(H52/G52*100,H52) -> 108.42125
B53: 68 | D53: Kazne, upravne mjere i ostali prihodi | E53: =SUM(E54) -> 712.71 | F53: =SUM(F54) -> 3000 | G53: =SUM(G54) -> 3000 | H53: =SUM(H54) -> 340.07 | I53: =IFERROR(H53/F53*100,H53) -> 11.335667 | J53: =IFERROR(H53/G53*100,H53) -> 11.335667
B54: 683 | D54: Ostali prihodi | E54: =SUM(E55) -> 712.71 | F54: =SUM(F55) -> 3000 | G54: =SUM(G55) -> 3000 | H54: =SUM(H55) -> 340.07 | I54: =IFERROR(H54/F54*100,H54) -> 11.335667 | J54: =IFERROR(H54/G54*100,H54) -> 11.335667
B55: 6831 | D55: Ostali prihodi | E55: =SUM(E56) -> 712.71 | F55: =SUM(F56) -> 3000 | G55: =SUM(G56) -> 3000 | H55: =SUM(H56) -> 340.07 | I55: =IFERROR(H55/F55*100,H55) -> 11.335667 | J55: =IFERROR(H55/G55*100,H55) -> 11.335667
B56: 68311 | D56: Ostali prihodi | E56: 712.71 | F56: 3000 | G56: 3000 | H56: 340.07 | I56: =IFERROR(H56/F56*100,H56) -> 11.335667 | J56: =IFERROR(H56/G56*100,H56) -> 11.335667
C57: 43 | D57: Ostali prihodi za posebne namjene | E57: =SUM(E37,E40,E46,E53) -> 4219254.6 | F57: =SUM(F37,F40,F46,F53) -> 3949596.7 | G57: =SUM(G37,G40,G46,G53) -> 3949596.7 | H57: =SUM(H37,H40,H46,H53) -> 4276069.5 | I57: =IFERROR(H57/F57*100,H57) -> 108.26598 | J57: =IFERROR(H57/G57*100,H57) -> 108.26598
B58: 64 | D58: Prihodi od imovine | E58: =SUM(E59) -> 40.76 | F58: =SUM(F59) -> 200 | G58: =SUM(G59) -> 200 | H58: =SUM(H59) -> 4.18 | I58: =IFERROR(H58/F58*100,H58) -> 2.09 | J58: =IFERROR(H58/G58*100,H58) -> 2.09
B59: 641 | D59: Prihodi od financijske imovine | E59: =SUM(E60,E62,E64,E65) -> 40.76 | F59: =SUM(F60,F62,F64,F65) -> 200 | G59: =SUM(G60,G62,G64,G65) -> 200 | H59: =SUM(H60,H62,H64,H65) -> 4.18 | I59: =IFERROR(H59/F59*100,H59) -> 2.09 | J59: =IFERROR(H59/G59*100,H59) -> 2.09
B60: 6413 | D60: Kamate na oročena sredstva i depozite po viđenju | E60: =SUM(E61) -> 24.01 | F60: =SUM(F61) -> 200 | G60: =SUM(G61) -> 200 | H60: =SUM(H61) -> 4.18 | I60: =IFERROR(H60/F60*100,H60) -> 2.09 | J60: =IFERROR(H60/G60*100,H60) -> 2.09
B61: 64132 | D61: Kamate na oročena sredstva i depozite po viđenju | E61: 24.01 | F61: 200 | G61: 200 | H61: 4.18 | I61: =IFERROR(H61/F61*100,H61) -> 2.09 | J61: =IFERROR(H61/G61*100,H61) -> 2.09
B62: 6414 | D62: Prihodi od zateznih kamata | E62: =SUM(E63) -> 16.75 | F62: =SUM(F63) -> 0 | G62: =SUM(G63) -> 0 | H62: =SUM(H63) -> 0 | I62: =IFERROR(H62/F62*100,H62) -> 0 | J62: =IFERROR(H62/G62*100,H62) -> 0
B63: 64143 | D63: Prihodi od zateznih kamata | E63: 16.75 | H63: 0 | I63: =IFERROR(H63/F63*100,H63) -> 0 | J63: =IFERROR(H63/G63*100,H63) -> 0
B64: 6419 | D64: Ostali prihodi od financijske imovine | I64: =IFERROR(H64/F64*100,H64) -> 0 | J64: =IFERROR(H64/G64*100,H64) -> 0
B65: 6429 | D65: Ostali prihodi od nefinancijske imovine | I65: =IFERROR(H65/F65*100,H65) -> 0 | J65: =IFERROR(H65/G65*100,H65) -> 0
B66: 66 | D66: Prihodi od prodaje proizvoda i robe te pruženih usluga i prihodi od donacija | E66: =SUM(E67) -> 140153.61 | F66: =SUM(F67) -> 199083.29 | G66: =SUM(G67) -> 162916.33 | H66: =SUM(H67) -> 137833.68 | I66: =IFERROR(H66/F66*100,H66) -> 69.234178 | J66: =IFERROR(H66/G66*100,H66) -> 84.603968
B67: 661 | D67: Prihodi od prodaje proizvoda i robe te pruženih usluga | E67: =SUM(E68:E69) -> 140153.61 | F67: =SUM(F68:F69) -> 199083.29 | G67: =SUM(G68:G69) -> 162916.33 | H67: =SUM(H68:H69) -> 137833.68 | I67: =IFERROR(H67/F67*100,H67) -> 69.234178 | J67: =IFERROR(H67/G67*100,H67) -> 84.603968
B68: 6614 | D68: Prihod od prodaje proizvoda i usluga | I68: =IFERROR(H68/F68*100,H68) -> 0 | J68: =IFERROR(H68/G68*100,H68) -> 0
B69: 6615 | D69: Prihodi od pruženih usluga | E69: =SUM(E70:E71) -> 140153.61 | F69: =SUM(F70:F71) -> 199083.29 | G69: =SUM(G70:G71) -> 162916.33 | H69: =SUM(H70:H71) -> 137833.68 | I69: =IFERROR(H69/F69*100,H69) -> 69.234178 | J69: =IFERROR(H69/G69*100,H69) -> 84.603968
B70: 66151 | D70: Prihodi od pruženih usluga | E70: 139946.23 | F70: 199083.29 | G70: 162916.33 | H70: 137833.68 | I70: =IFERROR(H70/F70*100,H70) -> 69.234178 | J70: =IFERROR(H70/G70*100,H70) -> 84.603968
B71: 66153 | D71: Prihodi za udio troškova u zakupu | E71: 207.38 | G71: 0 | I71: =IFERROR(H71/F71*100,H71) -> 0 | J71: =IFERROR(H71/G71*100,H71) -> 0
B72: 68 | D72: Kazne, upravne mjere i ostali prihodi | E72: =SUM(E73) -> 0 | F72: =SUM(F73) -> 0 | G72: =SUM(G73) -> 0 | H72: =SUM(H73) -> 0 | I72: =IFERROR(H72/F72*100,H72) -> 0 | J72: =IFERROR(H72/G72*100,H72) -> 0
B73: 683 | D73: Ostali prihodi | E73: =SUM(E74) -> 0 | F73: =SUM(F74) -> 0 | G73: =SUM(G74) -> 0 | H73: =SUM(H74) -> 0 | I73: =IFERROR(H73/F73*100,H73) -> 0 | J73: =IFERROR(H73/G73*100,H73) -> 0
B74: 6831 | D74: Ostali prihodi | I74: =IFERROR(H74/F74*100,H74) -> 0 | J74: =IFERROR(H74/G74*100,H74) -> 0
C75: 31 | D75: Vlastiti prihodi | E75: =E58+E66+E72 -> 140194.37 | F75: =F58+F66+F72 -> 199283.29 | G75: =G58+G66+G72 -> 163116.33 | H75: =H58+H66+H72 -> 137837.86 | I75: =IFERROR(H75/F75*100,H75) -> 69.166793 | J75: =IFERROR(H75/G75*100,H75) -> 84.502796
B76: 66 | D76: Prihodi od prodaje proizvoda i robe te pruženih usluga i prihodi od donacija | E76: =E77 -> 3957.25 | F76: =F77 -> 50500 | G76: =G77 -> 50500 | H76: =H77 -> 0 | I76: =IFERROR(H76/F76*100,H76) -> 0 | J76: =IFERROR(H76/G76*100,H76) -> 0
B77: 663 | D77: Donacije od pravnih i fizičkih osoba izvan općeg proračuna i povrat donacija po protestiranim jamstvima | E77: =SUM(E78,E80) -> 3957.25 | F77: =SUM(F78,F80) -> 50500 | G77: =SUM(G78,G80) -> 50500 | H77: =SUM(H78,H80) -> 0 | I77: =IFERROR(H77/F77*100,H77) -> 0 | J77: =IFERROR(H77/G77*100,H77) -> 0
B78: 6631 | D78: Tekuće donacije | E78: =SUM(E79) -> 3957.25 | F78: =SUM(F79) -> 50500 | G78: =SUM(G79) -> 50500 | H78: =SUM(H79) -> 0 | I78: =IFERROR(H78/F78*100,H78) -> 0 | J78: =IFERROR(H78/G78*100,H78) -> 0
B79: 66313 | D79: Tekuće donacije | E79: 3957.25 | F79: 50500 | G79: 50500 | H79: 0 | I79: =IFERROR(H79/F79*100,H79) -> 0 | J79: =IFERROR(H79/G79*100,H79) -> 0
B80: 6632 | D80: Kapitalne donacije | I80: =IFERROR(H80/F80*100,H80) -> 0 | J80: =IFERROR(H80/G80*100,H80) -> 0
C81: 61 | D81: Donacije | E81: =SUM(E76) -> 3957.25 | F81: =SUM(F76) -> 50500 | G81: =SUM(G76) -> 50500 | H81: =SUM(H76) -> 0 | I81: =IFERROR(H81/F81*100,H81) -> 0 | J81: =IFERROR(H81/G81*100,H81) -> 0
B82: 65 | D82: Prihodi od upravnih i administrativnih pristojbi, pristojbi po posebnim propisima i nakanda | E82: =SUM(E83) -> 8798.23 | F82: =SUM(F83) -> 5500 | G82: =SUM(G83) -> 5500 | H82: =SUM(H83) -> 0 | I82: =IFERROR(H82/F82*100,H82) -> 0 | J82: =IFERROR(H82/G82*100,H82) -> 0
B83: 652 | D83: Prihodi po posebnim propisima | E83: =E84 -> 8798.23 | F83: =F84 -> 5500 | G83: =G84 -> 5500 | H83: =H84 -> 0 | I83: =IFERROR(H83/F83*100,H83) -> 0 | J83: =IFERROR(H83/G83*100,H83) -> 0
B84: 6526 | D84: Ostali nespomenuti prihodi | E84: =E85 -> 8798.23 | F84: =F85 -> 5500 | G84: =G85 -> 5500 | H84: =H85 -> 0 | I84: =IFERROR(H84/F84*100,H84) -> 0 | J84: =IFERROR(H84/G84*100,H84) -> 0
B85: 65267 | D85: Prihodi od osiguranja i refundacije štete | E85: 8798.23 | F85: 5500 | G85: 5500 | H85: 0 | I85: =IFERROR(H85/F85*100,H85) -> 0 | J85: =IFERROR(H85/G85*100,H85) -> 0
C86: 71 | D86: Prihodi od prodaje nefinacijske imovine i naknade šteta | E86: =SUM(E82) -> 8798.23 | F86: =SUM(F82) -> 5500 | G86: =SUM(G82) -> 5500 | H86: =SUM(H82) -> 0 | I86: =IFERROR(H86/F86*100,H86) -> 0 | J86: =IFERROR(H86/G86*100,H86) -> 0
A87: 7 | D87: Prihodi od prodaje nefinancijske imovine | E87: =SUM(E88) -> 0 | F87: =SUM(F88) -> 0 | G87: =SUM(G88) -> 800 | H87: =SUM(H88) -> 800 | I87: =IFERROR(H87/F87*100,H87) -> 800 | J87: =IFERROR(H87/G87*100,H87) -> 100
B88: 72 | D88: Prihodi od prodaje proizvedene dugotrajne imovine | E88: =SUM(E89,E91) -> 0 | F88: =SUM(F89,F91) -> 0 | G88: =SUM(G89,G91) -> 800 | H88: =SUM(H89,H91) -> 800 | I88: =IFERROR(H88/F88*100,H88) -> 800 | J88: =IFERROR(H88/G88*100,H88) -> 100
B89: 721 | D89: Prihodi od prodaje građevinskih objekata | E89: =SUM(E90) -> 0 | F89: =SUM(F90) -> 0 | G89: =SUM(G90) -> 0 | H89: =SUM(H90) -> 0 | I89: =IFERROR(H89/F89*100,H89) -> 0 | J89: =IFERROR(H89/G89*100,H89) -> 0
B90: 7211 | D90: Stambeni objekti | I90: =IFERROR(H90/F90*100,H90) -> 0 | J90: =IFERROR(H90/G90*100,H90) -> 0
B91: 723 | D91: Prihodi od prodaje prijevoznih sredstava | E91: =E92 -> 0 | F91: =F92 -> 0 | G91: =G92 -> 800 | H91: =H92 -> 800 | I91: =IFERROR(H91/F91*100,H91) -> 800 | J91: =IFERROR(H91/G91*100,H91) -> 100
B92: 7231 | D92: Prijevozna sredstva u cestovnom prometu | E92: =E93 -> 0 | F92: =F93 -> 0 | G92: =G93 -> 800 | H92: =H93 -> 800 | I92: =IFERROR(H92/F92*100,H92) -> 800 | J92: =IFERROR(H92/G92*100,H92) -> 100
B93: 72313 | D93: Kombi vozila | E93: 0 | F93: 0 | G93: 800 | H93: 800 | I93: =IFERROR(H93/F93*100,H93) -> 800 | J93: =IFERROR(H93/G93*100,H93) -> 100
C94: 71 | D94: Prihodi od prodaje nefinacijske imovine i naknade šteta | E94: =SUM(E87) -> 0 | F94: =SUM(F87) -> 0 | G94: =SUM(G87) -> 800 | H94: =SUM(H87) -> 800 | I94: =IFERROR(H94/F94*100,H94) -> 800 | J94: =IFERROR(H94/G94*100,H94) -> 100
A95: Ukupni prihodi | E95: =SUM(E8,E87) -> 5100997.3 | F95: =SUM(F8,F87) -> 4702255.6 | G95: =SUM(G8,G87) -> 5292700.8 | H95: =SUM(H8,H87) -> 5342526.1 | I95: =IFERROR(H95/F95*100,H95) -> 113.61624 | J95: =IFERROR(H95/G95*100,H95) -> 100.9414
J96: =IFERROR(H96/G96*100,H96) -> 0
A101: RASHODI POSLOVANJA
A102: Razred | B102: Skupina/podskupina/odjeljak | C102: Izvor | D102: Naziv | F102: IZVORNI PLAN | H102: TEKUĆI PLAN | I102: Izvršenje tekuće godine I.-IX.2023.
A103: 1 | F103: 2 | H103: 3 | I103: 4
A104: 3 | D104: Rashodi poslovanja | F104: =F105+F115+F148+F153+F157+F160 -> 0 | H104: =H105+H115+H148+H153+H157+H160 -> 59190451 | I104: =I105+I115+I148+I157+I160 -> 0
B105: 31 | D105: Rashodi za zaposlene | F105: =F106+F111+F113 -> 0 | H105: =H106+H111+H113 -> 38266104 | I105: =I106+I111+I113 -> 0
...

Sheet  PRIHODI I RASHODI-izvori
A1: I. OPĆI DIO
A2: A. RAČUN PRIHODA I RASHODA
A3: RASHODI PREMA EKONOMSKOJ KLASIFIKACIJI I IZVORIMA FINANCIRANJA
A5: RASHODI POSLOVANJA
A6: Razred | B6: Skupina/podskupina/odjeljak | C6: Izvor | D6: Naziv | E6: OSTVARENJE/ IZVRŠENJE 1.-12.2024. | F6: IZVORNI PLAN ZA 2025. | G6: TEKUĆI PLAN 2025. | H6: OSTVARENJE/ IZVRŠENJE 1.-12.2025. | I6: Indeks | J6: Indeks
A7: 1 | E7: 2 | F7: 3 | G7: 4 | H7: 5 | I7: 6=5/3*100 | J7: 7=5/4*100
A8: 3 | D8: Rashodi poslovanja | E8: =E11+E100+(E290-0.01)+E396+E468+E493+E518 -> 5084825.9 | F8: =F11+F100+F290+F396+F468+F493+F518 -> 4299508.7 | G8: =G11+G100+G290+G396+G468+G493+G518 -> 4337963.5 | H8: =H11+H100+H290+H396+H468+H493+H518 -> 4919030.6 | I8: =IFERROR(H8/F8*100,H8) -> 114.40913 | J8: =IFERROR(H8/G8*100,H8) -> 113.39493
A9: 4 | D9: Rashodi za nabavu nefinancijske imovine | E9: =E83+E255+E374+E459+E506+E529 -> 846874.29 | F9: =F83+F255+F374+F459+F506+F529 -> 426425.88 | G9: =G83+G255+G374+G459+G488+G506+G529 -> 425978.17 | H9: =H83+H255+H374+H459+H488+H506+H529 -> 269800.91 | I9: =IFERROR(H9/F9*100,H9) -> 63.270294 | J9: =IFERROR(H9/G9*100,H9) -> 63.336793
D10: KORIŠTENJE DEC-a SREDSTAVA ŽUPANIJE | J10: =IFERROR(H10/G10*100,H10) -> 0
A11: 3 | D11: Rashodi poslovanja | E11: =E12+E23 -> 141650.92 | F11: =F12+F23 -> 103638.02 | G11: =G12+G23 -> 342988.02 | H11: =H12+H23 -> 352987.51 | I11: =IFERROR(H11/F11*100,H11) -> 340.59654 | J11: =IFERROR(H11/G11*100,H11) -> 102.91541
B12: 31 | D12: Rashodi za zaposlene | E12: =E13+E16+E20 -> 10163.3 | F12: =F13+F16+F20 -> 6978.02 | G12: =G13+G16+G20 -> 46978.02 | H12: =H13+H16+H20 -> 54508.2 | I12: =IFERROR(H12/F12*100,H12) -> 781.14136 | J12: =IFERROR(H12/G12*100,H12) -> 116.02916
B13: 311 | D13: Plaće | E13: =SUM(E14) -> 8723.89 | F13: =SUM(F14) -> 5989.73 | G13: =SUM(G14) -> 5989.73 | H13: =SUM(H14) -> 3869.68 | I13: =IFERROR(H13/F13*100,H13) -> 64.605249 | J13: =IFERROR(H13/G13*100,H13) -> 64.605249
B14: 3111 | D14: Plaće za redovan rad | E14: =SUM(E15) -> 8723.89 | F14: =SUM(F15) -> 5989.73 | G14: =SUM(G15) -> 5989.73 | H14: =SUM(H15) -> 3869.68 | I14: =IFERROR(H14/F14*100,H14) -> 64.605249 | J14: =IFERROR(H14/G14*100,H14) -> 64.605249
B15: 31111 | D15: Plaće za redovan rad | E15: ='Rekapitulacija Posebni dio'!C549+'Rekapitulacija Posebni dio'!C568+'Rekapitulacija Posebni dio'!C590 -> 8723.89 | F15: ='Rekapitulacija Posebni dio'!D549+'Rekapitulacija Posebni dio'!D568+'Rekapitulacija Posebni dio'!D590 -> 5989.73 | G15: ='Rekapitulacija Posebni dio'!E549+'Rekapitulacija Posebni dio'!E568+'Rekapitulacija Posebni dio'!E590 -> 5989.73 | H15: ='Rekapitulacija Posebni dio'!F549+'Rekapitulacija Posebni dio'!F568+'Rekapitulacija Posebni dio'!F590 -> 3869.68 | I15: =IFERROR(H15/F15*100,H15) -> 64.605249 | J15: =IFERROR(H15/G15*100,H15) -> 64.605249
B16: 312 | D16: Ostali rashodi za zaposlene | E16: =SUM(E17) -> 0 | F16: =SUM(F17) -> 0 | G16: =SUM(G17) -> 0 | H16: =SUM(H17) -> 10000 | I16: =IFERROR(H16/F16*100,H16) -> 10000 | J16: =IFERROR(H16/G16*100,H16) -> 10000
B17: 3121 | D17: Ostali rashodi za zaposlene | E17: =SUM(E18:E19) -> 0 | F17: =SUM(F18:F19) -> 0 | G17: =SUM(G18:G19) -> 0 | H17: =SUM(H18:H19) -> 10000 | I17: =IFERROR(H17/F17*100,H17) -> 10000 | J17: =IFERROR(H17/G17*100,H17) -> 10000
B18: 31212 | D18: Ostali rashodi za zaposlene-nagrade | E18: ='Rekapitulacija Posebni dio'!C496 -> 0 | F18: ='Rekapitulacija Posebni dio'!D496 -> 0 | G18: ='Rekapitulacija Posebni dio'!E496 -> 0 | H18: ='Rekapitulacija Posebni dio'!F496 -> 958.56 | I18: =IFERROR(H18/F18*100,H18) -> 958.56 | J18: =IFERROR(H18/G18*100,H18) -> 958.56
B19: 31213 | D19: Darovi | E19: ='Rekapitulacija Posebni dio'!C497 -> 0 | F19: ='Rekapitulacija Posebni dio'!D497 -> 0 | G19: ='Rekapitulacija Posebni dio'!E497 -> 0 | H19: ='Rekapitulacija Posebni dio'!F497 -> 9041.44 | I19: =IFERROR(H19/F19*100,H19) -> 9041.44 | J19: =IFERROR(H19/G19*100,H19) -> 9041.44
B20: 313 | D20: Doprinosi na plaće | E20: =SUM(E21) -> 1439.41 | F20: =SUM(F21) -> 988.29 | G20: =SUM(G21) -> 40988.29 | H20: =SUM(H21) -> 40638.52 | I20: =IFERROR(H20/F20*100,H20) -> 4112.0036 | J20: =IFERROR(H20/G20*100,H20) -> 99.146659
B21: 3132 | D21: Doprinosi za obvezno zdravstveno osiguranje | E21: =SUM(E22) -> 1439.41 | F21: =SUM(F22) -> 988.29 | G21: =SUM(G22) -> 40988.29 | H21: =SUM(H22) -> 40638.52 | I21: =IFERROR(H21/F21*100,H21) -> 4112.0036 | J21: =IFERROR(H21/G21*100,H21) -> 99.146659
B22: 31321 | D22: Doprinosi za obvezno zdravstveno osiguranje | E22: ='Rekapitulacija Posebni dio'!C402+'Rekapitulacija Posebni dio'!C554+'Rekapitulacija Posebni dio'!C573+'Rekapitulacija Posebni dio'!C595 -> 1439.41 | F22: ='Rekapitulacija Posebni dio'!D402+'Rekapitulacija Posebni dio'!D554+'Rekapitulacija Posebni dio'!D573+'Rekapitulacija Posebni dio'!D595 -> 988.29 | G22: ='Rekapitulacija Posebni dio'!E402+'Rekapitulacija Posebni dio'!E554+'Rekapitulacija Posebni dio'!E573+'Rekapitulacija Posebni dio'!E595 -> 40988.29 | H22: ='Rekapitulacija Posebni dio'!F402+'Rekapitulacija Posebni dio'!F573+'Rekapitulacija Posebni dio'!F595 -> 40638.52 | I22: =IFERROR(H22/F22*100,H22) -> 4112.0036 | J22: =IFERROR(H22/G22*100,H22) -> 99.146659
B23: 32 | D23: Materijalni rashodi | E23: =E24+E29+E48+E69+E73 -> 131487.62 | F23: =F24+F29+F48+F69+F73 -> 96660 | G23: =G24+G29+G48+G69+G73 -> 296010 | H23: =H24+H29+H48+H69+H73 -> 298479.31 | I23: =IFERROR(H23/F23*100,H23) -> 308.793 | J23: =IFERROR(H23/G23*100,H23) -> 100.8342
B24: 321 | D24: Naknade troškova zaposlenima | E24: =E25+E27 -> 0 | F24: =F25+F27 -> 0 | G24: =G25+G27 -> 0 | H24: =H25+H27 -> 411.25 | I24: =IFERROR(H24/F24*100,H24) -> 411.25 | J24: =IFERROR(H24/G24*100,H24) -> 411.25
B25: 3211 | D25: Službena putovanja | E25: =E26 -> 0 | F25: =F26 -> 0 | G25: =G26 -> 0 | H25: =H26 -> 180 | I25: =IFERROR(H25/F25*100,H25) -> 180 | J25: =IFERROR(H25/G25*100,H25) -> 180
B26: 32111 | D26: Dnevnice za službeni put u zemlji | E26: ='Rekapitulacija Posebni dio'!C599 -> 0 | F26: ='Rekapitulacija Posebni dio'!D599 -> 0 | G26: ='Rekapitulacija Posebni dio'!E599 -> 0 | H26: ='Rekapitulacija Posebni dio'!F599 -> 180 | I26: =IFERROR(H26/F26*100,H26) -> 180 | J26: =IFERROR(H26/G26*100,H26) -> 180
B27: 3213 | D27: Stručno usavršavanje zaposlenih | E27: =E28 -> 0 | F27: =F28 -> 0 | G27: =G28 -> 0 | H27: =H28 -> 231.25 | I27: =IFERROR(H27/F27*100,H27) -> 231.25 | J27: =IFERROR(H27/G27*100,H27) -> 231.25
B28: 32131 | D28: Seminari, savjetovanja i simpoziji | E28: ='Rekapitulacija Posebni dio'!C448 -> 0 | F28: ='Rekapitulacija Posebni dio'!D448 -> 0 | G28: ='Rekapitulacija Posebni dio'!E448 -> 0 | H28: ='Rekapitulacija Posebni dio'!F448 -> 231.25 | I28: =IFERROR(H28/F28*100,H28) -> 231.25 | J28: =IFERROR(H28/G28*100,H28) -> 231.25
B29: 322 | D29: Rashodi za materijal i energiju | E29: =E30+E34+E36+E41+E44+E46 -> 20672.78 | F29: =F30+F34+F36+F41+F44+F46 -> 0 | G29: =G30+G34+G36+G41+G44+G46 -> 4000 | H29: =H30+H34+H36+H41+H44+H46 -> 29283.37 | I29: =IFERROR(H29/F29*100,H29) -> 29283.37 | J29: =IFERROR(H29/G29*100,H29) -> 732.08425
B30: 3221 | D30: Uredski materijal i ostali materijalni rashodi | E30: =SUM(E31:E33) -> 1543.88 | F30: =SUM(F31:F33) -> 0 | G30: =SUM(G31:G33) -> 4000 | H30: =SUM(H31:H33) -> 9867.78 | I30: =IFERROR(H30/F30*100,H30) -> 9867.78 | J30: =IFERROR(H30/G30*100,H30) -> 246.6945
B31: 32211 | D31: Uredski materijal | E31: ='Rekapitulacija Posebni dio'!C408+'Rekapitulacija Posebni dio'!C451 -> 1228.88 | F31: ='Rekapitulacija Posebni dio'!D408+'Rekapitulacija Posebni dio'!D451 -> 0 | G31: ='Rekapitulacija Posebni dio'!E408+'Rekapitulacija Posebni dio'!E451 -> 2000 | H31: ='Rekapitulacija Posebni dio'!F408+'Rekapitulacija Posebni dio'!F451 -> 2747.52 | I31: =IFERROR(H31/F31*100,H31) -> 2747.52 | J31: =IFERROR(H31/G31*100,H31) -> 137.376
B32: 32214 | D32: Materijal i sredstva za čišćenje i održavanje | E32: ='Rekapitulacija Posebni dio'!C409+'Rekapitulacija Posebni dio'!C452 -> 315 | F32: ='Rekapitulacija Posebni dio'!D409+'Rekapitulacija Posebni dio'!D452 -> 0 | G32: ='Rekapitulacija Posebni dio'!E409+'Rekapitulacija Posebni dio'!E452 -> 2000 | H32: ='Rekapitulacija Posebni dio'!F409+'Rekapitulacija Posebni dio'!F452 -> 4803.36 | I32: =IFERROR(H32/F32*100,H32) -> 4803.36 | J32: =IFERROR(H32/G32*100,H32) -> 240.168
B33: 32219 | D33: Ostali materijal za potrebe redovnog poslovanja | E33: ='Rekapitulacija Posebni dio'!C453+'Rekapitulacija Posebni dio'!C603 -> 0 | F33: ='Rekapitulacija Posebni dio'!D453+'Rekapitulacija Posebni dio'!D603 -> 0 | G33: ='Rekapitulacija Posebni dio'!E453+'Rekapitulacija Posebni dio'!E603 -> 0 | H33: ='Rekapitulacija Posebni dio'!F453+'Rekapitulacija Posebni dio'!F603 -> 2316.9 | I33: =IFERROR(H33/F33*100,H33) -> 2316.9 | J33: =IFERROR(H33/G33*100,H33) -> 2316.9
B34: 3222 | D34: Materijal i sirovine | E34: =E35 -> 12071.02 | F34: =F35 -> 0 | G34: =G35 -> 0 | H34: =H35 -> 0 | I34: =IFERROR(H34/F34*100,H34) -> 0 | J34: =IFERROR(H34/G34*100,H34) -> 0
B35: 32221 | D35: Potrošni medicinski materijal | E35: ='Rekapitulacija Posebni dio'!C411 -> 12071.02 | F35: ='Rekapitulacija Posebni dio'!D411 -> 0 | G35: ='Rekapitulacija Posebni dio'!E411 -> 0 | H35: ='Rekapitulacija Posebni dio'!F411 -> 0 | I35: =IFERROR(H35/F35*100,H35) -> 0 | J35: =IFERROR(H35/G35*100,H35) -> 0
B36: 3223 | D36: Energija | E36: =SUM(E37:E40) -> 3057.88 | F36: =SUM(F37:F40) -> 0 | G36: =SUM(G37:G40) -> 0 | H36: =SUM(H37:H40) -> 16477.72 | I36: =IFERROR(H36/F36*100,H36) -> 16477.72 | J36: =IFERROR(H36/G36*100,H36) -> 16477.72
B37: 32231 | D37: Električna energija | E37: ='Rekapitulacija Posebni dio'!C413+'Rekapitulacija Posebni dio'!C455 -> 2416.99 | F37: ='Rekapitulacija Posebni dio'!D413+'Rekapitulacija Posebni dio'!D455 -> 0 | G37: ='Rekapitulacija Posebni dio'!E413+'Rekapitulacija Posebni dio'!E455 -> 0 | H37: ='Rekapitulacija Posebni dio'!F413+'Rekapitulacija Posebni dio'!F455 -> 8552.36 | I37: =IFERROR(H37/F37*100,H37) -> 8552.36 | J37: =IFERROR(H37/G37*100,H37) -> 8552.36
B38: 32232 | D38: Topla voda | E38: ='Rekapitulacija Posebni dio'!C456 -> 0 | F38: ='Rekapitulacija Posebni dio'!D456 -> 0 | G38: ='Rekapitulacija Posebni dio'!E456 -> 0 | H38: ='Rekapitulacija Posebni dio'!F456 -> 173.42 | I38: =IFERROR(H38/F38*100,H38) -> 173.42 | J38: =IFERROR(H38/G38*100,H38) -> 173.42
B39: 32233 | D39: Plin | E39: ='Rekapitulacija Posebni dio'!C414+'Rekapitulacija Posebni dio'!C457 -> 640.89 | F39: ='Rekapitulacija Posebni dio'!D414+'Rekapitulacija Posebni dio'!D457 -> 0 | G39: ='Rekapitulacija Posebni dio'!E414+'Rekapitulacija Posebni dio'!E457 -> 0 | H39: ='Rekapitulacija Posebni dio'!F414+'Rekapitulacija Posebni dio'!F457 -> 4736.47 | I39: =IFERROR(H39/F39*100,H39) -> 4736.47 | J39: =IFERROR(H39/G39*100,H39) -> 4736.47
B40: 32234 | D40: Motorni benzin i dizel gorivo | E40: ='Rekapitulacija Posebni dio'!C458 -> 0 | F40: ='Rekapitulacija Posebni dio'!D458 -> 0 | G40: ='Rekapitulacija Posebni dio'!E458 -> 0 | H40: ='Rekapitulacija Posebni dio'!F458 -> 3015.47 | I40: =IFERROR(H40/F40*100,H40) -> 3015.47 | J40: =IFERROR(H40/G40*100,H40) -> 3015.47
B41: 3224 | D41: Materijal i dijelovi za tekuće i investicijsko održavanje | E41: =E42+E43 -> 4000 | F41: =F42+F43 -> 0 | G41: =G42+G43 -> 0 | H41: =H42+H43 -> 1379.61 | I41: =IFERROR(H41/F41*100,H41) -> 1379.61 | J41: =IFERROR(H41/G41*100,H41) -> 1379.61
B42: 32241 | D42: Materijal i dijelovi za tekuće i invest. održavanje građ. objekata | E42: ='Rekapitulacija Posebni dio'!C460+'Rekapitulacija Posebni dio'!C517 -> 4000 | F42: ='Rekapitulacija Posebni dio'!D460+'Rekapitulacija Posebni dio'!D517 -> 0 | G42: ='Rekapitulacija Posebni dio'!E460+'Rekapitulacija Posebni dio'!E517 -> 0 | H42: ='Rekapitulacija Posebni dio'!F460+'Rekapitulacija Posebni dio'!F517 -> 352.42 | I42: =IFERROR(H42/F42*100,H42) -> 352.42 | J42: =IFERROR(H42/G42*100,H42) -> 352.42
B43: 32242 | D43: Materijal i dijelovi za tekuće i invest. održavanje postrojenja i opreme | E43: ='Rekapitulacija Posebni dio'!C461 -> 0 | F43: ='Rekapitulacija Posebni dio'!D461 -> 0 | G43: ='Rekapitulacija Posebni dio'!E461 -> 0 | H43: ='Rekapitulacija Posebni dio'!F461 -> 1027.19 | I43: =IFERROR(H43/F43*100,H43) -> 1027.19 | J43: =IFERROR(H43/G43*100,H43) -> 1027.19
B44: 3225 | D44: Sitan inventar i autogume | E44: =E45 -> 0 | F44: =F45 -> 0 | G44: =G45 -> 0 | H44: =H45 -> 326.51 | I44: =IFERROR(H44/F44*100,H44) -> 326.51 | J44: =IFERROR(H44/G44*100,H44) -> 326.51
B45: 32251 | D45: Sitan inventar i autogume | E45: ='Rekapitulacija Posebni dio'!C463 -> 0 | F45: ='Rekapitulacija Posebni dio'!D463 -> 0 | G45: ='Rekapitulacija Posebni dio'!E463 -> 0 | H45: ='Rekapitulacija Posebni dio'!F463 -> 326.51 | I45: =IFERROR(H45/F45*100,H45) -> 326.51 | J45: =IFERROR(H45/G45*100,H45) -> 326.51
B46: 3227 | D46: Službena radna i zaštitna odjeća | E46: =E47 -> 0 | F46: =F47 -> 0 | G46: =G47 -> 0 | H46: =H47 -> 1231.75 | I46: =IFERROR(H46/F46*100,H46) -> 1231.75 | J46: =IFERROR(H46/G46*100,H46) -> 1231.75
B47: 32271 | D47: Službena radna i zaštitna odjeća | E47: ='Rekapitulacija Posebni dio'!C465 -> 0 | F47: ='Rekapitulacija Posebni dio'!D465 -> 0 | G47: ='Rekapitulacija Posebni dio'!E465 -> 0 | H47: ='Rekapitulacija Posebni dio'!F465 -> 1231.75 | I47: =IFERROR(H47/F47*100,H47) -> 1231.75 | J47: =IFERROR(H47/G47*100,H47) -> 1231.75
B48: 323 | D48: Rashodi za usluge | E48: =E49+E51+E55+E58+E60+E64+E66 -> 109496.94 | F48: =F49+F51+F55+F58+F60+F64+F66 -> 96660 | G48: =G49+G51+G55+G58+G60+G64+G66 -> 116010 | H48: =H49+H51+H55+H58+H60+H64+H66 -> 116324.03 | I48: =IFERROR(H48/F48*100,H48) -> 120.3435 | J48: =IFERROR(H48/G48*100,H48) -> 100.27069
B49: 3231 | D49: Usluge telefona i pošte | E49: =E50 -> 0 | F49: =F50 -> 0 | G49: =G50 -> 3000 | H49: =H50 -> 4327.89 | I49: =IFERROR(H49/F49*100,H49) -> 4327.89 | J49: =IFERROR(H49/G49*100,H49) -> 144.263
B50: 32311 | D50: Usluge telefona, telefaksa | E50: ='Rekapitulacija Posebni dio'!C418+'Rekapitulacija Posebni dio'!C468 -> 0 | F50: ='Rekapitulacija Posebni dio'!D418+'Rekapitulacija Posebni dio'!D468 -> 0 | G50: ='Rekapitulacija Posebni dio'!E418+'Rekapitulacija Posebni dio'!E468 -> 3000 | H50: ='Rekapitulacija Posebni dio'!F418+'Rekapitulacija Posebni dio'!F468 -> 4327.89 | I50: =IFERROR(H50/F50*100,H50) -> 4327.89 | J50: =IFERROR(H50/G50*100,H50) -> 144.263
B51: 3232 | D51: Usluge tekućeg i investicijskog održavanja | E51: =SUM(E52:E54) -> 64234.04 | F51: =SUM(F52:F54) -> 64440 | G51: =SUM(G52:G54) -> 46010 | H51: =SUM(H52:H54) -> 46642.99 | I51: =IFERROR(H51/F51*100,H51) -> 72.382045 | J51: =IFERROR(H51/G51*100,H51) -> 101.37577
B52: 32321 | D52: Usluge tekućeg i investicijskog održavanja građevinskih objekata | E52: ='Rekapitulacija Posebni dio'!C520 -> 15000 | F52: ='Rekapitulacija Posebni dio'!D520 -> 16110 | G52: ='Rekapitulacija Posebni dio'!E520 -> 20641 | H52: ='Rekapitulacija Posebni dio'!F520 -> 20641 | I52: =IFERROR(H52/F52*100,H52) -> 128.12539 | J52: =IFERROR(H52/G52*100,H52) -> 100
B53: 32322 | D53: Usluge tekućeg i investicijskog održavanja postrojenja i opreme | E53: ='Rekapitulacija Posebni dio'!C470+'Rekapitulacija Posebni dio'!C521 -> 8000 | F53: ='Rekapitulacija Posebni dio'!D470+'Rekapitulacija Posebni dio'!D521 -> 16110 | G53: ='Rekapitulacija Posebni dio'!E470+'Rekapitulacija Posebni dio'!E521 -> 10760 | H53: ='Rekapitulacija Posebni dio'!F470+'Rekapitulacija Posebni dio'!F521 -> 11393.5 | I53: =IFERROR(H53/F53*100,H53) -> 70.723153 | J53: =IFERROR(H53/G53*100,H53) -> 105.88755
B54: 32323 | D54: Usluge tekućeg i investicijskog održavanja prijevoznih sredstava | E54: ='Rekapitulacija Posebni dio'!C522 -> 41234.04 | F54: ='Rekapitulacija Posebni dio'!D522 -> 32220 | G54: ='Rekapitulacija Posebni dio'!E522 -> 14609 | H54: ='Rekapitulacija Posebni dio'!F522 -> 14608.49 | I54: =IFERROR(H54/F54*100,H54) -> 45.33982 | J54: =IFERROR(H54/G54*100,H54) -> 99.996509
B55: 3234 | D55: Komunalne usluge | E55: =E56+E57 -> 0 | F55: =F56+F57 -> 0 | G55: =G56+G57 -> 0 | H55: =H56+H57 -> 6339.17 | I55: =IFERROR(H55/F55*100,H55) -> 6339.17 | J55: =IFERROR(H55/G55*100,H55) -> 6339.17
B56: 32341 | D56: Opskrba vodom | E56: ='Rekapitulacija Posebni dio'!C472 -> 0 | F56: ='Rekapitulacija Posebni dio'!D472 -> 0 | G56: ='Rekapitulacija Posebni dio'!E472 -> 0 | H56: ='Rekapitulacija Posebni dio'!F472 -> 1418.57 | I56: =IFERROR(H56/F56*100,H56) -> 1418.57 | J56: =IFERROR(H56/G56*100,H56) -> 1418.57
B57: 32342 | D57: Iznošenje i odvoz smeća | E57: ='Rekapitulacija Posebni dio'!C473 -> 0 | F57: ='Rekapitulacija Posebni dio'!D473 -> 0 | G57: ='Rekapitulacija Posebni dio'!E473 -> 0 | H57: ='Rekapitulacija Posebni dio'!F473 -> 4920.6 | I57: =IFERROR(H57/F57*100,H57) -> 4920.6 | J57: =IFERROR(H57/G57*100,H57) -> 4920.6
B58: 3236 | D58: Zdravstvene i veterinarske usluge | E58: =E59 -> 1399.02 | F58: =F59 -> 0 | G58: =G59 -> 27000 | H58: =H59 -> 12622.22 | I58: =IFERROR(H58/F58*100,H58) -> 12622.22 | J58: =IFERROR(H58/G58*100,H58) -> 46.748963
B59: 32369 | D59: Zdravstvene i veterinarske usluge | E59: ='Rekapitulacija Posebni dio'!C420+'Rekapitulacija Posebni dio'!C475 -> 1399.02 | F59: ='Rekapitulacija Posebni dio'!D420+'Rekapitulacija Posebni dio'!D475 -> 0 | G59: ='Rekapitulacija Posebni dio'!E420+'Rekapitulacija Posebni dio'!E475 -> 27000 | H59: ='Rekapitulacija Posebni dio'!F420+'Rekapitulacija Posebni dio'!F475 -> 12622.22 | I59: =IFERROR(H59/F59*100,H59) -> 12622.22 | J59: =IFERROR(H59/G59*100,H59) -> 46.748963
B60: 3237 | D60: Intelektualne usluge | E60: =E61+E62+E63 -> 1250 | F60: =F61+F62+F63 -> 0 | G60: =G61+G62+G63 -> 0 | H60: =H61+H62+H63 -> 6391.76 | I60: =IFERROR(H60/F60*100,H60) -> 6391.76 | J60: =IFERROR(H60/G60*100,H60) -> 6391.76
B61: 32372 | D61: Ugovori o djelu | E61: ='Rekapitulacija Posebni dio'!C608 -> 0 | F61: ='Rekapitulacija Posebni dio'!D608 -> 0 | G61: ='Rekapitulacija Posebni dio'!E608 -> 0 | H61: ='Rekapitulacija Posebni dio'!F608 -> 716.76
B62: 32373 | D62: Usluge odvjetnika i pravnog savjetovanja | E62: ='Rekapitulacija Posebni dio'!C477 -> 0 | F62: ='Rekapitulacija Posebni dio'!D477 -> 0 | G62: ='Rekapitulacija Posebni dio'!E477 -> 0 | H62: ='Rekapitulacija Posebni dio'!F477 -> 5000 | I62: =IFERROR(H62/F62*100,H62) -> 5000 | J62: =IFERROR(H62/G62*100,H62) -> 5000
B63: 32379 | D63: Ostale intelektualne usluge | E63: ='Rekapitulacija Posebni dio'!C422+'Rekapitulacija Posebni dio'!C478 -> 1250 | F63: ='Rekapitulacija Posebni dio'!D422+'Rekapitulacija Posebni dio'!D478 -> 0 | G63: ='Rekapitulacija Posebni dio'!E422+'Rekapitulacija Posebni dio'!E478 -> 0 | H63: ='Rekapitulacija Posebni dio'!F422+'Rekapitulacija Posebni dio'!F478 -> 675 | I63: =IFERROR(H63/F63*100,H63) -> 675 | J63: =IFERROR(H63/G63*100,H63) -> 675
B64: 3238 | D64: Računalne usluge | E64: =SUM(E65) -> 42306 | F64: =SUM(F65) -> 32220 | G64: =SUM(G65) -> 40000 | H64: =SUM(H65) -> 40000 | I64: =IFERROR(H64/F64*100,H64) -> 124.14649 | J64: =IFERROR(H64/G64*100,H64) -> 100
B65: 32389 | D65: Ostale računalne usluge | E65: ='Rekapitulacija Posebni dio'!C526 -> 42306 | F65: ='Rekapitulacija Posebni dio'!D526 -> 32220 | G65: ='Rekapitulacija Posebni dio'!E526 -> 40000 | H65: ='Rekapitulacija Posebni dio'!F526 -> 40000 | I65: =IFERROR(H65/F65*100,H65) -> 124.14649 | J65: =IFERROR(H65/G65*100,H65) -> 100
B66: 3239 | D66: Ostale usluge | E66: =SUM(E67:E68) -> 307.88 | F66: =SUM(F67:F68) -> 0 | G66: =SUM(G67:G68) -> 0 | H66: =SUM(H67:H68) -> 0 | I66: =IFERROR(H66/F66*100,H66) -> 0 | J66: =IFERROR(H66/G66*100,H66) -> 0
B67: 32394 | D67: Usluge pri registraciji prijevoznih sredstava | E67: ='Rekapitulacija Posebni dio'!C424 -> 237.88 | F67: ='Rekapitulacija Posebni dio'!D424 -> 0 | G67: ='Rekapitulacija Posebni dio'!E424 -> 0 | H67: ='Rekapitulacija Posebni dio'!F424 -> 0 | I67: =IFERROR(H67/F67*100,H67) -> 0 | J67: =IFERROR(H67/G67*100,H67) -> 0
B68: 32399 | D68: Ostale nespomenute usluge | E68: ='Rekapitulacija Posebni dio'!C425 -> 70 | F68: ='Rekapitulacija Posebni dio'!D425 -> 0 | G68: ='Rekapitulacija Posebni dio'!E425 -> 0 | H68: ='Rekapitulacija Posebni dio'!F425 -> 0 | I68: =IFERROR(H68/F68*100,H68) -> 0 | J68: =IFERROR(H68/G68*100,H68) -> 0
B69: 325 | D69: Rashodi za usluge | G69: =G70 -> 176000 | H69: =H70 -> 146419.04 | I69: =IFERROR(H69/F69*100,H69) -> 146419.04 | J69: =IFERROR(H69/G69*100,H69) -> 83.192636
B70: 3251 | D70: Ostale usluge | G70: =G71+G72 -> 176000 | H70: =H71+H72 -> 146419.04 | I70: =IFERROR(H70/F70*100,H70) -> 146419.04 | J70: =IFERROR(H70/G70*100,H70) -> 83.192636
B71: 32511 | D71: Rashodi po osnovi utroška lijekova | E71: ='Rekapitulacija Posebni dio'!C428+'Rekapitulacija Posebni dio'!C481 -> 0 | F71: ='Rekapitulacija Posebni dio'!D428+'Rekapitulacija Posebni dio'!D481 -> 0 | G71: ='Rekapitulacija Posebni dio'!E428+'Rekapitulacija Posebni dio'!E481 -> 24000 | H71: ='Rekapitulacija Posebni dio'!F428+'Rekapitulacija Posebni dio'!F481 -> 9679.25 | I71: =IFERROR(H71/F71*100,H71) -> 9679.25 | J71: =IFERROR(H71/G71*100,H71) -> 40.330208
B72: 32513 | D72: Rashodi po osnovi utroška potrošnog medicinskog materijala | E72: ='Rekapitulacija Posebni dio'!C429+'Rekapitulacija Posebni dio'!C442+'Rekapitulacija Posebni dio'!C482+'Rekapitulacija Posebni dio'!C583 -> 0 | F72: ='Rekapitulacija Posebni dio'!D429+'Rekapitulacija Posebni dio'!D442+'Rekapitulacija Posebni dio'!D482+'Rekapitulacija Posebni dio'!D583 -> 0 | G72: ='Rekapitulacija Posebni dio'!E429+'Rekapitulacija Posebni dio'!E442+'Rekapitulacija Posebni dio'!E482+'Rekapitulacija Posebni dio'!E583 -> 152000 | H72: ='Rekapitulacija Posebni dio'!F429+'Rekapitulacija Posebni dio'!F442+'Rekapitulacija Posebni dio'!F482+'Rekapitulacija Posebni dio'!F583 -> 136739.79 | I72: =IFERROR(H72/F72*100,H72) -> 136739.79 | J72: =IFERROR(H72/G72*100,H72) -> 89.960388
B73: 329 | D73: Ostali nespomenuti rashodi poslovanja | E73: =E74+E77+E79+E81 -> 1317.9 | F73: =F74+F77+F79+F81 -> 0 | G73: =G74+G77+G79+G81 -> 0 | H73: =H74+H77+H79+H81 -> 6041.62 | I73: =IFERROR(H73/F73*100,H73) -> 6041.62 | J73: =IFERROR(H73/G73*100,H73) -> 6041.62
B74: 3292 | D74: Premija osiguranja | E74: =E75+E76 -> 250.01 | F74: =F75+F76 -> 0 | G74: =G75+G76 -> 0 | H74: =H75+H76 -> 4594.19 | I74: =IFERROR(H74/F74*100,H74) -> 4594.19 | J74: =IFERROR(H74/G74*100,H74) -> 4594.19
B75: 32921 | D75: Premija osiguranja prijevoznih sredstava | E75: ='Rekapitulacija Posebni dio'!C485 -> 0 | F75: ='Rekapitulacija Posebni dio'!D485 -> 0 | G75: ='Rekapitulacija Posebni dio'!E485 -> 0 | H75: ='Rekapitulacija Posebni dio'!F485 -> 3149.55 | I75: =IFERROR(H75/F75*100,H75) -> 3149.55 | J75: =IFERROR(H75/G75*100,H75) -> 3149.55
B76: 32923 | D76: Premija osiguranja zaposlenih | E76: ='Rekapitulacija Posebni dio'!C486+'Rekapitulacija Posebni dio'!C432 -> 250.01 | F76: ='Rekapitulacija Posebni dio'!D486+'Rekapitulacija Posebni dio'!D432 -> 0 | G76: ='Rekapitulacija Posebni dio'!E486+'Rekapitulacija Posebni dio'!E432 -> 0 | H76: ='Rekapitulacija Posebni dio'!F486+'Rekapitulacija Posebni dio'!F432 -> 1444.64 | I76: =IFERROR(H76/F76*100,H76) -> 1444.64 | J76: =IFERROR(H76/G76*100,H76) -> 1444.64
B77: 3293 | D77: Reprezentacija | E77: =E78 -> 877.58 | F77: =F78 -> 0 | G77: =G78 -> 0 | H77: =H78 -> 0 | I77: =IFERROR(H77/F77*100,H77) -> 0 | J77: =IFERROR(H77/G77*100,H77) -> 0
B78: 32931 | D78: Reprezentacija | E78: ='Rekapitulacija Posebni dio'!C434 -> 877.58 | I78: =IFERROR(H78/F78*100,H78) -> 0 | J78: =IFERROR(H78/G78*100,H78) -> 0
B79: 3294 | D79: Članarine i norme | E79: =E80 -> 0 | F79: =F80 -> 0 | G79: =G80 -> 0 | H79: =H80 -> 556.2 | I79: =IFERROR(H79/F79*100,H79) -> 556.2 | J79: =IFERROR(H79/G79*100,H79) -> 556.2
B80: 32941 | D80: Tuzemne članarine | E80: ='Rekapitulacija Posebni dio'!C488 -> 0 | F80: ='Rekapitulacija Posebni dio'!D488 -> 0 | G80: ='Rekapitulacija Posebni dio'!E488 -> 0 | H80: ='Rekapitulacija Posebni dio'!F488 -> 556.2 | I80: =IFERROR(H80/F80*100,H80) -> 556.2 | J80: =IFERROR(H80/G80*100,H80) -> 556.2
B81: 3299 | D81: Ostali nespomenuti rashodi poslovanja | E81: =E82 -> 190.31 | F81: =F82 -> 0 | G81: =G82 -> 0 | H81: =H82 -> 891.23 | I81: =IFERROR(H81/F81*100,H81) -> 891.23 | J81: =IFERROR(H81/G81*100,H81) -> 891.23
B82: 32999 | D82: Ostali nespomenuti rashodi poslovanja | E82: ='Rekapitulacija Posebni dio'!C436+'Rekapitulacija Posebni dio'!C489 -> 190.31 | F82: ='Rekapitulacija Posebni dio'!D436+'Rekapitulacija Posebni dio'!D489 -> 0 | G82: ='Rekapitulacija Posebni dio'!E436+'Rekapitulacija Posebni dio'!E489 -> 0 | H82: ='Rekapitulacija Posebni dio'!F436+'Rekapitulacija Posebni dio'!F489 -> 891.23 | I82: =IFERROR(H82/F82*100,H82) -> 891.23 | J82: =IFERROR(H82/G82*100,H82) -> 891.23
A83: 4 | D83: Rashodi za nabavu nefinancijske imovine | E83: =E84+E95 -> 255509.51 | F83: =F84+F95 -> 265723.71 | G83: =G84+G95 -> 265276 | H83: =H84+H95 -> 265116 | I83: =IFERROR(H83/F83*100,H83) -> 99.7713 | J83: =IFERROR(H83/G83*100,H83) -> 99.939685
B84: 42 | D84: Rashodi za nabavu proizvedene dug. imovine | E84: =SUM(E85) -> 108623.04 | F84: =SUM(F85) -> 135136.05 | G84: =SUM(G85) -> 180994.84 | H84: =SUM(H85) -> 180994.84 | I84: =IFERROR(H84/F84*100,H84) -> 133.93527 | J84: =IFERROR(H84/G84*100,H84) -> 100
B85: 422 | D85: Postrojenja i oprema | E85: =E86+E89+E91+E93 -> 108623.04 | F85: =F86+F89+F91+F93 -> 135136.05 | G85: =G86+G89+G91+G93 -> 180994.84 | H85: =H86+H89+H91+H93 -> 180994.84 | I85: =IFERROR(H85/F85*100,H85) -> 133.93527 | J85: =IFERROR(H85/G85*100,H85) -> 100
B86: 4221 | D86: Uredska oprema i namještaj | E86: =SUM(E87:E88) -> 950.63 | F86: =SUM(F87:F88) -> 27345.38 | G86: =SUM(G87:G88) -> 315 | H86: =SUM(H87:H88) -> 315 | I86: =IFERROR(H86/F86*100,H86) -> 1.1519313 | J86: =IFERROR(H86/G86*100,H86) -> 100
B87: 42211 | D87: Računala i računalna oprema | E87: ='Rekapitulacija Posebni dio'!C531 -> 370.63 | F87: ='Rekapitulacija Posebni dio'!D531 -> 5865.38 | G87: ='Rekapitulacija Posebni dio'!E531 -> 0 | H87: ='Rekapitulacija Posebni dio'!F531 -> 0 | I87: =IFERROR(H87/F87*100,H87) -> 0 | J87: =IFERROR(H87/G87*100,H87) -> 0
B88: 42212 | D88: Uredski namještaj | E88: ='Rekapitulacija Posebni dio'!C532 -> 580 | F88: ='Rekapitulacija Posebni dio'!D532 -> 21480 | G88: ='Rekapitulacija Posebni dio'!E532 -> 315 | H88: ='Rekapitulacija Posebni dio'!F532 -> 315 | I88: =IFERROR(H88/F88*100,H88) -> 1.4664804 | J88: =IFERROR(H88/G88*100,H88) -> 100
B89: 4223 | D89: Oprema za održavanje iz zaštitu | E89: =SUM(E90) -> 3832.41 | F89: =SUM(F90) -> 7518 | G89: =SUM(G90) -> 2816.73 | H89: =SUM(H90) -> 2816.73 | I89: =IFERROR(H89/F89*100,H89) -> 37.46648 | J89: =IFERROR(H89/G89*100,H89) -> 100
B90: 42231 | D90: Oprema za grijanje, ventilaciju i hlađenje | E90: ='Rekapitulacija Posebni dio'!C534 -> 3832.41 | F90: ='Rekapitulacija Posebni dio'!D534 -> 7518 | G90: ='Rekapitulacija Posebni dio'!E534 -> 2816.73 | H90: ='Rekapitulacija Posebni dio'!F534 -> 2816.73 | I90: =IFERROR(H90/F90*100,H90) -> 37.46648 | J90: =IFERROR(H90/G90*100,H90) -> 100
B91: 4224 | D91: Medicinska i laboratorijska oprema | E91: =SUM(E92) -> 59927.5 | F91: =SUM(F92) -> 62365.84 | G91: =SUM(G92) -> 146018.11 | H91: =SUM(H92) -> 146018.11 | I91: =IFERROR(H91/F91*100,H91) -> 234.13155 | J91: =IFERROR(H91/G91*100,H91) -> 100
B92: 42241 | D92: Medicinska oprema | E92: ='Rekapitulacija Posebni dio'!C536 -> 59927.5 | F92: ='Rekapitulacija Posebni dio'!D536 -> 62365.84 | G92: ='Rekapitulacija Posebni dio'!E536 -> 146018.11 | H92: ='Rekapitulacija Posebni dio'!F536 -> 146018.11 | I92: =IFERROR(H92/F92*100,H92) -> 234.13155 | J92: =IFERROR(H92/G92*100,H92) -> 100
B93: 4225 | D93: Instrumenti, uređaji i strojevi | E93: =SUM(E94) -> 43912.5 | F93: =SUM(F94) -> 37906.83 | G93: =SUM(G94) -> 31845 | H93: =SUM(H94) -> 31845 | I93: =IFERROR(H93/F93*100,H93) -> 84.008607 | J93: =IFERROR(H93/G93*100,H93) -> 100
B94: 42259 | D94: Ostali instrumenti i uređaji | E94: ='Rekapitulacija Posebni dio'!C538 -> 43912.5 | F94: ='Rekapitulacija Posebni dio'!D538 -> 37906.83 | G94: ='Rekapitulacija Posebni dio'!E538 -> 31845 | H94: ='Rekapitulacija Posebni dio'!F538 -> 31845 | I94: =IFERROR(H94/F94*100,H94) -> 84.008607 | J94: =IFERROR(H94/G94*100,H94) -> 100
B95: 45 | D95: Rashodi za dodatna ulaganja na financijskoj imovini | E95: =E96 -> 146886.47 | F95: =F96 -> 130587.66 | G95: =G96 -> 84281.16 | H95: =H96 -> 84121.16 | I95: =IFERROR(H95/F95*100,H95) -> 64.417388 | J95: =IFERROR(H95/G95*100,H95) -> 99.810159
B96: 451 | D96: Dodatna ulaganja na građevinskim objektima | E96: =SUM(E97) -> 146886.47 | F96: =SUM(F97) -> 130587.66 | G96: =SUM(G97) -> 84281.16 | H96: =SUM(H97) -> 84121.16 | I96: =IFERROR(H96/F96*100,H96) -> 64.417388 | J96: =IFERROR(H96/G96*100,H96) -> 99.810159
B97: 4511 | D97: Dodatna ulaganja na građevinskim objektima | E97: =SUM(E98) -> 146886.47 | F97: =SUM(F98) -> 130587.66 | G97: =SUM(G98) -> 84281.16 | H97: =SUM(H98) -> 84121.16 | I97: =IFERROR(H97/F97*100,H97) -> 64.417388 | J97: =IFERROR(H97/G97*100,H97) -> 99.810159
B98: 45111 | D98: Dodatna ulaganja na građevinskim objektima | E98: ='Rekapitulacija Posebni dio'!C542 -> 146886.47 | F98: ='Rekapitulacija Posebni dio'!D542 -> 130587.66 | G98: ='Rekapitulacija Posebni dio'!E542 -> 84281.16 | H98: ='Rekapitulacija Posebni dio'!F542 -> 84121.16 | I98: =IFERROR(H98/F98*100,H98) -> 64.417388 | J98: =IFERROR(H98/G98*100,H98) -> 99.810159
C99: 11 | D99: Opći prihodi i primici | E99: =E11+E83 -> 397160.43 | F99: =F11+F83 -> 369361.73 | G99: =G11+G83 -> 608264.02 | H99: =H11+H83 -> 618103.51 | I99: =IFERROR(H99/F99*100,H99) -> 167.34368 | J99: =IFERROR(H99/G99*100,H99) -> 101.61763
A100: 3 | D100: Rashodi poslovanja | E100: =E101+E124+E221+E232+E236+E241 -> 4756406.2 | F100: =F101+F124+F221+F232+F236+F241 -> 3883930.4 | G100: =G101+G124+G221+G232+G236+G241 -> 3580125.3 | H100: =H101+H124+H221+H232+H236+H241 -> 4374707.8 | I100: =IFERROR(H100/F100*100,H100) -> 112.6361 | J100: =IFERROR(H100/G100*100,H100) -> 122.19427
B101: 31 | D101: Rashodi za zaposlene | E101: =E102+E111+E119 -> 4058051.6 | F101: =F102+F111+F119 -> 3042112.3 | G101: =G102+G111+G119 -> 3002112.3 | H101: =H102+H111+H119 -> 3953169.5 | I101: =IFERROR(H101/F101*100,H101) -> 129.94818 | J101: =IFERROR(H101/G101*100,H101) -> 131.6796
...

Sheet RASHODI-funkcijska
A2: I. OPĆI DIO
A4: A. RAČUN PRIHODA I RASHODA
A6: IZVJEŠTAJ O RASHODIMA PREMA FUNKCIJSKOJ KLASIFIKACIJI
A8: BROJČANA OZNAKA I NAZIV | B8: OSTVARENJE/ IZVRŠENJE 1.-12.2024. | C8: IZVORNI PLAN ZA 2025. | D8: TEKUĆI PLAN 2025. | E8: OSTVARENJE/ IZVRŠENJE 1.-12.2025. | F8: Indeks | G8: Indeks
A9: 1 | C9: 2 | D9: 3 | E9: 4 | F9: 5 | G9: 5
A10: UKUPNO RASHODI | B10: ='RASHODI-ek.kl.'!D249 -> 5931700.2 | C10: ='RASHODI-ek.kl.'!E249 -> 4725934.6 | D10: ='RASHODI-ek.kl.'!F249 -> 4763941.6 | E10: ='RASHODI-ek.kl.'!G249 -> 5188831.5 | F10: =IFERROR(E10/C10*100,E10) -> 109.79482 | G10: =IFERROR(E10/D10*100,E10) -> 108.91887
A11: 07 Zdravstvo | B11: =B12 -> 5931700.2 | C11: =C12 -> 4725934.6 | D11: =D12 -> 4763941.7 | E11: =E12 -> 5188831.5 | F11: =IFERROR(E11/C11*100,E11) -> 109.79482 | G11: =IFERROR(E11/D11*100,E11) -> 108.91887
A12: 072 Služba za vanjske pacijente | B12: =B13+B14+B15 -> 5931700.2 | C12: =C13+C14+C15 -> 4725934.6 | D12: =D13+D14+D15 -> 4763941.7 | E12: =E13+E14+E15 -> 5188831.5 | F12: =IFERROR(E12/C12*100,E12) -> 109.79482 | G12: =IFERROR(E12/D12*100,E12) -> 108.91887
A13: 0721 Opće medicinske usluge | B13: =ROUND(B10*0.6,2) -> 3559020.1 | C13: =ROUND(C10*0.6,2) -> 2835560.7 | D13: =ROUND(D10*0.6,2) -> 2858365 | E13: =ROUND(E10*0.6,2) -> 3113298.9 | F13: =IFERROR(E13/C13*100,E13) -> 109.79482 | G13: =IFERROR(E13/D13*100,E13) -> 108.91887
A14: 0722 Specijalističke med. usluge | B14: =ROUND(B10*0.15,2) -> 889755.03 | C14: =ROUND(C10*0.15,2) -> 708890.19 | D14: =ROUND(D10*0.15,2) -> 714591.25 | E14: =ROUND(E10*0.15,2) -> 778324.73 | F14: =IFERROR(E14/C14*100,E14) -> 109.79482 | G14: =IFERROR(E14/D14*100,E14) -> 108.91887
A15: 0723 Zubarske usluge | B15: =ROUND(B10*0.25,2) -> 1482925 | C15: =ROUND(C10*0.25,2) -> 1181483.6 | D15: =ROUND(D10*0.25,2) -> 1190985.4 | E15: =ROUND(E10*0.25,2) -> 1297207.9 | F15: =IFERROR(E15/C15*100,E15) -> 109.79482 | G15: =IFERROR(E15/D15*100,E15) -> 108.91887
A16: 073 Bolničke službe | C16: =C17 -> 0 | D16: =D17 -> 0 | E16: =E17 -> 0 | F16: =IFERROR(E16/C16*100,E16) -> 0 | G16: =IFERROR(E16/D16*100,E16) -> 0
A17: 0731 Usluge općih bolnica | F17: =IFERROR(E17/C17*100,E17) -> 0 | G17: =IFERROR(E17/D17*100,E17) -> 0
A18: 074 Službe javnog zdravstva | C18: 0 | D18: 0 | E18: 0 | F18: =IFERROR(E18/C18*100,E18) -> 0 | G18: =IFERROR(E18/D18*100,E18) -> 0

Sheet Rekapitulacija Posebni dio
A1: II. POSEBNI DIO
A2: Rashodi i izdaci po izvorima financiranja i ekonomskoj klasifikaciji raspoređenih u programe, aktivnosti i projekte
A4: Šifra | B4: Naziv | C4: OSTVARENJE/ IZVRŠENJE 1.-12.2024. | D4: IZVORNI PLAN ZA 2025. | E4: TEKUĆI PLAN 2025. | F4: OSTVARENJE/ IZVRŠENJE 1.-12.2025. | G4: Indeks | H4: Indeks
A5: PROGRAM | B5: RAD I RAZVOJ USTANOVE | C5: 2 | D5: 3 | E5: 4 | F5: 5 | G5: 6=5/3*100 | H5: 7=5/4*100
A6: AKTIVNOST | B6: Redovna djelatnost | C6: =C7+C198+C298+C361+C377+C397+C403+C437+C443+C491 -> 4952099.2 | D6: =D7+D198+D298+D361+D377+D397+D403+D437+D443+D491 -> 4247373.5 | E6: =E7+E198+E298+E361+E377+E397+E403+E437+E443+E491 -> 4193568.4 | F6: =F7+F198+F298+F361+F377+F397+F403+F437+F443+F491 -> 4777418.1 | G6: =IFERROR(F6/D6*100,F6) -> 112.47935 | H6: =IFERROR(F6/E6*100,F6) -> 113.9225
A7: 43 | B7: Ostali prihodi za posebne namjene | C7: =C8+C163 -> 4777402.3 | D7: =D8+D163 -> 4009442.6 | E7: =E8+E163 -> 3705637.5 | F7: =F8+F163 -> 4378780.3 | G7: =IFERROR(F7/D7*100,F7) -> 109.2117 | H7: =IFERROR(F7/E7*100,F7) -> 118.16537
A8: 3 | B8: Rashodi poslovanja | C8: =C9+C32+C129+C141+C144+C149 -> 4756406.2 | D8: =D9+D32+D129+D141+D144+D149 -> 3883930.4 | E8: =E9+E32+E129+E141+E144+E149 -> 3580125.3 | F8: =F9+F32+F129+F141+F144+F149 -> 4374707.8 | G8: =IFERROR(F8/D8*100,F8) -> 112.6361 | H8: =IFERROR(F8/E8*100,F8) -> 122.19427
A9: 31 | B9: Rashodi za zaposlene | C9: =C10+C19+C27 -> 4058051.6 | D9: =D10+D19+D27 -> 3042112.3 | E9: =E10+E19+E27 -> 3002112.3 | F9: =F10+F19+F27 -> 3953169.5 | G9: =IFERROR(F9/D9*100,F9) -> 129.94818 | H9: =IFERROR(F9/E9*100,F9) -> 131.6796
A10: 311 | B10: Plaće | C10: =C11+C14+C15+C17 -> 3379334.8 | D10: =D11+D14+D15+D17 -> 2505491.4 | E10: =E11+E14+E15+E17 -> 2505491.4 | F10: =F11+F14+F15+F17 -> 3314839.7 | G10: =IFERROR(F10/D10*100,F10) -> 132.30297 | H10: =IFERROR(F10/E10*100,F10) -> 132.30297
A11: 3111 | B11: Plaće za redovan rad | C11: =SUM(C12:C13) -> 3257753.1 | D11: =SUM(D12:D13) -> 2456384 | E11: =SUM(E12:E13) -> 2456384 | F11: =SUM(F12:F13) -> 3214978.1 | G11: =IFERROR(F11/D11*100,F11) -> 130.88255 | H11: =IFERROR(F11/E11*100,F11) -> 130.88255
A12: 31111 | B12: Plaće za redovan rad | C12: 3256037.1 | D12: 2451384 | E12: 2451384 | F12: =3311673.68+3935.98-F203-F549-F568-F590-F615-F644-F724 -> 3214978.1 | G12: =IFERROR(F12/D12*100,F12) -> 131.14951 | H12: =IFERROR(F12/E12*100,F12) -> 131.14951
A13: 31113 | B13: Plaće po sudskim presudama | C13: 1715.99 | D13: 5000 | E13: 5000 | G13: =IFERROR(F13/D13*100,F13) -> 0 | H13: =IFERROR(F13/E13*100,F13) -> 0
A14: 3112 | B14: Plaće u naravi | G14: =IFERROR(F14/D14*100,F14) -> 0 | H14: =IFERROR(F14/E14*100,F14) -> 0
A15: 3113 | B15: Plaće za prekovremeni rad | C15: =SUM(C16) -> 79831.87 | D15: =SUM(D16) -> 49107.44 | E15: =SUM(E16) -> 49107.44 | F15: =SUM(F16) -> 99861.59 | G15: =IFERROR(F15/D15*100,F15) -> 203.35328 | H15: =IFERROR(F15/E15*100,F15) -> 203.35328
A16: 31131 | B16: Plaće za prekovremeni rad | C16: 79831.87 | D16: 49107.44 | E16: 49107.44 | F16: =99861.59 -> 99861.59 | G16: =IFERROR(F16/D16*100,F16) -> 203.35328 | H16: =IFERROR(F16/E16*100,F16) -> 203.35328
A17: 3114 | B17: Plaće za posebne uvjete rada | C17: =SUM(C18) -> 41749.86 | D17: =SUM(D18) -> 0 | E17: =SUM(E18) -> 0 | F17: =SUM(F18) -> 0 | G17: =IFERROR(F17/D17*100,F17) -> 0 | H17: =IFERROR(F17/E17*100,F17) -> 0
A18: 31141 | B18: Plaće za posebne uvjete rada | C18: 41749.86 | D18: 0 | F18: =0-F207-F677 -> 0 | G18: =IFERROR(F18/D18*100,F18) -> 0 | H18: =IFERROR(F18/E18*100,F18) -> 0
A19: 312 | B19: Ostali rashodi za zaposlene | C19: =C20 -> 142684.44 | D19: =D20 -> 123214.88 | E19: =E20 -> 123214.88 | F19: =F20 -> 127637.11 | G19: =IFERROR(F19/D19*100,F19) -> 103.58904 | H19: =IFERROR(F19/E19*100,F19) -> 103.58904
A20: 3121 | B20: Ostali rashodi za zaposlene | C20: =SUM(C21:C26) -> 142684.44 | D20: =SUM(D21:D26) -> 123214.88 | E20: =SUM(E21:E26) -> 123214.88 | F20: =SUM(F21:F26) -> 127637.11 | G20: =IFERROR(F20/D20*100,F20) -> 103.58904 | H20: =IFERROR(F20/E20*100,F20) -> 103.58904
A21: 31212 | B21: Ostali rashodi za zaposlene-nagrade | C21: 32979.2 | D21: 13000 | E21: 13000 | F21: =39526.31-F496 -> 38567.75 | G21: =IFERROR(F21/D21*100,F21) -> 296.675 | H21: =IFERROR(F21/E21*100,F21) -> 296.675
A22: 31213 | B22: Darovi | C22: 30736.17 | D22: 25000 | E22: 25000 | F22: =22986.48-F497 -> 13945.04 | G22: =IFERROR(F22/D22*100,F22) -> 55.78016 | H22: =IFERROR(F22/E22*100,F22) -> 55.78016
A23: 31214 | B23: Otpremnine | D23: 2000 | E23: 2000 | F23: 0 | G23: =IFERROR(F23/D23*100,F23) -> 0 | H23: =IFERROR(F23/E23*100,F23) -> 0
A24: 31215 | B24: Naknade za bolest, invalidnost i smrt | C24: 4022.98 | D24: 3800 | E24: 3800 | F24: 2524.32 | G24: =IFERROR(F24/D24*100,F24) -> 66.429474 | H24: =IFERROR(F24/E24*100,F24) -> 66.429474
A25: 31216 | B25: Regres za godišnji odmor | C25: 39600 | D25: 40000 | E25: 40000 | F25: =36600-F618-F647 -> 36600 | G25: =IFERROR(F25/D25*100,F25) -> 91.5 | H25: =IFERROR(F25/E25*100,F25) -> 91.5
A26: 31219 | B26: Ostali nenavedeni rashodi za zaposlene | C26: 35346.09 | D26: =123214.88-D21-D22-D23-D24-D25 -> 39414.88 | E26: 39414.88 | F26: =39900-F210-F619-F648 -> 36000 | G26: =IFERROR(F26/D26*100,F26) -> 91.336064 | H26: =IFERROR(F26/E26*100,F26) -> 91.336064
A27: 313 | B27: Doprinosi na plaće | C27: =C28+C30 -> 536032.32 | D27: =D28+D30 -> 413406 | E27: =E28+E30 -> 373406 | F27: =F28+F30 -> 510692.71 | G27: =IFERROR(F27/D27*100,F27) -> 123.53297 | H27: =IFERROR(F27/E27*100,F27) -> 136.76607
A28: 3132 | B28: Doprinosi za obvezno zdravstveno osiguranje | C28: =SUM(C29) -> 535994.58 | D28: =SUM(D29) -> 413406 | E28: =SUM(E29) -> 373406 | F28: =SUM(F29) -> 510680.4 | G28: =IFERROR(F28/D28*100,F28) -> 123.52999 | H28: =IFERROR(F28/E28*100,F28) -> 136.76277
A29: 31321 | B29: Doprinosi za obvezno zdravstveno osiguranje | C29: 535994.58 | D29: 413406 | E29: =373406 -> 373406 | F29: =558972.6-F213-F310-F402-F554-F573-F595-F622-F651-F727 -> 510680.4 | G29: =IFERROR(F29/D29*100,F29) -> 123.52999 | H29: =IFERROR(F29/E29*100,F29) -> 136.76277
A30: 3133 | B30: Doprinosi za zapošljavanje | C30: =C31 -> 37.74 | D30: =D31 -> 0 | E30: =E31 -> 0 | F30: =F31 -> 12.31 | G30: =IFERROR(F30/D30*100,F30) -> 12.31 | H30: =IFERROR(F30/E30*100,F30) -> 12.31
A31: 31332 | B31: Doprinosi za obvezno osiguranje u slučaju nezaposlenosti | C31: 37.74 | F31: 12.31 | G31: =IFERROR(F31/D31*100,F31) -> 12.31 | H31: =IFERROR(F31/E31*100,F31) -> 12.31
A32: 32 | B32: Materijalni rashodi | C32: =C33+C45+C70+C101+C108 -> 682391.78 | D32: =D33+D45+D70+D101+D108 -> 829345.58 | E32: =E33+E45+E70+E101+E104+E108 -> 565540.49 | F32: =F33+F45+F70+F101+F104+F108 -> 414295.39 | G32: =IFERROR(F32/D32*100,F32) -> 49.954494 | H32: =IFERROR(F32/E32*100,F32) -> 73.256539
A33: 321 | B33: Naknade troškova zaposlenima | C33: =C34+C38+C40+C43 -> 100222.78 | D33: =D34+D38+D40+D43 -> 106441.57 | E33: =E34+E38+E40+E43 -> 106441.57 | F33: =F34+F38+F40+F43 -> 82014.11 | G33: =IFERROR(F33/D33*100,F33) -> 77.050827 | H33: =IFERROR(F33/E33*100,F33) -> 77.050827
A34: 3211 | B34: Službena putovanja | C34: =SUM(C35:C37) -> 3262.2405 | D34: =SUM(D35:D37) -> 18977.24 | E34: =SUM(E35:E37) -> 18977.24 | F34: =SUM(F35:F37) -> 1596.29 | G34: =IFERROR(F34/D34*100,F34) -> 8.4116025 | H34: =IFERROR(F34/E34*100,F34) -> 8.4116025
A35: 32111 | B35: Dnevnice za službeni put u zemlji | C35: 2952.7505 | D35: 11800 | E35: 11800 | F35: =3349.32-F366-F599-F626-F655-F731 -> 1140 | G35: =IFERROR(F35/D35*100,F35) -> 9.6610169 | H35: =IFERROR(F35/E35*100,F35) -> 9.6610169
A36: 32113 | B36: Naknade za smještaj na službenom putu u zemlji | C36: 0 | D36: 700 | E36: 700 | F36: =827.6-F656-F732 -> 227.6 | G36: =IFERROR(F36/D36*100,F36) -> 32.514286 | H36: =IFERROR(F36/E36*100,F36) -> 32.514286
A37: 32115 | B37: Naknade za prijevoz na službenom putu u zemlji | C37: 309.49 | D37: =18977.24-D35-D36 -> 6477.24 | E37: 6477.24 | F37: =931.4-F217-F367-F657-F733 -> 228.69 | G37: =IFERROR(F37/D37*100,F37) -> 3.5306705 | H37: =IFERROR(F37/E37*100,F37) -> 3.5306705
A38: 3212 | B38: Naknade za prijevoz, za rad na terenu i odvojeni život | C38: =SUM(C39) -> 92041.02 | D38: =SUM(D39) -> 82288.14 | E38: =SUM(E39) -> 82288.14 | F38: =SUM(F39) -> 76715.8 | G38: =IFERROR(F38/D38*100,F38) -> 93.228259 | H38: =IFERROR(F38/E38*100,F38) -> 93.228259
A39: 32121 | B39: Naknade za prijevoz, za rad na terenu i odvojeni život | C39: 92041.02 | D39: 82288.14 | E39: 82288.14 | F39: =91748.23+339.77-F219-F628-F659-F735 -> 76715.8 | G39: =IFERROR(F39/D39*100,F39) -> 93.228259 | H39: =IFERROR(F39/E39*100,F39) -> 93.228259
A40: 3213 | B40: Stručno usavršavanje zaposlenih | C40: =SUM(C41:C42) -> 4919.52 | D40: =SUM(D41:D42) -> 4778.02 | E40: =SUM(E41:E42) -> 4778.02 | F40: =SUM(F41:F42) -> 3702.02 | G40: =IFERROR(F40/D40*100,F40) -> 77.480211 | H40: =IFERROR(F40/E40*100,F40) -> 77.480211
A41: 32131 | B41: Seminari, savjetovanja i simpoziji | C41: 1080 | D41: 2200 | E41: 2200 | F41: =1802.75-F448 -> 1571.5 | G41: =IFERROR(F41/D41*100,F41) -> 71.431818 | H41: =IFERROR(F41/E41*100,F41) -> 71.431818
A42: 32132 | B42: Tečajevi i stručni ispiti | C42: 3839.52 | D42: =4778.02-D41 -> 2578.02 | E42: 2578.02 | F42: =2794.13-F221-F630-F661-F737 -> 2130.52 | G42: =IFERROR(F42/D42*100,F42) -> 82.641717 | H42: =IFERROR(F42/E42*100,F42) -> 82.641717
A43: 3214 | B43: Ostale naknade troškova zaposlenima | C43: =SUM(C44) -> 0 | D43: =SUM(D44) -> 398.17 | E43: =SUM(E44) -> 398.17 | F43: =SUM(F44) -> 0 | G43: =IFERROR(F43/D43*100,F43) -> 0 | H43: =IFERROR(F43/E43*100,F43) -> 0
A44: 32141 | B44: Naknada za korištenje privatnog automobila u službene svrhe | C44: 0 | D44: 398.17 | E44: 398.17 | F44: 0 | G44: =IFERROR(F44/D44*100,F44) -> 0 | H44: =IFERROR(F44/E44*100,F44) -> 0
A45: 322 | B45: Rashodi za materijal i energiju | C45: =C46+C52+C56+C61+C66+C68 -> 361175.7 | D45: =D46+D52+D56+D61+D66+D68 -> 431866.74 | E45: =E46+E52+E56+E61+E66+E68 -> 146061.65 | F45: =F46+F52+F56+F61+F66+F68 -> 71511.19 | G45: =IFERROR(F45/D45*100,F45) -> 16.558624 | H45: =IFERROR(F45/E45*100,F45) -> 48.959593
A46: 3221 | B46: Uredski materijal i ostali materijalni rashodi | C46: =SUM(C47:C51) -> 29125.12 | D46: =SUM(D47:D51) -> 29862.63 | E46: =SUM(E47:E51) -> 29862.63 | F46: =SUM(F47:F51) -> 14956.25 | G46: =IFERROR(F46/D46*100,F46) -> 50.083499 | H46: =IFERROR(F46/E46*100,F46) -> 50.083499
A47: 32211 | B47: Uredski materijal | C47: 13687.63 | D47: 12000 | E47: 12000 | F47: =11242.91-F225-F408-F451-F692-F740 -> 7384.83 | G47: =IFERROR(F47/D47*100,F47) -> 61.54025 | H47: =IFERROR(F47/E47*100,F47) -> 61.54025
A48: 32212 | B48: Literatura | C48: 0 | D48: 500 | E48: 500 | F48: =565 -> 565 | G48: =IFERROR(F48/D48*100,F48) -> 113 | H48: =IFERROR(F48/E48*100,F48) -> 113
A49: 32214 | B49: Materijal i sredstva za čišćenje i održavanje | C49: 13369.64 | D49: 15000 | E49: 15000 | F49: =10713.26-F315-F409-F452 -> 5909.9 | G49: =IFERROR(F49/D49*100,F49) -> 39.399333 | H49: =IFERROR(F49/E49*100,F49) -> 39.399333
A50: 32215 | B50: Službena, radna i zaštitna odjeća | C50: 0 | D50: 700 | E50: 700 | F50: 0 | G50: =IFERROR(F50/D50*100,F50) -> 0 | H50: =IFERROR(F50/E50*100,F50) -> 0
A51: 32219 | B51: Ostali materijal za potrebe redovnog poslovanja | C51: 2067.85 | D51: =29862.63-D47-D48-D49-D50 -> 1662.63 | E51: 1662.63 | F51: =4028.32-F453-F603-F741 -> 1096.52 | G51: =IFERROR(F51/D51*100,F51) -> 65.950933 | H51: =IFERROR(F51/E51*100,F51) -> 65.950933
A52: 3222 | B52: Materijal i sirovine | C52: =SUM(C53:C55) -> 214691.74 | D52: =SUM(D53:D55) -> 191120.84 | E52: =SUM(E53:E55) -> 0 | F52: =SUM(F53:F55) -> 0 | G52: =IFERROR(F52/D52*100,F52) -> 0 | H52: =IFERROR(F52/E52*100,F52) -> 0
A53: 32221 | B53: Potrošni medicinski materijal | C53: 199443.64 | D53: 170000 | F53: 0 | G53: =IFERROR(F53/D53*100,F53) -> 0 | H53: =IFERROR(F53/E53*100,F53) -> 0
A54: 32226 | B54: Lijekovi | C54: 15034.88 | D54: 20000 | F54: 0 | G54: =IFERROR(F54/D54*100,F54) -> 0 | H54: =IFERROR(F54/E54*100,F54) -> 0
A55: 32229 | B55: Ostali materijal i sirovine | C55: 213.22 | D55: =191120.84-D53-D54 -> 1120.84 | F55: =0 -> 0 | G55: =IFERROR(F55/D55*100,F55) -> 0 | H55: =IFERROR(F55/E55*100,F55) -> 0
A56: 3223 | B56: Energija | C56: =SUM(C57:C60) -> 107818.18 | D56: =SUM(D57:D60) -> 181684.25 | E56: =SUM(E57:E60) -> 87000 | F56: =SUM(F57:F60) -> 52529.99 | G56: =IFERROR(F56/D56*100,F56) -> 28.912792 | H56: =IFERROR(F56/E56*100,F56) -> 60.379299
A57: 32231 | B57: Električna energija | C57: 26651.44 | D57: 29000 | E57: 29000 | F57: =29871.18-F413-F455 -> 21318.82 | G57: =IFERROR(F57/D57*100,F57) -> 73.513172 | H57: =IFERROR(F57/E57*100,F57) -> 73.513172
A58: 32232 | B58: Topla voda | C58: 2531.24 | D58: 2000 | E58: 2000 | F58: =2728.44-F456 -> 2555.02 | G58: =IFERROR(F58/D58*100,F58) -> 127.751 | H58: =IFERROR(F58/E58*100,F58) -> 127.751
A59: 32233 | B59: Plin | C59: 21396.27 | D59: 36000 | E59: 36000 | F59: =34313.04-F230-F414-F457 -> 16226.57 | G59: =IFERROR(F59/D59*100,F59) -> 45.073806 | H59: =IFERROR(F59/E59*100,F59) -> 45.073806
A60: 32234 | B60: Motorni benzin i dizel gorivo | C60: 57239.23 | D60: =181684.25-D57-D58-D59 -> 114684.25 | E60: 20000 | F60: =20750.41-F231-F458-F744 -> 12429.58 | G60: =IFERROR(F60/D60*100,F60) -> 10.838088 | H60: =IFERROR(F60/E60*100,F60) -> 62.1479
A61: 3224 | B61: Materijal i dijelovi za tekuće i investicijsko održavanje | C61: =SUM(C62:C65) -> 1636.84 | D61: =SUM(D62:D65) -> 13272.28 | E61: =SUM(E62:E65) -> 13272.28 | F61: =SUM(F62:F65) -> 3698.67 | G61: =IFERROR(F61/D61*100,F61) -> 27.867631 | H61: =IFERROR(F61/E61*100,F61) -> 27.867631
A62: 32241 | B62: Materijal i dijelovi za tekuće i invest. održavanje građevinskih objekata | C62: 1030.38 | D62: 7200 | E62: 7200 | F62: =2016.96-F460-F517-F786 -> 1664.54 | G62: =IFERROR(F62/D62*100,F62) -> 23.118611 | H62: =IFERROR(F62/E62*100,F62) -> 23.118611
A63: 32242 | B63: Materijal i dijelovi za tekuće i invest. održavanje postrojenja i opreme | C63: 191.25 | D63: 3000 | E63: 3000 | F63: =2888.26-F461 -> 1861.07 | G63: =IFERROR(F63/D63*100,F63) -> 62.035667 | H63: =IFERROR(F63/E63*100,F63) -> 62.035667
A64: 32243 | B64: Materijal i dijelovi za tekuće i invest. održavanje transportnih sredstava | C64: 415.21 | D64: 2500 | E64: 2500 | F64: =159.8 -> 159.8 | G64: =IFERROR(F64/D64*100,F64) -> 6.392 | H64: =IFERROR(F64/E64*100,F64) -> 6.392
A65: 32244 | B65: Ostali materijal i dijelovi za tekuće i invest. održavanje | C65: 0 | D65: =13272.28-D62-D63-D64 -> 572.28 | E65: 572.28 | F65: =13.26 -> 13.26 | G65: =IFERROR(F65/D65*100,F65) -> 2.3170476 | H65: =IFERROR(F65/E65*100,F65) -> 2.3170476
A66: 3225 | B66: Sitan inventar i autogume | C66: =SUM(C67) -> 4563.9 | D66: =SUM(D67) -> 6636.14 | E66: =SUM(E67) -> 6636.14 | F66: =SUM(F67) -> 251.28 | G66: =IFERROR(F66/D66*100,F66) -> 3.7865386 | H66: =IFERROR(F66/E66*100,F66) -> 3.7865386
A67: 32251 | B67: Sitan inventar i autogume | C67: 4563.9 | D67: 6636.14 | E67: 6636.14 | F67: =577.79-F463 -> 251.28 | G67: =IFERROR(F67/D67*100,F67) -> 3.7865386 | H67: =IFERROR(F67/E67*100,F67) -> 3.7865386
A68: 3227 | B68: Službena radna i zaštitna odjeća | C68: =SUM(C69) -> 3339.92 | D68: =SUM(D69) -> 9290.6 | E68: =SUM(E69) -> 9290.6 | F68: =SUM(F69) -> 75 | G68: =IFERROR(F68/D68*100,F68) -> 0.80726756 | H68: =IFERROR(F68/E68*100,F68) -> 0.80726756
A69: 32271 | B69: Službena radna i zaštitna odjeća | C69: 3339.92 | D69: 9290.6 | E69: 9290.6 | F69: =1306.75-F465 -> 75 | G69: =IFERROR(F69/D69*100,F69) -> 0.80726756 | H69: =IFERROR(F69/E69*100,F69) -> 0.80726756
A70: 323 | B70: Rashodi za usluge | C70: =C71+C75+C79+C81+C86+C88+C90+C95+C97 -> 186036.66 | D70: =D71+D75+D79+D81+D86+D88+D90+D95+D97 -> 238863.46 | E70: =E71+E75+E79+E81+E86+E88+E90+E95+E97 -> 220863.46 | F70: =F71+F75+F79+F81+F86+F88+F90+F95+F97 -> 157136.9 | G70: =IFERROR(F70/D70*100,F70) -> 65.78524 | H70: =IFERROR(F70/E70*100,F70) -> 71.146626
A71: 3231 | B71: Usluge telefona i pošte | C71: =SUM(C72:C74) -> 20247.75 | D71: =SUM(D72:D74) -> 21235.65 | E71: =SUM(E72:E74) -> 23235.65 | F71: =SUM(F72:F74) -> 15128.51 | G71: =IFERROR(F71/D71*100,F71) -> 71.241097 | H71: =IFERROR(F71/E71*100,F71) -> 65.109046
A72: 32311 | B72: Usluge telefona, telefaksa | C72: 19646.55 | D72: 19500 | E72: 19500 | F72: =18453.54-F418-F468 -> 14125.65 | G72: =IFERROR(F72/D72*100,F72) -> 72.439231 | H72: =IFERROR(F72/E72*100,F72) -> 72.439231
A73: 32313 | B73: Poštarina | C73: 594.2 | D73: =21235.65-D72 -> 1735.65 | E73: 1735.65 | F73: =665.36 -> 665.36 | G73: =IFERROR(F73/D73*100,F73) -> 38.334918 | H73: =IFERROR(F73/E73*100,F73) -> 38.334918
A74: 32319 | B74: Ostale usluge za komunikaciju i prijevoz | C74: 7 | E74: 2000 | F74: =737.5-F749 -> 337.5 | G74: =IFERROR(F74/D74*100,F74) -> 337.5 | H74: =IFERROR(F74/E74*100,F74) -> 16.875
A75: 3232 | B75: Usluge tekućeg i investicijskog održavanja | C75: =SUM(C76:C78) -> 15181.16 | D75: =SUM(D76:D78) -> 21053.72 | E75: =SUM(E76:E78) -> 21053.72 | F75: =SUM(F76:F78) -> 18025.05 | G75: =IFERROR(F75/D75*100,F75) -> 85.614561 | H75: =IFERROR(F75/E75*100,F75) -> 85.614561
A76: 32321 | B76: Usluge tekućeg i investicijskog održavanja građevinskih objekata | C76: 5082.59 | D76: 10500 | E76: 10500 | F76: =22673.36-F238-F520-F789 -> 2032.36 | G76: =IFERROR(F76/D76*100,F76) -> 19.35581 | H76: =IFERROR(F76/E76*100,F76) -> 19.35581
A77: 32322 | B77: Usluge tekućeg i investicijskog održavanja postrojenja i opreme | C77: 9438.4 | D77: 6500 | E77: 6500 | F77: =23426.79-F239-F470-F521 -> 12033.29 | G77: =IFERROR(F77/D77*100,F77) -> 185.12754 | H77: =IFERROR(F77/E77*100,F77) -> 185.12754
A78: 32323 | B78: Usluge tekućeg i investicijskog održavanja prijevoznih sredstava | C78: 660.17 | D78: =21053.72-D76-D77 -> 4053.72 | E78: 4053.72 | F78: =18567.89-F240-F522 -> 3959.4 | G78: =IFERROR(F78/D78*100,F78) -> 97.673248 | H78: =IFERROR(F78/E78*100,F78) -> 97.673248
A79: 3233 | B79: Usluge promidžbe i informiranja | C79: =SUM(C80) -> 0 | D79: =SUM(D80) -> 663.61 | E79: =SUM(E80) -> 663.61 | F79: =SUM(F80) -> 491.46 | G79: =IFERROR(F79/D79*100,F79) -> 74.058558 | H79: =IFERROR(F79/E79*100,F79) -> 74.058558
A80: 32339 | B80: Usluge promidžbe i informiranja | C80: 0 | D80: 663.61 | E80: 663.61 | F80: =989.37-F751 -> 491.46 | G80: =IFERROR(F80/D80*100,F80) -> 74.058558 | H80: =IFERROR(F80/E80*100,F80) -> 74.058558
A81: 3234 | B81: Komunalne usluge | C81: =SUM(C82:C85) -> 23343.89 | D81: =SUM(D82:D85) -> 19908.42 | E81: =SUM(E82:E85) -> 19908.42 | F81: =SUM(F82:F85) -> 18438.73 | G81: =IFERROR(F81/D81*100,F81) -> 92.617747 | H81: =IFERROR(F81/E81*100,F81) -> 92.617747
A82: 32341 | B82: Opskrba vodom | C82: 5937.95 | D82: 7500 | E82: 7500 | F82: =6168.1-F472 -> 4749.53 | G82: =IFERROR(F82/D82*100,F82) -> 63.327067 | H82: =IFERROR(F82/E82*100,F82) -> 63.327067
A83: 32342 | B83: Iznošenje i odvoz smeća | C83: 15622.79 | D83: 10500 | E83: 10500 | F83: =4583.12+13718.23-F473 -> 13380.75 | G83: =IFERROR(F83/D83*100,F83) -> 127.43571 | H83: =IFERROR(F83/E83*100,F83) -> 127.43571
A84: 32343 | B84: Deratizacija i dezinsekcija | C84: 1127.96 | D84: 1500 | E84: 1500 | F84: =0 -> 0 | G84: =IFERROR(F84/D84*100,F84) -> 0 | H84: =IFERROR(F84/E84*100,F84) -> 0
A85: 32349 | B85: Ostale komunalne usluge | C85: 655.19 | D85: =19908.42-D82-D83-D84 -> 408.42 | E85: 408.42 | F85: =308.45 -> 308.45 | G85: =IFERROR(F85/D85*100,F85) -> 75.522746 | H85: =IFERROR(F85/E85*100,F85) -> 75.522746
A86: 3235 | B86: Zakupnine i najamnine | C86: =SUM(C87) -> 0 | D86: =SUM(D87) -> 132.72 | E86: =SUM(E87) -> 132.72 | F86: =SUM(F87) -> 0 | G86: =IFERROR(F86/D86*100,F86) -> 0 | H86: =IFERROR(F86/E86*100,F86) -> 0
A87: 32359 | B87: Zakupnine i najamnine | C87: 0 | D87: 132.72 | E87: 132.72 | F87: 0 | G87: =IFERROR(F87/D87*100,F87) -> 0 | H87: =IFERROR(F87/E87*100,F87) -> 0
A88: 3236 | B88: Zdravstvene i veterinarske usluge | C88: =SUM(C89) -> 29827.13 | D88: =SUM(D89) -> 22562.88 | E88: =SUM(E89) -> 2562.88 | F88: =SUM(F89) -> 10487.53 | G88: =IFERROR(F88/D88*100,F88) -> 46.481345 | H88: =IFERROR(F88/E88*100,F88) -> 409.20878
A89: 32369 | B89: Zdravstvene i veterinarske usluge | C89: 29827.13 | D89: 22562.88 | E89: 2562.88 | F89: =24708.75+1055.46-F245-F420-F475 -> 10487.53 | G89: =IFERROR(F89/D89*100,F89) -> 46.481345 | H89: =IFERROR(F89/E89*100,F89) -> 409.20878
A90: 3237 | B90: Intelktualne usluge | C90: =SUM(C91:C94) -> 86411.15 | D90: =SUM(D91:D94) -> 110480.46 | E90: =SUM(E91:E94) -> 110480.46 | F90: =SUM(F91:F94) -> 84764.7 | G90: =IFERROR(F90/D90*100,F90) -> 76.723703 | H90: =IFERROR(F90/E90*100,F90) -> 76.723703
A91: 32372 | B91: Ugovori o djelu | C91: 62424.14 | D91: 94500 | E91: 94500 | F91: =45116.12+179.17+26833.74+5149.25+1258.42-F247-F608-F635-F666-F755 -> 71592.4 | G91: =IFERROR(F91/D91*100,F91) -> 75.759153 | H91: =IFERROR(F91/E91*100,F91) -> 75.759153
A92: 32373 | B92: Usluge odvjetnika i pravnog savjetovanja | C92: 18195.37 | D92: 12000 | E92: 12000 | F92: =16250-F477 -> 11250 | G92: =IFERROR(F92/D92*100,F92) -> 93.75 | H92: =IFERROR(F92/E92*100,F92) -> 93.75
A93: 32375 | B93: Geodetsko-katastarske usluge | C93: 1312.5 | D93: 0 | E93: 0 | F93: 750 | G93: =IFERROR(F93/D93*100,F93) -> 750 | H93: =IFERROR(F93/E93*100,F93) -> 750
A94: 32379 | B94: Ostale intelektualne usluge | C94: 4479.14 | D94: =110480.46-D91-D92 -> 3980.46 | E94: 3980.46 | F94: =2266.05-F422-F478-F770 -> 1172.3 | G94: =IFERROR(F94/D94*100,F94) -> 29.45137 | H94: =IFERROR(F94/E94*100,F94) -> 29.45137
A95: 3238 | B95: Računalne usluge | C95: =SUM(C96) -> 1750.47 | D95: =SUM(D96) -> 18581.19 | E95: =SUM(E96) -> 18581.19 | F95: =SUM(F96) -> 7399.15 | G95: =IFERROR(F95/D95*100,F95) -> 39.820647 | H95: =IFERROR(F95/E95*100,F95) -> 39.820647
A96: 32389 | B96: Ostale računalne usluge | C96: 1750.47 | D96: 18581.19 | E96: 18581.19 | F96: =47399.15-F526 -> 7399.15 | G96: =IFERROR(F96/D96*100,F96) -> 39.820647 | H96: =IFERROR(F96/E96*100,F96) -> 39.820647
A97: 3239 | B97: Ostale usluge | C97: =SUM(C98:C100) -> 9275.11 | D97: =SUM(D98:D100) -> 24244.81 | E97: =SUM(E98:E100) -> 24244.81 | F97: =SUM(F98:F100) -> 2401.77 | G97: =IFERROR(F97/D97*100,F97) -> 9.9063263 | H97: =IFERROR(F97/E97*100,F97) -> 9.9063263
A98: 32394 | B98: Usluge pri registraciji prijevoznih sredstava | C98: 2726.44 | D98: 4000 | E98: 4000 | F98: =2190.91-F330-F424 -> 2190.91 | G98: =IFERROR(F98/D98*100,F98) -> 54.77275 | H98: =IFERROR(F98/E98*100,F98) -> 54.77275
A99: 32395 | B99: Usluge čišćenja, pranja i slično | C99: 5622 | D99: 6500 | E99: 6500 | F99: =0 -> 0 | G99: =IFERROR(F99/D99*100,F99) -> 0 | H99: =IFERROR(F99/E99*100,F99) -> 0
A100: 32399 | B100: Ostale nespomenute usluge | C100: 926.67 | D100: =24244.81-D98-D99 -> 13744.81 | E100: 13744.81 | F100: =4177.23-F250-F425-F637-F668-F757-F772 -> 210.86 | G100: =IFERROR(F100/D100*100,F100) -> 1.5341063 | H100: =IFERROR(F100/E100*100,F100) -> 1.5341063
A101: 324 | B101: Naknade troškova osobama izvan radnog odnosa | C101: =SUM(C102) -> 0 | D101: =SUM(D102) -> 398.17 | E101: =SUM(E102) -> 398.17 | F101: =SUM(F102) -> 0 | G101: =IFERROR(F101/D101*100,F101) -> 0 | H101: =IFERROR(F101/E101*100,F101) -> 0
...

Sheet Kontrolna tablica
C2: PRIHODI I RASHODI PREMA IZVORIMA FINANCIRANJA
B4: R.br. | C4: Opis | D4: Izvorni plan 2025. | E4: Plan | F4: Ostvareno | G4: Indeks | H4: Indeks
C5: UKUPNO PRIHODI | D5: =D6+D8+D10+D14+D16+D18 -> 4702255.6 | E5: =E6+E8+E10+E14+E16+E18 -> 5292700.8 | F5: =F6+F8+F10+F14+F16+F18 -> 5342526.2 | G5: =F5/D5*100 -> 113.61624 | H5: =F5/E5*100 -> 100.9414
B6: 1 | C6: Opći prihodi i primici | D6: =D7 -> 369361.73 | E6: =E7 -> 608264.02 | F6: =F7 -> 618103.51 | G6: =F6/D6*100 -> 167.34368 | H6: =F6/E6*100 -> 101.61763
C7: 11 Opći prihodi i primici | D7: ='Prihodi po ek klas i izvorima'!F15 -> 369361.73 | E7: ='Prihodi po ek klas i izvorima'!G15 -> 608264.02 | F7: ='Prihodi po ek klas i izvorima'!H15 -> 618103.51 | G7: =F7/D7*100 -> 167.34368 | H7: =F7/E7*100 -> 101.61763
B8: 2 | C8: Vlastiti prihodi | D8: =D9 -> 199283.29 | E8: =E9 -> 163116.33 | F8: =F9 -> 137837.86 | G8: =F8/D8*100 -> 69.166793 | H8: =F8/E8*100 -> 84.502796
C9: 31 Vlastiti prihodi | D9: ='Prihodi po ek klas i izvorima'!F75 -> 199283.29 | E9: ='Prihodi po ek klas i izvorima'!G75 -> 163116.33 | F9: ='Prihodi po ek klas i izvorima'!H75 -> 137837.86 | G9: =F9/D9*100 -> 69.166793 | H9: =F9/E9*100 -> 84.502796
B10: 3 | C10: Prihodi za posebne namjene | D10: =SUM(D11:D13) -> 3949596.7 | E10: =SUM(E11:E13) -> 3949596.7 | F10: =SUM(F11:F13) -> 4276069.5 | G10: =F10/D10*100 -> 108.26598 | H10: =F10/E10*100 -> 108.26598
C11: 43 Prihodi za posebne namjene (HZZO) | D11: ='Prihodi po ek klas i izvorima'!F46 -> 3899096.7 | E11: ='Prihodi po ek klas i izvorima'!G46 -> 3899096.7 | F11: ='Prihodi po ek klas i izvorima'!H46 -> 4227449.3 | G11: =F11/D11*100 -> 108.42125 | H11: =F11/E11*100 -> 108.42125
C12: 43 Prihodi za posebne namjene (dopunsko osiguranje, participacija,…) | D12: ='Prihodi po ek klas i izvorima'!F40 -> 47500 | E12: ='Prihodi po ek klas i izvorima'!G40 -> 47500 | F12: ='Prihodi po ek klas i izvorima'!H40 -> 48280.21 | G12: =F12/D12*100 -> 101.64255 | H12: =F12/E12*100 -> 101.64255
C13: 43 Ostali prihodi | D13: ='Prihodi po ek klas i izvorima'!F53 -> 3000 | E13: ='Prihodi po ek klas i izvorima'!G53 -> 3000 | F13: ='Prihodi po ek klas i izvorima'!H53 -> 340.07 | G13: =F13/D13*100 -> 11.335667 | H13: =F13/E13*100 -> 11.335667
B14: 4 | C14: Pomoći | D14: =D15 -> 128013.95 | E14: =E15 -> 514923.83 | F14: =F15 -> 309715.23 | G14: =F14/D14*100 -> 241.93866 | H14: =F14/E14*100 -> 60.147776
C15: 52 Ostale pomoći | D15: ='Prihodi po ek klas i izvorima'!F36 -> 128013.95 | E15: ='Prihodi po ek klas i izvorima'!G36 -> 514923.83 | F15: ='Prihodi po ek klas i izvorima'!H36 -> 309715.23 | G15: =F15/D15*100 -> 241.93866 | H15: =F15/E15*100 -> 60.147776
B16: 5 | C16: Donacije | D16: =D17 -> 50500 | E16: =E17 -> 50500 | F16: =F17 -> 0 | G16: =F16/D16*100 -> 0 | H16: =F16/E16*100 -> 0
C17: 61 Donacije | D17: ='Prihodi po ek klas i izvorima'!F81 -> 50500 | E17: ='Prihodi po ek klas i izvorima'!G81 -> 50500 | F17: ='Prihodi po ek klas i izvorima'!H81 -> 0 | G17: =F17/D17*100 -> 0 | H17: =F17/E17*100 -> 0
B18: 6 | C18: Prihodi od nefinancijske imovine i naknade štete s naslova osiguranja | D18: =D19 -> 5500 | E18: =E19 -> 6300 | F18: =F19 -> 800 | G18: =F18/D18*100 -> 14.545455 | H18: =F18/E18*100 -> 12.698413
C19: 71 Prihodi od nefinancijske imovine i naknade štete s naslova osiguranja | D19: ='Prihodi po ek klas i izvorima'!F86 -> 5500 | E19: ='Prihodi po ek klas i izvorima'!G86+'Prihodi po ek klas i izvorima'!G94 -> 6300 | F19: ='Prihodi po ek klas i izvorima'!H86+'Prihodi po ek klas i izvorima'!H94 -> 800 | G19: =F19/D19*100 -> 14.545455 | H19: =F19/E19*100 -> 12.698413
C20: UKUPNO PRIHODI | D20: =D6+D8+D10+D14+D16+D18 -> 4702255.6 | E20: =E6+E8+E10+E14+E16+E18 -> 5292700.8 | F20: =F6+F8+F10+F14+F16+F18 -> 5342526.2 | G20: =F20/D20*100 -> 113.61624 | H20: =F20/E20*100 -> 100.9414
C21: Redovna aktivnost | E21: =E20-E6 -> 4684436.8 | F21: =F20-F6 -> 4724422.6 | G21: =G20-G6 -> -53.727437 | H21: =F21/E21*100 -> 100.85359 | I21: *Financiranje izvan županijskog proračuna
B23: R.br. | C23: Opis | D23: Izvorni plan 2025. | E23: Plan | F23: Ostvareno | G23: Indeks | H23: Indeks
C24: UKUPNO RASHODI | D24: =D25+D27+D29+D31+D33+D35 -> 4725934.6 | E24: =E25+E27+E29+E31+E33+E35 -> 4763941.7 | F24: =F25+F27+F29+F31+F33+F35 -> 5188831.5 | G24: =F24/D24*100 -> 109.79482 | H24: =F24/E24*100 -> 108.91887
B25: 1 | C25: Opći prihodi i primici | D25: =D26 -> 369361.73 | E25: =E26 -> 608264.02 | F25: =F26 -> 618103.51 | G25: =F25/D25*100 -> 167.34368 | H25: =F25/E25*100 -> 101.61763
C26: 11 Opći prihodi i primici | D26: ='Rekapitulacija Posebni dio'!D499+'Rekapitulacija Posebni dio'!D544+'Rekapitulacija Posebni dio'!D563+'Rekapitulacija Posebni dio'!D585 -> 369361.73 | E26: ='Rekapitulacija Posebni dio'!E397+'Rekapitulacija Posebni dio'!E403+'Rekapitulacija Posebni dio'!E437+'Rekapitulacija Posebni dio'!E443+'Rekapitulacija Posebni dio'!E499+'Rekapitulacija Posebni dio'!E544+'Rekapitulacija Posebni dio'!E563+'Rekapitulacija Posebni dio'!E585 -> 608264.02 | F26: ='Rekapitulacija Posebni dio'!F397+'Rekapitulacija Posebni dio'!F403+'Rekapitulacija Posebni dio'!F437+'Rekapitulacija Posebni dio'!F443+'Rekapitulacija Posebni dio'!F491+'Rekapitulacija Posebni dio'!F499+'Rekapitulacija Posebni dio'!F544+'Rekapitulacija Posebni dio'!F563+'Rekapitulacija Posebni dio'!F585 -> 618103.51 | G26: =F26/D26*100 -> 167.34368 | H26: =F26/E26*100 -> 101.61763
B27: 2 | C27: Vlastiti prihodi | D27: =D28 -> 163116.33 | E27: =E28 -> 163116.33 | F27: =F28 -> 137837.86 | G27: =F27/D27*100 -> 84.502796 | H27: =F27/E27*100 -> 84.502796
C28: 31 Vlastiti prihodi | D28: ='Rekapitulacija Posebni dio'!D198+'Rekapitulacija Posebni dio'!D687 -> 163116.33 | E28: ='Rekapitulacija Posebni dio'!E198+'Rekapitulacija Posebni dio'!E687 -> 163116.33 | F28: ='Rekapitulacija Posebni dio'!F198+'Rekapitulacija Posebni dio'!F687 -> 137837.86 | G28: =F28/D28*100 -> 84.502796 | H28: =F28/E28*100 -> 84.502796
B29: 3 | C29: Prihodi za posebne namjene | D29: =D30 -> 4009442.6 | E29: =E30 -> 3705637.5 | F29: =F30 -> 4378780.3 | G29: =F29/D29*100 -> 109.2117 | H29: =F29/E29*100 -> 118.16537
C30: 43 Prihodi za posebne namjene | D30: ='Rekapitulacija Posebni dio'!D7 -> 4009442.6 | E30: ='Rekapitulacija Posebni dio'!E7 -> 3705637.5 | F30: ='Rekapitulacija Posebni dio'!F7 -> 4378780.3 | G30: =F30/D30*100 -> 109.2117 | H30: =F30/E30*100 -> 118.16537
B31: 4 | C31: Pomoći | D31: =D32 -> 128013.95 | E31: =E32 -> 230923.83 | F31: =F32 -> 53309.92 | G31: =F31/D31*100 -> 41.643836 | H31: =F31/E31*100 -> 23.0855
C32: 52 Ostale pomoći | D32: ='Rekapitulacija Posebni dio'!D298+'Rekapitulacija Posebni dio'!D610+'Rekapitulacija Posebni dio'!D670+'Rekapitulacija Posebni dio'!D719 -> 128013.95 | E32: ='Rekapitulacija Posebni dio'!E298+'Rekapitulacija Posebni dio'!E610+'Rekapitulacija Posebni dio'!E639+'Rekapitulacija Posebni dio'!E719+'Rekapitulacija Posebni dio'!E765 -> 230923.83 | F32: ='Rekapitulacija Posebni dio'!F298+'Rekapitulacija Posebni dio'!F610+'Rekapitulacija Posebni dio'!F639+'Rekapitulacija Posebni dio'!F719+'Rekapitulacija Posebni dio'!F765 -> 53309.92 | G32: =F32/D32*100 -> 41.643836 | H32: =F32/E32*100 -> 23.0855
B33: 5 | C33: Donacije | D33: =D34 -> 50500 | E33: =E34 -> 50500 | F33: =F34 -> 0 | G33: =F33/D33*100 -> 0 | H33: =F33/E33*100 -> 0
C34: 61 Donacije | D34: ='Rekapitulacija Posebni dio'!D361+'Rekapitulacija Posebni dio'!D781 -> 50500 | E34: ='Rekapitulacija Posebni dio'!E361+'Rekapitulacija Posebni dio'!E781 -> 50500 | F34: ='Rekapitulacija Posebni dio'!F361 -> 0 | G34: =F34/D34*100 -> 0 | H34: =F34/E34*100 -> 0
B35: 6 | C35: Prihodi od nefinancijske imovine i naknade štete s naslova osiguranja | D35: =D36 -> 5500 | E35: =E36 -> 5500 | F35: =F36 -> 800 | G35: =F35/D35*100 -> 14.545455 | H35: =F35/E35*100 -> 14.545455
C36: 71 Prihodi od nefinancijske imovine i naknade štete s naslova osiguranja | D36: ='Rekapitulacija Posebni dio'!D377 -> 5500 | E36: ='Rekapitulacija Posebni dio'!E377 -> 5500 | F36: ='Rekapitulacija Posebni dio'!F377 -> 800 | G36: =F36/D36*100 -> 14.545455 | H36: =F36/E36*100 -> 14.545455
C37: UKUPNO RASHODI | D37: =D25+D27+D29+D31+D33+D35 -> 4725934.6 | E37: =E25+E27+E29+E31+E33+E35 -> 4763941.7 | F37: =F25+F27+F29+F31+F33+F35 -> 5188831.5 | G37: =F37/D37*100 -> 109.79482 | H37: =F37/E37*100 -> 108.91887
C38: Redovna aktivnost | E38: =E37-E25 -> 4155677.6 | F38: =F37-F25 -> 4570728 | G38: =G37-G23 -> #VALUE! | H38: =F38/E38*100 -> 109.98755 | I38: *Financiranje izvan županijskog proračuna
B40: R.br. | C40: Opis | D40: Izvorni plan 2025. | E40: Plan | F40: Ostvareno | G40: Indeks | H40: Indeks
B41: 1 | C41: Rashodi za zaposlene | D41: ='RASHODI-ek.kl.'!E58 -> 3228791.6 | E41: ='RASHODI-ek.kl.'!F58 -> 3308338 | F41: ='RASHODI-ek.kl.'!G58 -> 4115993.3 | G41: =F41/D41*100 -> 127.47782 | H41: =F41/E41*100 -> 124.41272
B42: 2 | C42: Materijalni rashodi | D42: ='RASHODI-ek.kl.'!E82 -> 1058244.5 | E42: ='RASHODI-ek.kl.'!F82 -> 1017152.9 | F42: ='RASHODI-ek.kl.'!G82 -> 795794.39 | G42: =F42/D42*100 -> 75.199481 | H42: =F42/E42*100 -> 78.237437
B43: 3 | C43: Financijski rashodi | D43: ='RASHODI-ek.kl.'!E179 -> 9972.52 | E43: ='RASHODI-ek.kl.'!F179 -> 9972.52 | F43: ='RASHODI-ek.kl.'!G179 -> 6392.68 | G43: =F43/D43*100 -> 64.102955 | H43: =F43/E43*100 -> 64.102955
B44: 4 | C44: Naknade građanima i kućanstvima na temelju osiguranja i druge naknade | D44: ='RASHODI-ek.kl.'!E195 -> 2000 | E44: ='RASHODI-ek.kl.'!F195 -> 2000 | F44: ='RASHODI-ek.kl.'!G195 -> 0 | G44: =F44/D44*100 -> 0 | H44: =F44/E44*100 -> 0
B45: 5 | C45: Ostali rashodi | D45: ='RASHODI-ek.kl.'!E200 -> 500 | E45: ='RASHODI-ek.kl.'!F200 -> 500 | F45: ='RASHODI-ek.kl.'!G200 -> 850.3 | G45: =F45/D45*100 -> 170.06 | H45: =F45/E45*100 -> 170.06
B46: 6 | C46: Rashodi za nabavu nefinancijske imovine | D46: ='RASHODI-ek.kl.'!E213 -> 426425.88 | E46: ='RASHODI-ek.kl.'!F213 -> 425978.17 | F46: ='RASHODI-ek.kl.'!G213 -> 269800.91 | G46: =F46/D46*100 -> 63.270294 | H46: =F46/E46*100 -> 63.336793
C47: UKUPNO RASHODI | D47: =SUM(D41:D46) -> 4725934.6 | E47: =SUM(E41:E46) -> 4763941.6 | F47: =SUM(F41:F46) -> 5188831.5 | G47: =F47/D47*100 -> 109.79482 | H47: =F47/E47*100 -> 108.91887

Sheet RAČUN FINANCIRANJA
A2: I. OPĆI DIO
A4: B. RAČUN FINANCIRANJA - prema ekonomskoj klasifikaciji i prema izvorima financiranja
A7: Razred | B7: Skupina | C7: Izvor | D7: Naziv | E7: OSTVARENJE/ IZVRŠENJE 1.-12.2024. | F7: IZVORNI PLAN ZA 2025. | G7: TEKUĆI PLAN 2025. | H7: OSTVARENJE/ IZVRŠENJE 1.-12.2025. | I7: Indeks | J7: Indeks
A8: 1 | E8: 2 | F8: 3 | G8: 4 | H8: 5 | I8: 6=5/2*100 | J8: 7=5/4*100
A9: 8 | D9: Primici od financijske imovine i zaduživanja | E9: =SUM(E10) -> 0 | F9: =SUM(F10) -> 0 | G9: =SUM(G10) -> 0 | H9: =SUM(H10) -> 0 | I9: 0 | J9: 0
B10: 84 | D10: Primici od zaduživanja | E10: =SUM(E11) -> 0 | F10: 0 | G10: =SUM(G11) -> 0 | H10: =SUM(H11) -> 0 | I10: 0 | J10: 0
B11: 842 | D11: Primljeni krediti i zajmovi od kreditnih i ostalih financijskih institucija u javnom sektoru | E11: 0 | F11: 0 | G11: =SUM(G12) -> 0 | H11: =SUM(H12) -> 0 | I11: 0 | J11: 0
B12: 8422 | D12: Primljeni krediti od kreditnih institucija u javnom sektoru | E12: 0 | F12: 0 | G12: 0 | H12: 0 | I12: 0 | J12: 0
C13: 81 | D13: Namjenski primici od zaduživanja | E13: =SUM(E9) -> 0 | F13: =SUM(F9) -> 0 | G13: =SUM(G9) -> 0 | H13: =SUM(H9) -> 0 | I13: 0 | J13: 0
A14: 5 | D14: Izdaci za financijsku imovinu i otplate zajmova | E14: =SUM(E15) -> 0 | F14: =SUM(F15) -> 0 | G14: =SUM(G15) -> 0 | H14: =SUM(H15) -> 0 | I14: 0 | J14: 0
B15: 54 | D15: Izdaci za otplatu glavnice primljenih kredita i zajmova | E15: =SUM(E16) -> 0 | F15: 0 | G15: =SUM(G16) -> 0 | H15: =SUM(H16) -> 0 | I15: 0 | J15: 0
B16: 542 | D16: Otplata glavnice primljenih kredita i zajmova od kreditnih i ostalih financijskih institucija u javnom sektoru | E16: =SUM(E17) -> 0 | F16: =SUM(F17) -> 0 | G16: =SUM(G17) -> 0 | H16: =SUM(H17) -> 0 | I16: 0 | J16: 0
B17: 5422 | D17: Otplata glavnice primljenih kredita od kreditnih institucija u javnom sektoru | E17: 0 | F17: 0 | G17: 0 | H17: 0 | I17: 0 | J17: 0
C18: 11 | D18: Opći prihodi i primici | E18: =SUM(E14) -> 0 | F18: =SUM(F14) -> 0 | G18: =SUM(G14) -> 0 | H18: =SUM(H14) -> 0 | I18: 0 | J18: 0
