Workbook

Sheet SAŽETAK
B1: FINANCIJSKI PLAN PRORAČUNSKOG KORISNIKA DOMA ZDRAVLJA VUKOVAR ZA 2026. I PROJEKCIJA ZA 2027. I 2028. GODINU
B4: I. OPĆI DIO
F6: A) SAŽETAK RAČUNA PRIHODA I RASHODA
K7: EUR
B8: BROJČANA OZNAKA I NAZIV | G8: IZVRŠENJE 2024. | H8: TEKUĆI PLAN ZA 2025. | I8: PLAN ZA 2026. | J8: PROJEKCIJA ZA 2027. | K8: PROJEKCIJA ZA 2028.
B9: 1 | I9: 3 | J9: 4 | K9: 5
B10: PRIHODI UKUPNO | G10: =G11+G12 -> 5100997.3 | H10: =H11+H12 -> 5178957.9 | I10: =I11+I12 -> 5420091.1 | J10: =J11+J12 -> 5902923.2 | K10: =K11+K12 -> 6174587.6
B11: 6 PRIHODI POSLOVANJA | G11: ='Prihodi po ekonomskoj klas'!D10 -> 5100997.3 | H11: ='Prihodi po ekonomskoj klas'!E10 -> 5178157.9 | I11: ='Prihodi po ekonomskoj klas'!F10 -> 5420091.1 | J11: ='Prihodi po ekonomskoj klas'!G10 -> 5902923.2 | K11: ='Prihodi po ekonomskoj klas'!H10 -> 6174587.6
B12: 7 PRIHODI OD PRODAJE NEFINANCIJSKE IMOVINE | G12: ='Prihodi po ekonomskoj klas'!D68 -> 0 | H12: ='Prihodi po ekonomskoj klas'!E68 -> 800 | I12: ='Prihodi po ekonomskoj klas'!F68 -> 0 | J12: ='Prihodi po ekonomskoj klas'!G68 -> 0 | K12: ='Prihodi po ekonomskoj klas'!H68 -> 0
B13: RASHODI UKUPNO | G13: =G14+G15 -> 5931700.2 | H13: =H14+H15 -> 4614031.8 | I13: =I14+I15 -> 5674498.2 | J13: =J14+J15 -> 5750359.6 | K13: =K14+K15 -> 5794611.3
B14: 3 RASHODI POSLOVANJA | G14: ='RASHODI-ek.kl.'!D57 -> 5084825.9 | H14: ='RASHODI-ek.kl.'!E57 -> 4244329.6 | I14: ='RASHODI-ek.kl.'!F57 -> 5323850 | J14: ='RASHODI-ek.kl.'!G57 -> 5396761.3 | K14: ='RASHODI-ek.kl.'!H57 -> 5438063
B15: 4 RASHODI ZA NABAVU NEFINANCIJSKE IMOVINE | G15: ='RASHODI-ek.kl.'!D209 -> 846874.29 | H15: ='RASHODI-ek.kl.'!E209 -> 369702.17 | I15: ='RASHODI-ek.kl.'!F209 -> 350648.28 | J15: ='RASHODI-ek.kl.'!G209 -> 353598.28 | K15: ='RASHODI-ek.kl.'!H209 -> 356548.28
B16: RAZLIKA - VIŠAK MANJAK | G16: =G10-G13 -> -830702.87 | H16: =H10-H13 -> 564926.15 | I16: =I10-I13 -> -254407.15 | J16: =J10-J13 -> 152563.6 | K16: =K10-K13 -> 379976.31
F18: B) SAŽETAK RAČUNA FINANCIRANJA
B20: BROJČANA OZNAKA I NAZIV | G20: IZVRŠENJE 2024. | H20: TEKUĆI PLAN ZA 2025. | I20: PLAN ZA 2026. | J20: PROJEKCIJA ZA 2027. | K20: PROJEKCIJA ZA 2028.
B21: 1 | I21: 3 | J21: 4 | K21: 5
B22: 8 PRIMICI OD FINANCIJSKE IMOVINE I ZADUŽIVANJA
B23: 5 IZDACI ZA FINANCIJSKU IMOVINU I OTPLATE ZAJMOVA
B24: NETO FINANCIRANJE
B25: VIŠAK / MANJAK + NETO FINANCIRANJE | G25: =G16+G24 -> -830702.87 | H25: =H16+H24 -> 564926.15 | I25: =I16+I24 -> -254407.15 | J25: =J16+J24 -> 152563.6 | K25: =K16+K24 -> 379976.31
F27: C) PRENESENI VIŠAK ILI PRENESENI MANJAK
B29: BROJČANA OZNAKA I NAZIV | G29: IZVRŠENJE 2024. | H29: TEKUĆI PLAN ZA 2025. | I29: PLAN ZA 2026. | J29: PROJEKCIJA ZA 2027. | K29: PROJEKCIJA ZA 2028.
B30: PRENESENI VIŠAK / MANJAK IZ PRETHODNE(IH) GODINE | G30: -12356.04 | H30: =G30+G31 -> -843058.91 | I30: =H31 -> -278132.76 | J30: =I31 -> -532539.91 | K30: =J31 -> -379976.31
B31: PRIJENOS VIŠKA / MANJKA U SLJEDEĆE RAZDOBLJE | G31: =G16 -> -830702.87 | H31: =H25+H30 -> -278132.76 | I31: =I25+I30 -> -532539.91 | J31: =J25+J30 -> -379976.31 | K31: =K25+K30 -> -9.3132257e-10
B32: VIŠAK / MANJAK + NETO FINANCIRANJE + PRIJENOS VIŠKA / MANJKA IZ PRETHODNE(IH) GODINE - PRIJENOS VIŠKA / MANJKA U SLJEDEĆE RAZDOBLJE
F34: D) VIŠEGODIŠNJI PLAN URAVNOTEŽENJA
B36: BROJČANA OZNAKA I NAZIV | G36: IZVRŠENJE 2024. | H36: TEKUĆI PLAN ZA 2025. | I36: PLAN ZA 2026. | J36: PROJEKCIJA ZA 2027. | K36: PROJEKCIJA ZA 2028.
B37: PRIJENOS VIŠKA / MANJKA IZ PRETHODNE(IH) GODINE | G37: =G30 -> -12356.04 | H37: =G40 -> -843058.91 | I37: =H40 -> -278132.76 | J37: =I40 -> -532539.91 | K37: =J40 -> -379976.31
B38: VIŠAK / MANJAK IZ PRETHODNE(IH) GODINE KOJI ĆE SE RASPOREDITI / POKRITI | G38: =G16 -> -830702.87 | H38: =H16 -> 564926.15 | I38: =I25 -> -254407.15 | J38: =J25 -> 152563.6 | K38: =K25 -> 379976.31
B39: VIŠAK / MANJAK TEKUĆE GOINE | I39: 0 | J39: 0
B40: PRIJENOS VIŠKA / MANJKA U SLJEDEĆE RAZDOBLJE | G40: =G37+G38 -> -843058.91 | H40: =H37+H38 -> -278132.76 | I40: =I37+I38 -> -532539.91 | J40: =J37+J38 -> -379976.31 | K40: =K37+K38 -> -9.3132257e-10

Sheet Prihodi po ekonomskoj klas
A2: I. OPĆI DIO
A4: A. RAČUN PRIHODA
A6: PRIHODI PREMA EKONOMSKOJ KLASIFIKACIJI
A8: PRIHODI POSLOVANJA
A9: Razred | B9: Skupina/podskupina/odjeljak | C9: Naziv | D9: IZVRŠENJE 2024. | E9: TEKUĆI PLAN ZA 2025. | F9: PLAN ZA 2026. | G9: PROJEKCIJA ZA 2027. | H9: PROJEKCIJA ZA 2028.
A10: 6 | C10: Prihodi poslovanja | D10: =D11+D32+D39+D45+D55+D64 -> 5100997.3 | E10: =E11+E32+E39+E45+E55+E64 -> 5178157.9 | F10: =F11+F32+F39+F45+F55+F64 -> 5420091.1 | G10: =G11+G32+G39+G45+G55+G64 -> 5902923.2 | H10: =H11+H32+H39+H45+H55+H64 -> 6174587.6
B11: 63 | C11: Pomoći | D11: =D12+D14+D18+D21+D26+D30 -> 331632.4 | E11: =E12+E14+E18+E21+E26+E30 -> 412013.95 | F11: =F12+F14+F18+F21+F26+F30 -> 231423.83 | G11: =G12+G14+G18+G21+G26+G30 -> 171724.49 | H11: =H12+H14+H18+H21+H26+H30 -> 171724.49 | J11: SAVJET: PRVO POPUNITE PRETHODNI LIST
B12: 632 | C12: Pomoći od međunaodnih organizacija te institucija i tijela EU | D12: =SUM(D13) -> 0 | E12: =SUM(E13) -> 0 | F12: =SUM(F13) -> 0 | G12: =SUM(G13) -> 0 | H12: =SUM(H13) -> 0
B13: 6324 | C13: Kapitalne pomoći od instucija i tijela EU | D13: 0 | E13: 0 | F13: 0 | G13: 0 | H13: 0
B14: 633 | C14: Pomoć proračunu iz drugih proračuna | D14: =SUM(D15,D17) -> 799.5 | E14: =SUM(E15,E17) -> 0 | F14: =SUM(F15,F17) -> 500 | G14: =SUM(G15,G17) -> 500 | H14: =SUM(H15,H17) -> 500 | J14: OVA TABLICA AUTOMATSKI POVLAČI IZNOSE IZ PRETHODNOG LISTA (PRIHODI PO EK KLAS I IZVORIMA)
B15: 6331 | C15: Tekuća pomoć proračunu iz drugih proračuna | D15: =D16 -> 799.5 | E15: =E16 -> 0 | F15: =F16 -> 500 | G15: =G16 -> 500 | H15: =H16 -> 500 | J15: UKOLIKO STE U PRVOM LISTU DODAVALI RAČUNE MORATI ĆETE I U OVOME LISTU NAPRAVITI IZMJENE U FORMULI RAČUNA NA KOJI SE IZMJENA ODNOSI
B16: 63313 | C16: Tekuće potpore iz gradskog proračuna | D16: ='Prihodi po ek klas i izvorima'!E57 -> 799.5 | E16: ='Prihodi po ek klas i izvorima'!F57 -> 0 | F16: ='Prihodi po ek klas i izvorima'!G57 -> 500 | G16: ='Prihodi po ek klas i izvorima'!H57 -> 500 | H16: ='Prihodi po ek klas i izvorima'!I57 -> 500
B17: 6332 | C17: Kapitalna pomoć proračunu iz drugih proračuna | D17: 0 | E17: 0 | F17: 0 | G17: 0 | H17: 0
B18: 634 | C18: Pomoći od izvanproračunskih korisnika | D18: =SUM(D19) -> 0 | E18: =SUM(E19) -> 68314.61 | F18: =SUM(F19) -> 68314.61 | G18: =SUM(G19) -> 68314.61 | H18: =SUM(H19) -> 68314.61
B19: 6341 | C19: Tekuće pomoći od izvanproračunskih korisnika | D19: =D20 -> 0 | E19: =E20 -> 68314.61 | F19: =F20 -> 68314.61 | G19: =G20 -> 68314.61 | H19: =H20 -> 68314.61
B20: 63414 | C20: Tekuće pomoći od izvanproračunskih korisnika | D20: ='Prihodi po ek klas i izvorima'!E61 -> 0 | E20: ='Prihodi po ek klas i izvorima'!F61 -> 68314.61 | F20: ='Prihodi po ek klas i izvorima'!G61 -> 68314.61 | G20: ='Prihodi po ek klas i izvorima'!H61 -> 68314.61 | H20: ='Prihodi po ek klas i izvorima'!I61 -> 68314.61
B21: 636 | C21: Pomoć proračunskim korisnicima iz prorač.koji im nije nadležan | D21: =SUM(D22,D24) -> 299750 | E21: =SUM(E22,E24) -> 298000 | F21: =SUM(F22,F24) -> 14000 | G21: =SUM(G22,G24) -> 0 | H21: =SUM(H22,H24) -> 0
B22: 6361 | C22: Tekuće pomoći iz državnog prorač. prorač.korisnicima JLP(R)S | D22: =D23 -> 14000 | E22: =E23 -> 14000 | F22: =F23 -> 14000 | G22: =G23 -> 0 | H22: =H23 -> 0
B23: 63612 | C23: Tekuće pomoći iz državnog prorač. prorač.korisnicima JLP(R)S | D23: ='Prihodi po ek klas i izvorima'!E64 -> 14000 | E23: ='Prihodi po ek klas i izvorima'!F64 -> 14000 | F23: ='Prihodi po ek klas i izvorima'!G64 -> 14000 | G23: ='Prihodi po ek klas i izvorima'!H64 -> 0 | H23: ='Prihodi po ek klas i izvorima'!I64 -> 0
B24: 6362 | C24: Kapitalne pomoći iz državnog prorač. prorač.korisnicima JLP(R)S | D24: =D25 -> 285750 | E24: =E25 -> 284000 | F24: =F25 -> 0 | G24: =G25 -> 0 | H24: =H25 -> 0
B25: 63622 | C25: Kapitalne pomoći iz državnog prorač. prorač.korisnicima JLP(R)S | D25: ='Prihodi po ek klas i izvorima'!E66 -> 285750 | E25: ='Prihodi po ek klas i izvorima'!F66 -> 284000 | F25: ='Prihodi po ek klas i izvorima'!G66 -> 0 | G25: ='Prihodi po ek klas i izvorima'!H66 -> 0 | H25: ='Prihodi po ek klas i izvorima'!I66 -> 0
B26: 638 | C26: Pomoć temeljem prijenosa EU | D26: =D27+D29 -> 31082.9 | E26: =E27+E29 -> 45699.34 | F26: =F27+F29 -> 148609.22 | G26: =G27+G29 -> 102909.88 | H26: =H27+H29 -> 102909.88
B27: 6381 | C27: Tekuće pomoći temeljem prijenosa EU sredstava | D27: =SUM(D28) -> 31082.9 | E27: =SUM(E28) -> 45699.34 | F27: =SUM(F28) -> 148609.22 | G27: =SUM(G28) -> 102909.88 | H27: =SUM(H28) -> 102909.88
B28: 63814 | C28: Tekuće pomoći temeljem prijenosa EU sredstava | D28: ='Prihodi po ek klas i izvorima'!E69 -> 31082.9 | E28: ='Prihodi po ek klas i izvorima'!F69 -> 45699.34 | F28: ='Prihodi po ek klas i izvorima'!G69 -> 148609.22 | G28: ='Prihodi po ek klas i izvorima'!H69 -> 102909.88 | H28: ='Prihodi po ek klas i izvorima'!I69 -> 102909.88
B29: 6382 | C29: kapitalna pomoć temeljem prijenosa EU | D29: 0 | E29: 0 | F29: 0 | G29: 0 | H29: 0
B30: 639 | C30: Prijenosi između proračunskih korisnika | D30: =SUM(D31) -> 0 | E30: =SUM(E31) -> 0 | F30: =SUM(F31) -> 0 | G30: =SUM(G31) -> 0 | H30: =SUM(H31) -> 0
B31: 6391 | C31: Tekući prijenosi između proračunskih korisnika | D31: 0 | E31: 0 | F31: 0 | G31: 0 | H31: 0
B32: 64 | C32: Prihodi od imovine | D32: =D33+D35+D37+D38 -> 40.76 | E32: =E33+E35+E37+E38 -> 200 | F32: =F33+F35+F37+F38 -> 200 | G32: =G33+G35+G37+G38 -> 200 | H32: =H33+H35+H37+H38 -> 200
B33: 6413 | C33: Kamate na oročena sredstva i depozite po viđenju | D33: =SUM(D34) -> 24.01 | E33: =SUM(E34) -> 200 | F33: =SUM(F34) -> 150 | G33: =SUM(G34) -> 150 | H33: =SUM(H34) -> 150
B34: 64132 | C34: Kamate na oročena sredstva i depozite po viđenju | D34: ='Prihodi po ek klas i izvorima'!E19 -> 24.01 | E34: ='Prihodi po ek klas i izvorima'!F19 -> 200 | F34: ='Prihodi po ek klas i izvorima'!G19 -> 150 | G34: ='Prihodi po ek klas i izvorima'!H19 -> 150 | H34: ='Prihodi po ek klas i izvorima'!I19 -> 150
B35: 6414 | C35: Prihodi od zateznih kamata | D35: =D36 -> 16.75 | E35: =E36 -> 0 | F35: =F36 -> 50 | G35: =G36 -> 50 | H35: =H36 -> 50
B36: 64143 | C36: Prihodi od zateznih kamata | D36: ='Prihodi po ek klas i izvorima'!E21 -> 16.75 | E36: ='Prihodi po ek klas i izvorima'!F21 -> 0 | F36: ='Prihodi po ek klas i izvorima'!G21 -> 50 | G36: ='Prihodi po ek klas i izvorima'!H21 -> 50 | H36: ='Prihodi po ek klas i izvorima'!I21 -> 50
B37: 6419 | C37: Ostali prihode o financijske imovine
B38: 6429 | C38: Ostali prihodi od nefinancijske imovine
B39: 65 | C39: Prihodi po posebnim propisima | D39: =D40 -> 78585.41 | E39: =E40 -> 53000 | F39: =F40 -> 64000 | G39: =G40 -> 68150 | H39: =H40 -> 71433
B40: 652 | C40: Prihodi po posebnim propisima | D40: =SUM(D41) -> 78585.41 | E40: =SUM(E41) -> 53000 | F40: =SUM(F41) -> 64000 | G40: =SUM(G41) -> 68150 | H40: =SUM(H41) -> 71433
B41: 6526 | C41: Ostali nespomenuti prihodi (participacija) | D41: =SUM(D42:D44) -> 78585.41 | E41: =SUM(E42:E44) -> 53000 | F41: =SUM(F42:F44) -> 64000 | G41: =SUM(G42:G44) -> 68150 | H41: =SUM(H42:H44) -> 71433
B42: 65264 | C42: Sufinanciranje cijene usluge, participacija | D42: ='Prihodi po ek klas i izvorima'!E40 -> 51154.92 | E42: ='Prihodi po ek klas i izvorima'!F40 -> 44000 | F42: ='Prihodi po ek klas i izvorima'!G40 -> 55000 | G42: ='Prihodi po ek klas i izvorima'!H40 -> 57500 | H42: ='Prihodi po ek klas i izvorima'!I40 -> 60000
B43: 65267 | C43: Prihodi od osiguranja i refundacije štete | D43: ='Prihodi po ek klas i izvorima'!E83 -> 8798.23 | E43: ='Prihodi po ek klas i izvorima'!F83 -> 5500 | F43: ='Prihodi po ek klas i izvorima'!G83 -> 5500 | G43: ='Prihodi po ek klas i izvorima'!H83 -> 5775 | H43: ='Prihodi po ek klas i izvorima'!I83 -> 6064
B44: 65269 | C44: Refundacija plaća specijalizanata | D44: ='Prihodi po ek klas i izvorima'!E41 -> 18632.26 | E44: ='Prihodi po ek klas i izvorima'!F41 -> 3500 | F44: ='Prihodi po ek klas i izvorima'!G41 -> 3500 | G44: ='Prihodi po ek klas i izvorima'!H41 -> 4875 | H44: ='Prihodi po ek klas i izvorima'!I41 -> 5369
B45: 66 | C45: Prihodi od prodaje i donacija | D45: =D46+D51 -> 144110.86 | E45: =E46+E51 -> 249583.29 | F45: =F46+F51 -> 164116.33 | G45: =G46+G51 -> 164316.33 | H45: =H46+H51 -> 164516.33
B46: 661 | C46: Prihodi od prodaje roba i pruženih usluga (vlastiti prihodi) | D46: =SUM(D47:D48) -> 140153.61 | E46: =SUM(E47:E48) -> 199083.29 | F46: =SUM(F47:F48) -> 163116.33 | G46: =SUM(G47:G48) -> 163116.33 | H46: =SUM(H47:H48) -> 163116.33
B47: 6614 | C47: Prihodi od prodaje proizvoda i robe | D47: ='Prihodi po ek klas i izvorima'!E26 -> 0 | E47: ='Prihodi po ek klas i izvorima'!F26 -> 0 | F47: ='Prihodi po ek klas i izvorima'!G26 -> 0 | G47: ='Prihodi po ek klas i izvorima'!H26 -> 0 | H47: ='Prihodi po ek klas i izvorima'!I26 -> 0
B48: 6615 | C48: Prihodi od pruženih usluga | D48: =SUM(D49:D50) -> 140153.61 | E48: =SUM(E49:E50) -> 199083.29 | F48: =SUM(F49:F50) -> 163116.33 | G48: =SUM(G49:G50) -> 163116.33 | H48: =SUM(H49:H50) -> 163116.33
B49: 66151 | C49: Prihodi od pruženih usluga | D49: ='Prihodi po ek klas i izvorima'!E28 -> 139946.23 | E49: ='Prihodi po ek klas i izvorima'!F28 -> 199083.29 | F49: ='Prihodi po ek klas i izvorima'!G28 -> 163116.33 | G49: ='Prihodi po ek klas i izvorima'!H28 -> 163116.33 | H49: ='Prihodi po ek klas i izvorima'!I28 -> 163116.33
B50: 66153 | C50: Prihodi za udio troškova u zakupu | D50: ='Prihodi po ek klas i izvorima'!E29 -> 207.38 | E50: ='Prihodi po ek klas i izvorima'!F29 -> 0 | F50: ='Prihodi po ek klas i izvorima'!G29 -> 0 | G50: ='Prihodi po ek klas i izvorima'!H29 -> 0 | H50: ='Prihodi po ek klas i izvorima'!I29 -> 0
B51: 663 | C51: Donacije od pravnih i fizičkih osoba izvan proračuna | D51: =D52+D54 -> 3957.25 | E51: =E52+E54 -> 50500 | F51: =F52+F54 -> 1000 | G51: =G52+G54 -> 1200 | H51: =H52+H54 -> 1400
B52: 6631 | C52: Tekuće donacije | D52: =SUM(D53) -> 3957.25 | E52: =SUM(E53) -> 50500 | F52: =SUM(F53) -> 1000 | G52: =SUM(G53) -> 1200 | H52: =SUM(H53) -> 1400
B53: 66313 | C53: Tekuće donacije | D53: ='Prihodi po ek klas i izvorima'!E77 -> 3957.25 | E53: ='Prihodi po ek klas i izvorima'!F77 -> 50500 | F53: ='Prihodi po ek klas i izvorima'!G77 -> 1000 | G53: ='Prihodi po ek klas i izvorima'!H77 -> 1200 | H53: ='Prihodi po ek klas i izvorima'!I77 -> 1400
B54: 6632 | C54: Kapitalne donacije
B55: 67 | C55: Prihodi iz nadležnog proračuna i HZZOa | D55: =SUM(D56,D61) -> 4545915.2 | E55: =SUM(E56,E61) -> 4460360.7 | F55: =SUM(F56,F61) -> 4957350.9 | G55: =SUM(G56,G61) -> 5495532.4 | H55: =SUM(H56,H61) -> 5763713.8
B56: 671 | C56: Prihodi iz nadležnog proračuna za financiranje redovne djelatnosti proračunskih korisnika | D56: =D57+D59 -> 397160.43 | E56: =E57+E59 -> 561264.02 | F56: =F57+F59 -> 358264.02 | G56: =G57+G59 -> 358264.02 | H56: =H57+H59 -> 358264.02
B57: 6711 | C57: Prihodi iz nadležnog proračuna za financiranje rashoda poslovanja | D57: =SUM(D58) -> 141650.92 | E57: =SUM(E58) -> 352264.02 | F57: =SUM(F58) -> 92988.02 | G57: =SUM(G58) -> 92988.02 | H57: =SUM(H58) -> 92988.02
B58: 67111 | C58: Prihodi iz nadležnog proračuna za financiranje rashoda poslovanja | D58: ='Prihodi po ek klas i izvorima'!E12 -> 141650.92 | E58: ='Prihodi po ek klas i izvorima'!F12 -> 352264.02 | F58: ='Prihodi po ek klas i izvorima'!G12 -> 92988.02 | G58: ='Prihodi po ek klas i izvorima'!H12 -> 92988.02 | H58: ='Prihodi po ek klas i izvorima'!I12 -> 92988.02
B59: 6712 | C59: Prihodi iz nadležnog proračuna za nabavu nefinancijske imovine | D59: =SUM(D60) -> 255509.51 | E59: =SUM(E60) -> 209000 | F59: =SUM(F60) -> 265276 | G59: =SUM(G60) -> 265276 | H59: =SUM(H60) -> 265276
B60: 67121 | C60: Prihodi iz nadležnog proračuna za nabavu nefinancijske imovine | D60: ='Prihodi po ek klas i izvorima'!E14 -> 255509.51 | E60: ='Prihodi po ek klas i izvorima'!F14 -> 209000 | F60: ='Prihodi po ek klas i izvorima'!G14 -> 265276 | G60: ='Prihodi po ek klas i izvorima'!H14 -> 265276 | H60: ='Prihodi po ek klas i izvorima'!I14 -> 265276
B61: 673 | C61: Prihodi od HZZO-a | D61: =SUM(D62) -> 4148754.7 | E61: =SUM(E62) -> 3899096.7 | F61: =SUM(F62) -> 4599086.9 | G61: =SUM(G62) -> 5137268.3 | H61: =SUM(H62) -> 5405449.8
B62: 6731 | C62: Prihodi od HZZO-a temeljem ugovora | D62: =D63 -> 4148754.7 | E62: =E63 -> 3899096.7 | F62: =F63 -> 4599086.9 | G62: =G63 -> 5137268.3 | H62: =H63 -> 5405449.8
B63: 67311 | C63: Prihodi od HZZO-a temeljem ugovora | D63: ='Prihodi po ek klas i izvorima'!E48 -> 4148754.7 | E63: ='Prihodi po ek klas i izvorima'!F48 -> 3899096.7 | F63: ='Prihodi po ek klas i izvorima'!G48 -> 4599086.9 | G63: ='Prihodi po ek klas i izvorima'!H48 -> 5137268.3 | H63: ='Prihodi po ek klas i izvorima'!I48 -> 5405449.8
B64: 68 | C64: Kazne, upravne mjere i ostali prihodi | D64: =SUM(D65) -> 712.71 | E64: =SUM(E65) -> 3000 | F64: =SUM(F65) -> 3000 | G64: =SUM(G65) -> 3000 | H64: =SUM(H65) -> 3000
B65: 683 | C65: Ostali prihodi | D65: =D66 -> 712.71 | E65: =E66 -> 3000 | F65: =F66 -> 3000 | G65: =G66 -> 3000 | H65: =H66 -> 3000
B66: 6831 | C66: Ostali prihodi | D66: =D67 -> 712.71 | E66: =E67 -> 3000 | F66: =F67 -> 3000 | G66: =G67 -> 3000 | H66: =H67 -> 3000
B67: 68311 | C67: Ostali prihodi | D67: ='Prihodi po ek klas i izvorima'!E52 -> 712.71 | E67: ='Prihodi po ek klas i izvorima'!F52 -> 3000 | F67: ='Prihodi po ek klas i izvorima'!G52 -> 3000 | G67: ='Prihodi po ek klas i izvorima'!H52 -> 3000 | H67: ='Prihodi po ek klas i izvorima'!I52 -> 3000
A68: 7 | C68: Prihodi od prodaje nefinancijske imovine | D68: =SUM(D69) -> 0 | E68: =SUM(E69) -> 800 | F68: =SUM(F69) -> 0 | G68: =SUM(G69) -> 0 | H68: =SUM(H69) -> 0
B69: 72 | C69: Prihodi od prodaje proizvedene dugotrajne imovine | D69: =SUM(D70,D72) -> 0 | E69: =SUM(E70,E72) -> 800 | F69: =SUM(F70,F72) -> 0 | G69: =SUM(G70,G72) -> 0 | H69: =SUM(H70,H72) -> 0
B70: 721 | C70: Prihodi od prodaje građevinskih objekata | D70: =D71 -> 0 | E70: =E71 -> 0 | F70: =F71 -> 0 | G70: =G71 -> 0 | H70: =H71 -> 0
B71: 7211 | C71: Stambeni objekti | D71: ='Prihodi po ek klas i izvorima'!E88 -> 0 | E71: ='Prihodi po ek klas i izvorima'!F88 -> 0 | F71: ='Prihodi po ek klas i izvorima'!G88 -> 0 | G71: ='Prihodi po ek klas i izvorima'!H88 -> 0 | H71: ='Prihodi po ek klas i izvorima'!I88 -> 0
B72: 723 | C72: Prihodi od prodaje prijevoznih sredstava | D72: =D73 -> 0 | E72: =E73 -> 800 | F72: =F73 -> 0 | G72: =G73 -> 0 | H72: =H73 -> 0
B73: 7231 | C73: Prijevozna sredstva u cestovnom prometu | D73: ='Prihodi po ek klas i izvorima'!E90 -> 0 | E73: ='Prihodi po ek klas i izvorima'!F90 -> 800 | F73: ='Prihodi po ek klas i izvorima'!G90 -> 0 | G73: ='Prihodi po ek klas i izvorima'!H90 -> 0 | H73: ='Prihodi po ek klas i izvorima'!I90 -> 0
A74: UKUPNO PRIHODI I PRIMICI: | D74: =D10+D68 -> 5100997.3 | E74: =E10+E68 -> 5178957.9 | F74: =F10+F68 -> 5420091.1 | G74: =G10+G68 -> 5902923.2 | H74: =H10+H68 -> 6174587.6

Sheet RASHODI-ek.kl.
A1: I. OPĆI DIO
A2: A. RAČUN PRIHODA I RASHODA
A4: RASHODI PREMA EKONOMSKOJ KLASIFIKACIJI
A7: PRIHODI POSLOVANJA
A8: Razred | B8: Skupina/podskupina/odjeljak | C8: Naziv | F8: Izvršenje prethodne godine I.-VI. 2022. | G8: REBALANS 2023. | H8: Izvršenje tekuće godine I.-VI. 2023
A9: 1 | F9: 2 | G9: 3 | H9: 4
A10: 6 | F10: =F11+F26+F30+F33+F40+F43 -> 24659146 | G10: =G11+G26+G30+G33+G40+G43 -> 63888652 | H10: =H11+H26+H30+H33+H40+H43 -> 30834919
B11: 63 | C11: Pomoći | F11: =F12+F14+F17+F19+F21+F24 -> 324811.47 | G11: =SUM(G12,G14,G17,G19,G21,G24) -> 639378.86 | H11: =SUM(H12,H14,H17,H19,H21,H24) -> 1892796.8
B12: 632 | C12: Pomoći od međunaodnih organizacija te institucija i tijela EU | F12: =SUM(F13) -> 0 | G12: =SUM(G13) -> 0 | H12: =SUM(H13) -> 0
B13: 6324 | C13: Kapitalne pomoći od instucija i tijela EU | F13: 0 | G13: 0 | H13: 0
B14: 633 | C14: Pomoć proračunu iz drugih proračuna | F14: =SUM(F15:F16) -> 50556.109 | G14: =SUM(G15:G16) -> 0 | H14: =SUM(H15:H16) -> 0
B15: 6331 | C15: Tekuća pomoć proračunu iz drugih proračuna | F15: =380915/7.5345 -> 50556.109 | G15: 0 | H15: 0
B16: 6332 | C16: Kapitalna pomoć proračunu iz drugih proračuna | F16: 0 | G16: 0 | H16: 0
B17: 634 | C17: Pomoći od izvanproračunskih korisnika | F17: =SUM(F18) -> 111981.95 | G17: =SUM(G18) -> 366500.76 | H17: =SUM(H18) -> 1829292.8
B18: 6341 | C18: Tekuće pomoći od HZZ-a, HZZO-a | F18: =843728/7.5345 -> 111981.95 | G18: 366500.76 | H18: 1829292.8
B19: 636 | C19: Pomoć proračunskim korisnicima iz prorač.koji im nije nadležan | F19: =SUM(F20) -> 54857.124 | G19: =SUM(G20) -> 796.34 | H19: =SUM(H20) -> 45490.31
B20: 6361 | C20: Tekuće pomoći iz državnog prorač. prorač.korisnicima JLP(R)S | F20: =413321/7.5345 -> 54857.124 | G20: =796.34 -> 796.34 | H20: 45490.31
B21: 638 | C21: Pomoć temeljem prijenosa EU | F21: =SUM(F22:F23) -> 107244.81 | G21: =SUM(G23) -> 272081.76 | H21: =SUM(H23) -> 18013.71
B22: 6381 | C22: Tekuće pomoći temeljem prijenosa EU sredstava | F22: =493624/7.5345 -> 65515.164 | G22: 0 | H22: 0
B23: 6382 | C23: kapitalna pomoć temeljem prijenosa EU | F23: =314412/7.5345 -> 41729.644 | G23: 272081.76 | H23: 18013.71
B24: 639 | C24: Prijenosi između proračunskih korisnika | F24: =SUM(F25) -> 171.47787 | G24: =SUM(G25) -> 0 | H24: =SUM(H25) -> 0
B25: 6391 | C25: Tekući prijenosi između proračunskih korisnika | F25: =1292/7.5345 -> 171.47787 | G25: 0 | H25: 0
B26: 64 | C26: Prihodi od imovine | F26: =SUM(F27:F29) -> 50144.535 | G26: =SUM(G27:G29) -> 120462.42 | H26: =SUM(H27:H29) -> 55180.92
B27: 6413 | C27: Kamate na oročena sredstva i depozite po viđenju | F27: =439/7.5345 -> 58.265313 | G27: 746.44 | H27: 204.07
B28: 6419 | C28: Ostali prihode o financijske imovine | F28: =376342/7.5345 -> 49949.167 | G28: 119450.53 | H28: 54839.75
B29: 6429 | C29: Ostali prihodi od nefinancijske imovine | F29: =1033/7.5345 -> 137.10266 | G29: =265.45 -> 265.45 | H29: 137.1
B30: 65 | C30: Prihodi po posebnim propisima | F30: =F31 -> 1523828.4 | G30: =SUM(G31) -> 6950029.9 | H30: =SUM(H31) -> 1963072.3
B31: 652 | C31: Prihodi po posebnim propisima | F31: =SUM(F32) -> 1523828.4 | G31: =SUM(G32) -> 6950029.9 | H31: =SUM(H32) -> 1963072.3
B32: 6526 | C32: Ostali nespomenuti prihodi (participacija) | F32: =11481285/7.5345 -> 1523828.4 | G32: =6950029.86 -> 6950029.9 | H32: 1963072.3
B33: 66 | C33: Prihodi od prodaje i donacija | F33: =F34+F37 -> 1701559.2 | G33: =SUM(G34,G37) -> 3641484.9 | H33: =SUM(H34,H37) -> 1739052
B34: 661 | C34: Prihodi od prodaje roba i pruženih usluga (vlastiti prihodi) | F34: =SUM(F35:F36) -> 1677912 | G34: =SUM(G36,G35) -> 3521370.8 | H34: =SUM(H36,H35) -> 1704828
B35: 6614 | C35: Prihodi od prodaje proizvoda i robe | F35: =6216809/7.5345 -> 825112.35 | G35: 1725396.5 | H35: 916985.05
B36: 6615 | C36: Prihodi od pruženih usluga | F36: =6425419/7.5345 -> 852799.65 | G36: 1795974.2 | H36: 787842.97
B37: 663 | C37: Donacije od pravnih i fizičkih osoba izvan proračuna | F37: =SUM(F38:F39) -> 23647.223 | G37: =SUM(G38:G39) -> 120114.13 | H37: =SUM(H38:H39) -> 34224
B38: 6631 | C38: Tekuće donacije | F38: =5000/7.5345 -> 663.61404 | G38: 53752.73 | H38: =5600+1310 -> 6910
B39: 6632 | C39: Kapitalne donacije | F39: =173170/7.5345 -> 22983.609 | G39: 66361.4 | H39: 27314
B40: 67 | C40: Prihodi iz nadležnog proračuna i HZZOa | F40: =SUM(F41) -> 20985600 | G40: =SUM(G41) -> 52367289 | H40: =SUM(H41) -> 24656056
B41: 673 | C41: Prihodi od HZZO-a | F41: =SUM(F42) -> 20985600 | G41: =SUM(G42) -> 52367289 | H41: =SUM(H42) -> 24656056
B42: 6731 | C42: Prihodi od HZZO-a temeljem ugovora | F42: =158116000/7.5345 -> 20985600 | G42: 52367289 | H42: 24656056
B43: 68 | C43: Kazne, upravne mjere i ostali prihodi | F43: =SUM(F44) -> 73202.601 | G43: =SUM(G44) -> 170007.44 | H43: =SUM(H44) -> 528760.56
B44: 683 | C44: Ostali prihodi | F44: =SUM(F45) -> 73202.601 | G44: =SUM(G45) -> 170007.44 | H44: =SUM(H45) -> 528760.56
B45: 6831 | C45: Ostali prihodi | F45: =551545/7.5345 -> 73202.601 | G45: 170007.44 | H45: 528760.56
A46: 7 | C46: Prihodi od prodaje nefinancijske imovine | F46: =F48 -> 206.78214 | G46: =SUM(G47) -> 7432.48 | H46: =SUM(H47) -> 18031
B47: 72 | C47: Prihodi od prodaje proizvedene dugotrajne imovine | F47: =SUM(F48) -> 206.78214 | G47: =SUM(G48) -> 7432.48 | H47: =SUM(H48) -> 18031
B48: 721 | C48: Prihodi od prodaje građevinskih objekata | F48: =SUM(F49) -> 206.78214 | G48: =SUM(G49,G50) -> 7432.48 | H48: =SUM(H49,H50) -> 18031
B49: 7211 | C49: Stambeni objekti | F49: =1558/7.5345 -> 206.78214 | G49: 796.34 | H49: 18031
B50: 7231 | C50: Prijevozna sredstva u cestovnom prometu | F50: 0 | G50: 6636.14 | H50: 0
A51: UKUPNO PRIHODI I PRIMICI: | F51: =F10+F46 -> 24659353 | G51: =G10+G46 -> 63896085 | H51: =H10+H46 -> 30852950
A54: RASHODI POSLOVANJA
A55: Razred | B55: Skupina/podskupina/odjeljak | C55: Naziv | D55: IZVRŠENJE 2024. | E55: TEKUĆI PLAN ZA 2025. | F55: PLAN ZA 2026. | G55: PROJEKCIJA ZA 2027. | H55: PROJEKCIJA ZA 2028.
A56: 1 | F56: 2 | G56: 3 | H56: 4
A57: 3 | C57: RASHODI POSLOVANJA | D57: =D58+D82+D178+D190+D194+D199 -> 5084825.9 | E57: =E58+E82+E178+E190+E194+E199 -> 4244329.6 | F57: =F58+F82+F178+F190+F194+F199 -> 5323850 | G57: =G58+G82+G178+G190+G194+G199 -> 5396761.3 | H57: =H58+H82+H178+H190+H194+H199 -> 5438063
B58: 31 | C58: Rashodi za zaposlene | D58: =SUM(D59,D68,D76) -> 4163364.8 | E58: =SUM(E59,E68,E76) -> 3224991.6 | F58: =SUM(F59,F68,F76) -> 4381381.9 | G58: =SUM(G59,G68,G76) -> 4416309.3 | H58: =SUM(H59,H68,H76) -> 4421856
B59: 311 | C59: Plaće (Bruto) | D59: =D60+D64+D66 -> 3472401.9 | E59: =E60+E64+E66 -> 2660183.7 | F59: =F60+F64+F66 -> 3674984.9 | G59: =G60+G64+G66 -> 3701962.3 | H59: =H60+H64+H66 -> 3705193.9
B60: 3111 | C60: Plaće za redovan rad | D60: =D61+D62 -> 3350820.2 | E60: =E61+E62 -> 2611076.3 | F60: =F61+F62 -> 3594984.9 | G60: =G61+G62 -> 3619962.3 | H60: =H61+H62 -> 3621193.9
B61: 31111 | C61: Plaće za redovan rad | D61: =' PRIHODI I RASHODI-izvori'!E15+' PRIHODI I RASHODI-izvori'!E185+' PRIHODI I RASHODI-izvori'!E79+' PRIHODI I RASHODI-izvori'!E371 -> 3349104.2 | E61: =' PRIHODI I RASHODI-izvori'!F15+' PRIHODI I RASHODI-izvori'!F185+' PRIHODI I RASHODI-izvori'!F79+' PRIHODI I RASHODI-izvori'!F371 -> 2606076.3 | F61: =' PRIHODI I RASHODI-izvori'!G15+' PRIHODI I RASHODI-izvori'!G185+' PRIHODI I RASHODI-izvori'!G79+' PRIHODI I RASHODI-izvori'!G371 -> 3593184.9 | G61: =' PRIHODI I RASHODI-izvori'!H15+' PRIHODI I RASHODI-izvori'!H185+' PRIHODI I RASHODI-izvori'!H79+' PRIHODI I RASHODI-izvori'!H371 -> 3618062.3 | H61: =' PRIHODI I RASHODI-izvori'!I15+' PRIHODI I RASHODI-izvori'!I185+' PRIHODI I RASHODI-izvori'!I79+' PRIHODI I RASHODI-izvori'!I371 -> 3619193.9
B62: 31113 | C62: Plaće po sudskim presudama | D62: =' PRIHODI I RASHODI-izvori'!E186 -> 1715.99 | E62: =' PRIHODI I RASHODI-izvori'!F186 -> 5000 | F62: =' PRIHODI I RASHODI-izvori'!G186 -> 1800 | G62: =' PRIHODI I RASHODI-izvori'!H186 -> 1900 | H62: =' PRIHODI I RASHODI-izvori'!I186 -> 2000
B63: 3112 | C63: Plaće u naravi
B64: 3113 | C64: Plaće za prekovremeni rad | D64: =D65 -> 79831.87 | E64: =E65 -> 49107.44 | F64: =F65 -> 80000 | G64: =G65 -> 82000 | H64: =H65 -> 84000
B65: 31131 | C65: Plaće za prekovremeni rad | D65: =' PRIHODI I RASHODI-izvori'!E189 -> 79831.87 | E65: =' PRIHODI I RASHODI-izvori'!F189 -> 49107.44 | F65: =' PRIHODI I RASHODI-izvori'!G189 -> 80000 | G65: =' PRIHODI I RASHODI-izvori'!H189 -> 82000 | H65: =' PRIHODI I RASHODI-izvori'!I189 -> 84000
B66: 3114 | C66: Plaće za posebne uvjete rada | D66: =D67 -> 41749.86 | E66: =E67 -> 0 | F66: =F67 -> 0 | G66: =G67 -> 0 | H66: =H67 -> 0
B67: 31141 | C67: Plaće za posebne uvjete rada | D67: =' PRIHODI I RASHODI-izvori'!E191+' PRIHODI I RASHODI-izvori'!E83+' PRIHODI I RASHODI-izvori'!E374 -> 41749.86 | E67: =' PRIHODI I RASHODI-izvori'!F191+' PRIHODI I RASHODI-izvori'!F83+' PRIHODI I RASHODI-izvori'!F374 -> 0 | F67: =' PRIHODI I RASHODI-izvori'!G191+' PRIHODI I RASHODI-izvori'!G83+' PRIHODI I RASHODI-izvori'!G374 -> 0 | G67: =' PRIHODI I RASHODI-izvori'!H191+' PRIHODI I RASHODI-izvori'!H83+' PRIHODI I RASHODI-izvori'!H374 -> 0 | H67: =' PRIHODI I RASHODI-izvori'!I191+' PRIHODI I RASHODI-izvori'!I83+' PRIHODI I RASHODI-izvori'!I374 -> 0
B68: 312 | C68: Ostali rashodi za zaposlene | D68: =SUM(D69) -> 145684.44 | E68: =SUM(E69) -> 128191.98 | F68: =SUM(F69) -> 133177.1 | G68: =SUM(G69) -> 139127.1 | H68: =SUM(H69) -> 144181.68
B69: 3121 | C69: Ostali rashodi za zaposlene | D69: =SUM(D70:D75) -> 145684.44 | E69: =SUM(E70:E75) -> 128191.98 | F69: =SUM(F70:F75) -> 133177.1 | G69: =SUM(G70:G75) -> 139127.1 | H69: =SUM(H70:H75) -> 144181.68
B70: 31212 | C70: Ostali rashodi za zaposlene-nagrade | D70: =' PRIHODI I RASHODI-izvori'!E194 -> 32979.2 | E70: =' PRIHODI I RASHODI-izvori'!F194 -> 13000 | F70: =' PRIHODI I RASHODI-izvori'!G194 -> 28000 | G70: =' PRIHODI I RASHODI-izvori'!H194 -> 29500 | H70: =' PRIHODI I RASHODI-izvori'!I194 -> 31000
B71: 31213 | C71: Darovi | D71: =' PRIHODI I RASHODI-izvori'!E195 -> 30736.17 | E71: =' PRIHODI I RASHODI-izvori'!F195 -> 25000 | F71: =' PRIHODI I RASHODI-izvori'!G195 -> 26000 | G71: =' PRIHODI I RASHODI-izvori'!H195 -> 27000 | H71: =' PRIHODI I RASHODI-izvori'!I195 -> 28000
B72: 31214 | C72: Otpremnine | D72: =' PRIHODI I RASHODI-izvori'!E196 -> 0 | E72: =' PRIHODI I RASHODI-izvori'!F196 -> 2000 | F72: =' PRIHODI I RASHODI-izvori'!G196 -> 2000 | G72: =' PRIHODI I RASHODI-izvori'!H196 -> 2250 | H72: =' PRIHODI I RASHODI-izvori'!I196 -> 2500
B73: 31215 | C73: Naknade za bolest, invalidnost i smrt | D73: =' PRIHODI I RASHODI-izvori'!E197 -> 4022.98 | E73: =' PRIHODI I RASHODI-izvori'!F197 -> 3800 | F73: =' PRIHODI I RASHODI-izvori'!G197 -> 3800 | G73: =' PRIHODI I RASHODI-izvori'!H197 -> 4000 | H73: =' PRIHODI I RASHODI-izvori'!I197 -> 4300
B74: 31216 | C74: Regres za godišnji odmor | D74: =' PRIHODI I RASHODI-izvori'!E198+' PRIHODI I RASHODI-izvori'!E377 -> 39900 | E74: =' PRIHODI I RASHODI-izvori'!F198+' PRIHODI I RASHODI-izvori'!F377 -> 40300 | F74: =' PRIHODI I RASHODI-izvori'!G198+' PRIHODI I RASHODI-izvori'!G377 -> 35900 | G74: =' PRIHODI I RASHODI-izvori'!H198+' PRIHODI I RASHODI-izvori'!H377 -> 37400 | H74: =' PRIHODI I RASHODI-izvori'!I198+' PRIHODI I RASHODI-izvori'!I377 -> 38600
B75: 31219 | C75: Ostali nenavedeni rashodi za zaposlene | D75: =' PRIHODI I RASHODI-izvori'!E199+' PRIHODI I RASHODI-izvori'!E86+' PRIHODI I RASHODI-izvori'!E378 -> 38046.09 | E75: =' PRIHODI I RASHODI-izvori'!F199+' PRIHODI I RASHODI-izvori'!F86+' PRIHODI I RASHODI-izvori'!F378 -> 44091.98 | F75: =' PRIHODI I RASHODI-izvori'!G199+' PRIHODI I RASHODI-izvori'!G86+' PRIHODI I RASHODI-izvori'!G378 -> 37477.1 | G75: =' PRIHODI I RASHODI-izvori'!H199+' PRIHODI I RASHODI-izvori'!H86+' PRIHODI I RASHODI-izvori'!H378 -> 38977.1 | H75: =' PRIHODI I RASHODI-izvori'!I199+' PRIHODI I RASHODI-izvori'!I86+' PRIHODI I RASHODI-izvori'!I378 -> 39781.68
B76: 313 | C76: Doprinosi na plaće | D76: =D77+D78+D80 -> 545278.5 | E76: =E77+E78+E80 -> 436615.92 | F76: =F77+F78+F80 -> 573219.91 | G76: =G77+G78+G80 -> 575219.91 | H76: =H77+H78+H80 -> 572480.5
B77: 3131 | C77: Doprinosi za mirovinsko osiguranje
B78: 3132 | C78: Doprinosi za obavezno zdravst.osig. | D78: =D79 -> 545240.76 | E78: =E79 -> 436615.92 | F78: =F79 -> 573219.91 | G78: =G79 -> 575219.91 | H78: =H79 -> 572480.5
B79: 31321 | C79: Doprinosi za obavezno zdravst.osig. | D79: =' PRIHODI I RASHODI-izvori'!E18+' PRIHODI I RASHODI-izvori'!E202+' PRIHODI I RASHODI-izvori'!E89+' PRIHODI I RASHODI-izvori'!E381 -> 545240.76 | E79: =' PRIHODI I RASHODI-izvori'!F18+' PRIHODI I RASHODI-izvori'!F202+' PRIHODI I RASHODI-izvori'!F89+' PRIHODI I RASHODI-izvori'!F381 -> 436615.92 | F79: =' PRIHODI I RASHODI-izvori'!G18+' PRIHODI I RASHODI-izvori'!G202+' PRIHODI I RASHODI-izvori'!G89+' PRIHODI I RASHODI-izvori'!G381 -> 573219.91 | G79: =' PRIHODI I RASHODI-izvori'!H18+' PRIHODI I RASHODI-izvori'!H202+' PRIHODI I RASHODI-izvori'!H89+' PRIHODI I RASHODI-izvori'!H381 -> 575219.91 | H79: =' PRIHODI I RASHODI-izvori'!I18+' PRIHODI I RASHODI-izvori'!I202+' PRIHODI I RASHODI-izvori'!I89+' PRIHODI I RASHODI-izvori'!I381 -> 572480.5
B80: 3133 | C80: Doprinosi za zapošljavanje | D80: =D81 -> 37.74 | E80: =E81 -> 0 | F80: =F81 -> 0 | G80: =G81 -> 0 | H80: =H81 -> 0
B81: 31332 | C81: Doprinosi u slučaju nezaposlenosti | D81: =' PRIHODI I RASHODI-izvori'!E204 -> 37.74 | E81: =' PRIHODI I RASHODI-izvori'!F204 -> 0 | F81: =' PRIHODI I RASHODI-izvori'!G204 -> 0 | G81: =' PRIHODI I RASHODI-izvori'!H204 -> 0 | H81: =' PRIHODI I RASHODI-izvori'!I204 -> 0
B82: 32 | C82: Materijalni rashodi | D82: =D83+D95+D120+D151+D154+D158 -> 905498.14 | E82: =E83+E95+E120+E151+E154+E158 -> 1006865.4 | F82: =F83+F95+F120+F151+F154+F158 -> 932993.07 | G82: =G83+G95+G120+G151+G154+G158 -> 970681.97 | H82: =H83+H95+H120+H151+H154+H158 -> 1006142
B83: 321 | C83: Naknade troškova zaposlenima | D83: =D84+D88+D90+D93 -> 116890.74 | E83: =E84+E88+E90+E93 -> 135321.71 | F83: =F84+F88+F90+F93 -> 129116.43 | G83: =G84+G88+G90+G93 -> 128755.33 | H83: =H84+H88+H90+H93 -> 121225.54
B84: 3211 | C84: Službena putovanja | D84: =SUM(D85:D87) -> 7683.1 | E84: =SUM(E85:E87) -> 25957.02 | F84: =SUM(F85:F87) -> 18379.78 | G84: =SUM(G85:G87) -> 17229.78 | H84: =SUM(H85:H87) -> 13963.61
B85: 32111 | C85: Dnevnice za službeni put u zemlji | D85: =' PRIHODI I RASHODI-izvori'!E208+' PRIHODI I RASHODI-izvori'!E385+' PRIHODI I RASHODI-izvori'!E452 -> 5910 | E85: =' PRIHODI I RASHODI-izvori'!F208+' PRIHODI I RASHODI-izvori'!F385+' PRIHODI I RASHODI-izvori'!F452 -> 16616.17 | F85: =' PRIHODI I RASHODI-izvori'!G208+' PRIHODI I RASHODI-izvori'!G385+' PRIHODI I RASHODI-izvori'!G452 -> 8716.17 | G85: =' PRIHODI I RASHODI-izvori'!H208+' PRIHODI I RASHODI-izvori'!H385+' PRIHODI I RASHODI-izvori'!H452 -> 8316.17 | H85: =' PRIHODI I RASHODI-izvori'!I208+' PRIHODI I RASHODI-izvori'!I385+' PRIHODI I RASHODI-izvori'!I452 -> 4800
B86: 32113 | C86: Naknade za smještaj na službenom putu u zemlji | D86: =' PRIHODI I RASHODI-izvori'!E209+' PRIHODI I RASHODI-izvori'!E386 -> 0 | E86: =' PRIHODI I RASHODI-izvori'!F209+' PRIHODI I RASHODI-izvori'!F386 -> 1300 | F86: =' PRIHODI I RASHODI-izvori'!G209+' PRIHODI I RASHODI-izvori'!G386 -> 5600 | G86: =' PRIHODI I RASHODI-izvori'!H209+' PRIHODI I RASHODI-izvori'!H386 -> 5050 | H86: =' PRIHODI I RASHODI-izvori'!I209+' PRIHODI I RASHODI-izvori'!I386 -> 5100
B87: 32115 | C87: Naknade za prijevoz na službenom putu u zemlji | D87: =' PRIHODI I RASHODI-izvori'!E210+' PRIHODI I RASHODI-izvori'!E93+' PRIHODI I RASHODI-izvori'!E453+' PRIHODI I RASHODI-izvori'!E387 -> 1773.1 | E87: =' PRIHODI I RASHODI-izvori'!F210+' PRIHODI I RASHODI-izvori'!F93+' PRIHODI I RASHODI-izvori'!F453+' PRIHODI I RASHODI-izvori'!F387 -> 8040.85 | F87: =' PRIHODI I RASHODI-izvori'!G210+' PRIHODI I RASHODI-izvori'!G93+' PRIHODI I RASHODI-izvori'!G453+' PRIHODI I RASHODI-izvori'!G387 -> 4063.61 | G87: =' PRIHODI I RASHODI-izvori'!H210+' PRIHODI I RASHODI-izvori'!H93+' PRIHODI I RASHODI-izvori'!H453+' PRIHODI I RASHODI-izvori'!H387 -> 3863.61 | H87: =' PRIHODI I RASHODI-izvori'!I210+' PRIHODI I RASHODI-izvori'!I93+' PRIHODI I RASHODI-izvori'!I453+' PRIHODI I RASHODI-izvori'!I387 -> 4063.61
B88: 3212 | C88: Naknade za prijevoz, odvojeni život | D88: =D89 -> 103824.51 | E88: =E89 -> 100865.85 | F88: =F89 -> 99293.98 | G88: =G89 -> 100893.98 | H88: =H89 -> 97988.55
B89: 32121 | C89: Naknade za prijevoz | D89: =' PRIHODI I RASHODI-izvori'!E212+' PRIHODI I RASHODI-izvori'!E95+' PRIHODI I RASHODI-izvori'!E389 -> 103824.51 | E89: =' PRIHODI I RASHODI-izvori'!F212+' PRIHODI I RASHODI-izvori'!F95+' PRIHODI I RASHODI-izvori'!F389 -> 100865.85 | F89: =' PRIHODI I RASHODI-izvori'!G212+' PRIHODI I RASHODI-izvori'!G95+' PRIHODI I RASHODI-izvori'!G389 -> 99293.98 | G89: =' PRIHODI I RASHODI-izvori'!H212+' PRIHODI I RASHODI-izvori'!H95+' PRIHODI I RASHODI-izvori'!H389 -> 100893.98 | H89: =' PRIHODI I RASHODI-izvori'!I212+' PRIHODI I RASHODI-izvori'!I95+' PRIHODI I RASHODI-izvori'!I389 -> 97988.55
B90: 3213 | C90: Stručno usavršavanje zaposlenih | D90: =SUM(D91:D92) -> 5383.13 | E90: =SUM(E91:E92) -> 8100.67 | F90: =SUM(F91:F92) -> 11242.67 | G90: =SUM(G91:G92) -> 10431.57 | H90: =SUM(H91:H92) -> 9073.38
B91: 32131 | C91: Seminari, savjetovanja i simpoziji | D91: =' PRIHODI I RASHODI-izvori'!E214 -> 1080 | E91: =' PRIHODI I RASHODI-izvori'!F214 -> 2200 | F91: =' PRIHODI I RASHODI-izvori'!G214 -> 1100 | G91: =' PRIHODI I RASHODI-izvori'!H214 -> 1200 | H91: =' PRIHODI I RASHODI-izvori'!I214 -> 1300
B92: 32132 | C92: Tečajevi i stručni ispiti | D92: =' PRIHODI I RASHODI-izvori'!E215+' PRIHODI I RASHODI-izvori'!E97+' PRIHODI I RASHODI-izvori'!E391 -> 4303.13 | E92: =' PRIHODI I RASHODI-izvori'!F215+' PRIHODI I RASHODI-izvori'!F97+' PRIHODI I RASHODI-izvori'!F391 -> 5900.67 | F92: =' PRIHODI I RASHODI-izvori'!G215+' PRIHODI I RASHODI-izvori'!G97+' PRIHODI I RASHODI-izvori'!G391 -> 10142.67 | G92: =' PRIHODI I RASHODI-izvori'!H215+' PRIHODI I RASHODI-izvori'!H97+' PRIHODI I RASHODI-izvori'!H391 -> 9231.57 | H92: =' PRIHODI I RASHODI-izvori'!I215+' PRIHODI I RASHODI-izvori'!I97+' PRIHODI I RASHODI-izvori'!I391 -> 7773.38
B93: 3214 | C93: Ostale naknade troškova zaposlenima | D93: =D94 -> 0 | E93: =E94 -> 398.17 | F93: =F94 -> 200 | G93: =G94 -> 200 | H93: =H94 -> 200
B94: 32141 | C94: Naknada za korištenje privatnog automobila u službene svrhe | D94: =' PRIHODI I RASHODI-izvori'!E217 -> 0 | E94: =' PRIHODI I RASHODI-izvori'!F217 -> 398.17 | F94: =' PRIHODI I RASHODI-izvori'!G217 -> 200 | G94: =' PRIHODI I RASHODI-izvori'!H217 -> 200 | H94: =' PRIHODI I RASHODI-izvori'!I217 -> 200
B95: 322 | C95: Rashodi za materijal i energiju | D95: =D96+D102+D106+D111+D116+D118 -> 431247.24 | E95: =E96+E102+E106+E111+E116+E118 -> 181956.2 | F95: =F96+F102+F106+F111+F116+F118 -> 129494.55 | G95: =G96+G102+G106+G111+G116+G118 -> 132294.55 | H95: =H96+H102+H106+H111+H116+H118 -> 137694.55
B96: 3221 | C96: Uredski materijal i ostali materijalni rashodi | D96: =SUM(D97:D101) -> 31308.19 | E96: =SUM(E97:E101) -> 36501.82 | F96: =SUM(F97:F101) -> 30439.19 | G96: =SUM(G97:G101) -> 29589.19 | H96: =SUM(H97:H101) -> 30739.19
B97: 32211 | C97: Uredski materijal | D97: =' PRIHODI I RASHODI-izvori'!E220+' PRIHODI I RASHODI-izvori'!E101+' PRIHODI I RASHODI-izvori'!E22+' PRIHODI I RASHODI-izvori'!E394 -> 15555.7 | E97: =' PRIHODI I RASHODI-izvori'!F220+' PRIHODI I RASHODI-izvori'!F101+' PRIHODI I RASHODI-izvori'!F22+' PRIHODI I RASHODI-izvori'!F394 -> 15439.19 | F97: =' PRIHODI I RASHODI-izvori'!G220+' PRIHODI I RASHODI-izvori'!G101+' PRIHODI I RASHODI-izvori'!G22+' PRIHODI I RASHODI-izvori'!G394 -> 13439.19 | G97: =' PRIHODI I RASHODI-izvori'!H220+' PRIHODI I RASHODI-izvori'!H101+' PRIHODI I RASHODI-izvori'!H22+' PRIHODI I RASHODI-izvori'!H394 -> 13139.19 | H97: =' PRIHODI I RASHODI-izvori'!I220+' PRIHODI I RASHODI-izvori'!I101+' PRIHODI I RASHODI-izvori'!I22+' PRIHODI I RASHODI-izvori'!I394 -> 13639.19
B98: 32212 | C98: Literatura | D98: =' PRIHODI I RASHODI-izvori'!E221 -> 0 | E98: =' PRIHODI I RASHODI-izvori'!F221 -> 500 | F98: =' PRIHODI I RASHODI-izvori'!G221 -> 300 | G98: =' PRIHODI I RASHODI-izvori'!H221 -> 350 | H98: =' PRIHODI I RASHODI-izvori'!I221 -> 400
B99: 32214 | C99: Materijal i sredstva za čišćenje i održavanje | D99: =' PRIHODI I RASHODI-izvori'!E222+' PRIHODI I RASHODI-izvori'!E23 -> 13684.64 | E99: =' PRIHODI I RASHODI-izvori'!F222+' PRIHODI I RASHODI-izvori'!F23 -> 17000 | F99: =' PRIHODI I RASHODI-izvori'!G222+' PRIHODI I RASHODI-izvori'!G23 -> 13500 | G99: =' PRIHODI I RASHODI-izvori'!H222+' PRIHODI I RASHODI-izvori'!H23 -> 14000 | H99: =' PRIHODI I RASHODI-izvori'!I222+' PRIHODI I RASHODI-izvori'!I23 -> 14500
B100: 32215 | C100: Službena, radna i zaštitna odjeća | D100: =' PRIHODI I RASHODI-izvori'!E223 -> 0 | E100: =' PRIHODI I RASHODI-izvori'!F223 -> 700 | F100: =' PRIHODI I RASHODI-izvori'!G223 -> 500 | G100: =' PRIHODI I RASHODI-izvori'!H223 -> 550 | H100: =' PRIHODI I RASHODI-izvori'!I223 -> 600
B101: 32219 | C101: Ostali materijal za potrebe redovnog poslovanja | D101: =' PRIHODI I RASHODI-izvori'!E224+' PRIHODI I RASHODI-izvori'!E395 -> 2067.85 | E101: =' PRIHODI I RASHODI-izvori'!F224+' PRIHODI I RASHODI-izvori'!F395 -> 2862.63 | F101: =' PRIHODI I RASHODI-izvori'!G224+' PRIHODI I RASHODI-izvori'!G395 -> 2700 | G101: =' PRIHODI I RASHODI-izvori'!H224+' PRIHODI I RASHODI-izvori'!H395 -> 1550 | H101: =' PRIHODI I RASHODI-izvori'!I224+' PRIHODI I RASHODI-izvori'!I395 -> 1600
B102: 3222 | C102: Materijal i sirovine | D102: =SUM(D103:D105) -> 236716.97 | E102: =SUM(E103:E105) -> 0 | F102: =SUM(F103:F105) -> 0 | G102: =SUM(G103:G105) -> 0 | H102: =SUM(H103:H105) -> 0
B103: 32221 | C103: Potrošni medicinski materijal | D103: =' PRIHODI I RASHODI-izvori'!E226+' PRIHODI I RASHODI-izvori'!E103+' PRIHODI I RASHODI-izvori'!E25 -> 218514.66 | E103: =' PRIHODI I RASHODI-izvori'!F226+' PRIHODI I RASHODI-izvori'!F103+' PRIHODI I RASHODI-izvori'!F25 -> 0 | F103: =' PRIHODI I RASHODI-izvori'!G226+' PRIHODI I RASHODI-izvori'!G103+' PRIHODI I RASHODI-izvori'!G25 -> 0 | G103: =' PRIHODI I RASHODI-izvori'!H226+' PRIHODI I RASHODI-izvori'!H103+' PRIHODI I RASHODI-izvori'!H25 -> 0 | H103: =' PRIHODI I RASHODI-izvori'!I226+' PRIHODI I RASHODI-izvori'!I103+' PRIHODI I RASHODI-izvori'!I25 -> 0
B104: 32226 | C104: Lijekovi | D104: =' PRIHODI I RASHODI-izvori'!E227+' PRIHODI I RASHODI-izvori'!E104 -> 17989.09 | E104: =' PRIHODI I RASHODI-izvori'!F227+' PRIHODI I RASHODI-izvori'!F104 -> 0 | F104: =' PRIHODI I RASHODI-izvori'!G227+' PRIHODI I RASHODI-izvori'!G104 -> 0 | G104: =' PRIHODI I RASHODI-izvori'!H227+' PRIHODI I RASHODI-izvori'!H104 -> 0 | H104: =' PRIHODI I RASHODI-izvori'!I227+' PRIHODI I RASHODI-izvori'!I104 -> 0
B105: 32229 | C105: Ostali materijal i sirovine | D105: =' PRIHODI I RASHODI-izvori'!E228 -> 213.22 | E105: =' PRIHODI I RASHODI-izvori'!F228 -> 0 | F105: =' PRIHODI I RASHODI-izvori'!G228 -> 0 | G105: =' PRIHODI I RASHODI-izvori'!H228 -> 0 | H105: =' PRIHODI I RASHODI-izvori'!I228 -> 0
...

Sheet Prihodi po ek klas i izvorima
A1: I. OPĆI DIO
A2: A. RAČUN PRIHODA
A3: PRIHODI PREMA EKONOMSKOJ KLASIFIKACIJI I IZVORIMA FINANCIRANJA
A5: PRIHODI POSLOVANJA
A6: Razred | B6: Skupina/podskupina/odjeljak | C6: Izvor | D6: Naziv | E6: IZVRŠENJE 2024. | F6: TEKUĆI PLAN ZA 2025. | G6: PLAN ZA 2026. | H6: PROJEKCIJA ZA 2027. | I6: PROJEKCIJA ZA 2028.
A7: 1 | G7: 2 | H7: 3 | I7: 4
A8: 6 | D8: Prihodi poslovanja | E8: =SUM(E15,E73,E53,E33,E79,E84) -> 5100997.3 | F8: =SUM(F15,F73,F53,F33,F79,F84) -> 5178157.9 | G8: =SUM(G15,G73,G53,G33,G79,G84) -> 5420091.1 | H8: =SUM(H15,H73,H53,H33,H79,H84) -> 5902923.2 | I8: =SUM(I15,I73,I53,I33,I79,I84) -> 6174587.6
B9: 67 | D9: Prihodi iz nadležnog proračuna i od HZZO-a temeljem ugovornih obveza | E9: =E10 -> 397160.43 | F9: =F10 -> 561264.02 | G9: =G10 -> 358264.02 | H9: =H10 -> 358264.02 | I9: =I10 -> 358264.02
B10: 671 | D10: Prihodi iz nadležnog proračuna za financiranje redovne djelatnosti proračunskih korisnika | E10: =SUM(E11,E13) -> 397160.43 | F10: =SUM(F11,F13) -> 561264.02 | G10: =SUM(G11,G13) -> 358264.02 | H10: =SUM(H11,H13) -> 358264.02 | I10: =SUM(I11,I13) -> 358264.02
B11: 6711 | D11: Prihodi iz nadležnog proračuna za financiranje rashoda poslovanja | E11: =E12 -> 141650.92 | F11: =F12 -> 352264.02 | G11: =G12 -> 92988.02 | H11: =H12 -> 92988.02 | I11: =I12 -> 92988.02
B12: 67111 | D12: Prihodi iz nadležnog proračuna za financiranje rashoda poslovanja | E12: 141650.92 | F12: 352264.02 | G12: 92988.02 | H12: 92988.02 | I12: 92988.02
B13: 6712 | D13: Prihodi iz nadležnog proračuna za nabavu nefinancijske imovine | E13: =E14 -> 255509.51 | F13: =F14 -> 209000 | G13: =G14 -> 265276 | H13: =H14 -> 265276 | I13: =I14 -> 265276
B14: 67121 | D14: Prihodi iz nadležnog proračuna za nabavu nefinancijske imovine | E14: 255509.51 | F14: 209000 | G14: 265276 | H14: 265276 | I14: 265276
C15: 11 | D15: Opći prihodi i primici | E15: =E9 -> 397160.43 | F15: =F9 -> 561264.02 | G15: =G9 -> 358264.02 | H15: =H9 -> 358264.02 | I15: =I9 -> 358264.02
B16: 64 | D16: Prihodi od imovine | E16: =SUM(E17) -> 40.76 | F16: =SUM(F17) -> 200 | G16: =SUM(G17) -> 200 | H16: =SUM(H17) -> 200 | I16: =SUM(I17) -> 200
B17: 641 | D17: Prihodi od financijske imovine | E17: =SUM(E18,E20,E22,E23) -> 40.76 | F17: =SUM(F18,F20,F22,F23) -> 200 | G17: =SUM(G18,G20,G22,G23) -> 200 | H17: =SUM(H18,H20,H22,H23) -> 200 | I17: =SUM(I18,I20,I22,I23) -> 200
B18: 6413 | D18: Kamate na oročena srredstva i depozite po viđenju | E18: =SUM(E19) -> 24.01 | F18: =SUM(F19) -> 200 | G18: =SUM(G19) -> 150 | H18: =SUM(H19) -> 150 | I18: =SUM(I19) -> 150
B19: 64132 | D19: Kamate na oročena sredstva i depozite po viđenju | E19: 24.01 | F19: 200 | G19: 150 | H19: 150 | I19: 150
B20: 6414 | D20: Prihodi od zateznih kamata | E20: =E21 -> 16.75 | F20: =F21 -> 0 | G20: =G21 -> 50 | H20: =H21 -> 50 | I20: =I21 -> 50
B21: 64143 | D21: Prihodi od zateznih kamata | E21: 16.75 | G21: 50 | H21: 50 | I21: 50
B22: 6419 | D22: Ostali prihodi od financijske imovine
B23: 6429 | D23: Ostali prihodi od nefinancijske imovine
B24: 66 | D24: Prihodi od prodaje proizvoda i robe te pruženih usluga i prihodi od donacija | E24: =SUM(E25) -> 140153.61 | F24: =SUM(F25) -> 199083.29 | G24: =SUM(G25) -> 163116.33 | H24: =SUM(H25) -> 163116.33 | I24: =SUM(I25) -> 163116.33
B25: 661 | D25: Prihodi od prodaje proizvoda i robe te pruženih usluga | E25: =SUM(E26:E27) -> 140153.61 | F25: =SUM(F26:F27) -> 199083.29 | G25: =SUM(G26:G27) -> 163116.33 | H25: =SUM(H26:H27) -> 163116.33 | I25: =SUM(I26:I27) -> 163116.33
B26: 6614 | D26: Prihod od prodaje proizvoda i usluga
B27: 6615 | D27: Prihodi od pruženih usluga | E27: =SUM(E28:E29) -> 140153.61 | F27: =SUM(F28:F29) -> 199083.29 | G27: =SUM(G28:G29) -> 163116.33 | H27: =SUM(H28:H29) -> 163116.33 | I27: =SUM(I28:I29) -> 163116.33
B28: 66151 | D28: Prihodi od pruženih usluga | E28: 139946.23 | F28: 199083.29 | G28: 163116.33 | H28: 163116.33 | I28: 163116.33
B29: 66153 | D29: Prihodi za udio troškova u zakupu | E29: 207.38
B30: 68 | D30: Kazne, upravne mjere i ostali prihodi | E30: =SUM(E31) -> 0 | F30: =SUM(F31) -> 0 | G30: =SUM(G31) -> 0 | H30: =SUM(H31) -> 0 | I30: =SUM(I31) -> 0
B31: 683 | D31: Ostali prihodi | E31: =SUM(E32) -> 0 | F31: =SUM(F32) -> 0 | G31: =SUM(G32) -> 0 | H31: =SUM(H32) -> 0 | I31: =SUM(I32) -> 0
B32: 6831 | D32: Ostali prihodi
C33: 31 | D33: Vlastiti prihodi | E33: =E16+E24+E30 -> 140194.37 | F33: =F16+F24+F30 -> 199283.29 | G33: =G16+G24+G30 -> 163316.33 | H33: =H16+H24+H30 -> 163316.33 | I33: =I16+I24+I30 -> 163316.33
B34: 64 | D34: Prihodi od imovine | E34: =SUM(E35) -> 0 | F34: =SUM(F35) -> 0 | G34: =SUM(G35) -> 0 | H34: =SUM(H35) -> 0 | I34: =SUM(I35) -> 0
B35: 641 | D35: Prihodi od financijske imovine | E35: =SUM(E36:E36) -> 0 | F35: =SUM(F36:F36) -> 0 | G35: =SUM(G36:G36) -> 0 | H35: =SUM(H36:H36) -> 0 | I35: =SUM(I36:I36) -> 0
B36: 6419 | D36: Ostali prihodi od financijske imovine
B37: 65 | D37: Prihodi od upravnih i administrativnih pristojbi, pristojbi po posebnim propisima i nakanda | E37: =SUM(E38) -> 69787.18 | F37: =SUM(F38) -> 47500 | G37: =SUM(G38) -> 58500 | H37: =SUM(H38) -> 62375 | I37: =SUM(I38) -> 65369
B38: 652 | D38: Prihodi po posebnim propisima | E38: =SUM(E39) -> 69787.18 | F38: =SUM(F39) -> 47500 | G38: =SUM(G39) -> 58500 | H38: =SUM(H39) -> 62375 | I38: =SUM(I39) -> 65369
B39: 6526 | D39: Ostali nespomenuti prihodi (participacija) | E39: =SUM(E40:E41) -> 69787.18 | F39: =SUM(F40:F41) -> 47500 | G39: =SUM(G40:G41) -> 58500 | H39: =SUM(H40:H41) -> 62375 | I39: =SUM(I40:I41) -> 65369
B40: 65264 | D40: Sufinanciranje cijene usluge, participacija | E40: 51154.92 | F40: 44000 | G40: 55000 | H40: 57500 | I40: 60000
B41: 65269 | D41: Refundacija plaća specijalizanata | E41: 18632.26 | F41: 3500 | G41: 3500 | H41: 4875 | I41: 5369
B42: 67 | D42: Prihodi iz nadležnog proračuna i od HZZO-a temeljem ugovornih obveza | E42: =SUM(E43,E46) -> 4148754.7 | F42: =SUM(F43,F46) -> 3899096.7 | G42: =SUM(G43,G46) -> 4599086.9 | H42: =SUM(H43,H46) -> 5137268.3 | I42: =SUM(I43,I46) -> 5405449.8
B43: 671 | D43: Prihodi iz nadležnog proračuna za financiranje redovne djelatnosti proračunskih korisnika | E43: =SUM(E44:E45) -> 0 | F43: =SUM(F44:F45) -> 0 | G43: =SUM(G44:G45) -> 0 | H43: =SUM(H44:H45) -> 0 | I43: =SUM(I44:I45) -> 0
B44: 6711 | D44: Prihodi iz nadležnog proračuna za financiranje rashoda poslovanja | E44: 0 | F44: 0 | G44: 0 | H44: 0 | I44: 0
B45: 6712 | D45: Prihodi iz nadležnog proračuna za nabavu nefinancijske imovine | E45: 0 | F45: 0 | G45: 0 | H45: 0 | I45: 0
B46: 673 | D46: Prihodi od HZZO-a temeljem ugovora | E46: =SUM(E47) -> 4148754.7 | F46: =SUM(F47) -> 3899096.7 | G46: =SUM(G47) -> 4599086.9 | H46: =SUM(H47) -> 5137268.3 | I46: =SUM(I47) -> 5405449.8
B47: 6731 | D47: Prihodi od HZZO-a temeljem ugovora | E47: =SUM(E48) -> 4148754.7 | F47: =SUM(F48) -> 3899096.7 | G47: =SUM(G48) -> 4599086.9 | H47: =SUM(H48) -> 5137268.3 | I47: =SUM(I48) -> 5405449.8
B48: 67311 | D48: Prihodi od HZZO-a temeljem ugovora | E48: 4148754.7 | F48: 3899096.7 | G48: 4599086.9 | H48: 5137268.3 | I48: 5405449.8
B49: 68 | D49: Kazne, upravne mjere i ostali prihodi | E49: =SUM(E50) -> 712.71 | F49: =SUM(F50) -> 3000 | G49: =SUM(G50) -> 3000 | H49: =SUM(H50) -> 3000 | I49: =SUM(I50) -> 3000
B50: 683 | D50: Ostali prihodi | E50: =SUM(E51) -> 712.71 | F50: =SUM(F51) -> 3000 | G50: =SUM(G51) -> 3000 | H50: =SUM(H51) -> 3000 | I50: =SUM(I51) -> 3000
B51: 6831 | D51: Ostali prihodi | E51: =SUM(E52) -> 712.71 | F51: =SUM(F52) -> 3000 | G51: =SUM(G52) -> 3000 | H51: =SUM(H52) -> 3000 | I51: =SUM(I52) -> 3000
B52: 68311 | D52: Ostali prihodi | E52: 712.71 | F52: 3000 | G52: 3000 | H52: 3000 | I52: 3000
C53: 43 | D53: Ostali prihodi za posebne namjene | E53: =SUM(E34,E37,E42,E49) -> 4219254.6 | F53: =SUM(F34,F37,F42,F49) -> 3949596.7 | G53: =SUM(G34,G37,G42,G49) -> 4660586.9 | H53: =SUM(H34,H37,H42,H49) -> 5202643.3 | I53: =SUM(I34,I37,I42,I49) -> 5473818.8
B54: 63 | D54: Pomoći iz inozemstva i od subjekata unutar općeg proračuna | E54: =SUM(E55,E59,E62,E67,E71) -> 331632.4 | F54: =SUM(F55,F59,F62,F67,F71) -> 412013.95 | G54: =SUM(G55,G59,G62,G67,G71) -> 231423.83 | H54: =SUM(H55,H59,H62,H67,H71) -> 171724.49 | I54: =SUM(I55,I59,I62,I67,I71) -> 171724.49
B55: 633 | D55: Pomoći proračunu iz drugih proračuna | E55: =E56 -> 799.5 | F55: =F56 -> 0 | G55: =G56 -> 500 | H55: =H56 -> 500 | I55: =I56 -> 500
B56: 6331 | D56: Tekuće pomoći proračunu iz drugih proračuna | E56: =E57 -> 799.5 | F56: =F57 -> 0 | G56: =G57 -> 500 | H56: =H57 -> 500 | I56: =I57 -> 500
B57: 63313 | D57: Tekuće potpore iz gradskog proračuna | E57: 799.5 | G57: 500 | H57: 500 | I57: 500
B58: 6332 | D58: Kapitalne pomoći proračunu iz drugih proračuna
B59: 634 | D59: Pomoći od izvanproračunskih korisnika | E59: =SUM(E60) -> 0 | F59: =SUM(F60) -> 68314.61 | G59: =SUM(G60) -> 68314.61 | H59: =SUM(H60) -> 68314.61 | I59: =SUM(I60) -> 68314.61
B60: 6341 | D60: Tekuće pomoći od HZZ-a, HZZO-a | E60: =SUM(E61) -> 0 | F60: =SUM(F61) -> 68314.61 | G60: =SUM(G61) -> 68314.61 | H60: =SUM(H61) -> 68314.61 | I60: =SUM(I61) -> 68314.61
B61: 63414 | D61: Tekuće pomoći od HZZ-a, HZZO-a | E61: 0 | F61: 68314.61 | G61: 68314.61 | H61: 68314.61 | I61: 68314.61
B62: 636 | D62: Pomoći proračunskim korisnicima iz proračuna koji im nije nadležan | E62: =SUM(E63,E65) -> 299750 | F62: =SUM(F63,F65) -> 298000 | G62: =SUM(G63,G65) -> 14000 | H62: =SUM(H63,H65) -> 0 | I62: =SUM(I63,I65) -> 0
B63: 6361 | D63: Tekuće pomoći iz državnog proračuna proračunskim korisnicma JLP(R)S | E63: =SUM(E64) -> 14000 | F63: =SUM(F64) -> 14000 | G63: =SUM(G64) -> 14000 | H63: =SUM(H64) -> 0 | I63: =SUM(I64) -> 0
B64: 63612 | D64: Tekuće pomoći iz državnog proračuna proračunskim korisnicma JLP(R)S | E64: 14000 | F64: 14000 | G64: 14000 | H64: 0 | I64: 0
B65: 6362 | D65: Kapitalne pomoći iz državnog proračuna proračunskim korisnicima JLP(R)S | E65: =E66 -> 285750 | F65: =F66 -> 284000 | G65: =G66 -> 0 | H65: =H66 -> 0 | I65: =I66 -> 0
B66: 63622 | D66: Kapitalne pomoći iz državnog proračuna proračunskim korisnicima JLP(R)S | E66: 285750 | F66: 284000
B67: 638 | D67: Pomoć temeljem prijenosa EU sredstava | E67: =SUM(E68,E70) -> 31082.9 | F67: =SUM(F68,F70) -> 45699.34 | G67: =SUM(G68,G70) -> 148609.22 | H67: =SUM(H68,H70) -> 102909.88 | I67: =SUM(I68,I70) -> 102909.88
B68: 6381 | D68: Tekuće pomoći temeljem prijenosa EU sredstava | E68: =SUM(E69) -> 31082.9 | F68: =SUM(F69) -> 45699.34 | G68: =SUM(G69) -> 148609.22 | H68: =SUM(H69) -> 102909.88 | I68: =SUM(I69) -> 102909.88
B69: 63814 | D69: Tekuće pomoći temeljem prijenosa EU sredstava | E69: 31082.9 | F69: 45699.34 | G69: 148609.22 | H69: 102909.88 | I69: 102909.88
B70: 6382 | D70: Kapitalna pomoć temeljem prijenosa EU sredstava
B71: 639 | D71: Prijenosi između proračunskih korisnika istog proračuna | E71: =E72 -> 0 | F71: =F72 -> 0 | G71: =G72 -> 0 | H71: =H72 -> 0 | I71: =I72 -> 0
B72: 6391 | D72: Tekući prijenosi između proračunskih korisnika istog proračuna
C73: 52 | D73: Pomoći | E73: =SUM(E54) -> 331632.4 | F73: =SUM(F54) -> 412013.95 | G73: =SUM(G54) -> 231423.83 | H73: =SUM(H54) -> 171724.49 | I73: =SUM(I54) -> 171724.49
B74: 66 | D74: Prihodi od prodaje proizvoda i robe te pruženih usluga i prihodi od donacija | E74: =E75 -> 3957.25 | F74: =F75 -> 50500 | G74: =G75 -> 1000 | H74: =H75 -> 1200 | I74: =I75 -> 1400
B75: 663 | D75: Donacije od pravnih i fizičkih osoba izvan općeg proračuna i povrat donacija po protestiranim jamstvima | E75: =SUM(E76,E78) -> 3957.25 | F75: =SUM(F76,F78) -> 50500 | G75: =SUM(G76,G78) -> 1000 | H75: =SUM(H76,H78) -> 1200 | I75: =SUM(I76,I78) -> 1400
B76: 6631 | D76: Tekuće donacije | E76: =SUM(E77) -> 3957.25 | F76: =SUM(F77) -> 50500 | G76: =SUM(G77) -> 1000 | H76: =SUM(H77) -> 1200 | I76: =SUM(I77) -> 1400
B77: 66313 | D77: Tekuće donacije | E77: 3957.25 | F77: 50500 | G77: 1000 | H77: 1200 | I77: 1400
B78: 6632 | D78: Kapitalne donacije
C79: 61 | D79: Donacije | E79: =SUM(E74) -> 3957.25 | F79: =SUM(F74) -> 50500 | G79: =SUM(G74) -> 1000 | H79: =SUM(H74) -> 1200 | I79: =SUM(I74) -> 1400
B80: 65 | D80: Prihodi od upravnih i administrativnih pristojbi, pristojbi po posebnim propisima i nakanda | E80: =SUM(E81) -> 8798.23 | F80: =SUM(F81) -> 5500 | G80: =SUM(G81) -> 5500 | H80: =SUM(H81) -> 5775 | I80: =SUM(I81) -> 6064
B81: 652 | D81: Prihodi po posebnim propisima | E81: =E82 -> 8798.23 | F81: =F82 -> 5500 | G81: =G82 -> 5500 | H81: =H82 -> 5775 | I81: =I82 -> 6064
B82: 6526 | D82: Ostali nespomenuti prihodi | E82: =E83 -> 8798.23 | F82: =F83 -> 5500 | G82: =G83 -> 5500 | H82: =H83 -> 5775 | I82: =I83 -> 6064
B83: 65267 | D83: Prihodi od osiguranja i refundacije štete | E83: 8798.23 | F83: 5500 | G83: 5500 | H83: 5775 | I83: 6064
C84: 71 | D84: Prihodi od prodaje nefinacijske imovine i naknade šteta | E84: =SUM(E80) -> 8798.23 | F84: =SUM(F80) -> 5500 | G84: =SUM(G80) -> 5500 | H84: =SUM(H80) -> 5775 | I84: =SUM(I80) -> 6064
A85: 7 | D85: Prihodi od prodaje nefinancijske imovine | E85: =E86+E89 -> 0 | F85: =F86+F89 -> 800 | G85: =G86+G89 -> 0 | H85: =H86+H89 -> 0 | I85: =I86+I89 -> 0
B86: 72 | D86: Prihodi od prodaje proizvedene dugotrajne imovine | E86: =E87 -> 0 | F86: =F87 -> 0 | G86: =G87 -> 0 | H86: =H87 -> 0 | I86: =I87 -> 0
B87: 721 | D87: Prihodi od prodaje građevinskih objekata | E87: =E88 -> 0 | F87: =F88 -> 0 | G87: =G88 -> 0 | H87: =H88 -> 0 | I87: =I88 -> 0
B88: 7211 | D88: Stambeni objekti
B89: 723 | D89: Prihodi od prodaje prijevoznih sredstava | E89: =E90 -> 0 | F89: =F90 -> 800 | G89: =G90 -> 0 | H89: =H90 -> 0 | I89: =I90 -> 0
B90: 7231 | D90: Prijevozna sredstva u cestovnom prometu | E90: =E91 -> 0 | F90: =F91 -> 800 | G90: =G91 -> 0 | H90: =H91 -> 0 | I90: =I91 -> 0
B91: 72313 | D91: Kombi vozila | E91: 0 | F91: 800 | G91: 0 | H91: 0 | I91: 0
C92: 71 | D92: Prihodi od prodaje nefinacijske imovine i naknade šteta | E92: =SUM(E85) -> 0 | F92: =SUM(F85) -> 800 | G92: =SUM(G85) -> 0 | H92: =SUM(H85) -> 0 | I92: =SUM(I85) -> 0
A93: Ukupni prihodi | E93: =SUM(E8,E85) -> 5100997.3 | F93: =SUM(F8,F85) -> 5178957.9 | G93: =SUM(G8,G85) -> 5420091.1 | H93: =SUM(H8,H85) -> 5902923.2 | I93: =SUM(I8,I85) -> 6174587.6
A99: RASHODI POSLOVANJA
A100: Razred | B100: Skupina/podskupina/odjeljak | C100: Izvor | D100: Naziv | G100: IZVORNI PLAN | H100: TEKUĆI PLAN | I100: Izvršenje tekuće godine I.-IX.2023.
A101: 1 | G101: 2 | H101: 3 | I101: 4
A102: 3 | D102: Rashodi poslovanja | G102: =G103+G113+G146+G151+G155+G158 -> 0 | H102: =H103+H113+H146+H151+H155+H158 -> 59190451 | I102: =I103+I113+I146+I155+I158 -> 0
B103: 31 | D103: Rashodi za zaposlene | G103: =G104+G109+G111 -> 0 | H103: =H104+H109+H111 -> 38266104 | I103: =I104+I109+I111 -> 0
B104: 311 | D104: Plaće | G104: =SUM(G105:G108) -> 0 | H104: =SUM(H105:H108) -> 31479072 | I104: =SUM(I105:I108) -> 0
B105: 3111 | D105: Plaće za redovan rad | H105: 26934799
B106: 3112 | D106: Plaće u naravi | H106: 0 | I106: 0
...

Sheet  PRIHODI I RASHODI-izvori
A1: I. OPĆI DIO
A2: A. RAČUN PRIHODA I RASHODA
A3: RASHODI PREMA EKONOMSKOJ KLASIFIKACIJI I IZVORIMA FINANCIRANJA
A5: RASHODI POSLOVANJA
A6: Razred | B6: Skupina/podskupina/odjeljak | C6: Izvor | D6: Naziv | E6: IZVRŠENJE 2024. | F6: TEKUĆI PLAN ZA 2025. | G6: PLAN ZA 2026. | H6: PROJEKCIJA ZA 2027. | I6: PROJEKCIJA ZA 2028.
A7: 1 | G7: 2 | H7: 3 | I7: 4
A8: 3 | D8: Rashodi poslovanja | E8: =E11+E181+E75+E367+E448+E474 -> 5084825.9 | F8: =F11+F181+F75+F367+F448+F474 -> 4244329.6 | G8: =G11+G181+G75+G367+G448+G474 -> 5323849.9 | H8: =H11+H181+H75+H367+H448+H474 -> 5396761.3 | I8: =I11+I181+I75+I367+I448+I474 -> 5438063
A9: 4 | D9: Rashodi za nabavu nefinancijske imovine | E9: =E58+E332+E159+E416+E443+E462+E483 -> 846874.29 | F9: =F58+F332+F159+F416+F443+F462+F483 -> 369702.17 | G9: =G58+G332+G159+G416+G443+G462+G483 -> 350648.28 | H9: =H58+H332+H159+H416+H443+H462+H483 -> 353598.28 | I9: =I58+I332+I159+I416+I443+I462+I483 -> 356548.28
D10: KORIŠTENJE DEC-a SREDSTAVA ŽUPANIJE
A11: 3 | D11: Rashodi poslovanja | E11: =E12+E19 -> 141650.92 | F11: =F12+F19 -> 352264.02 | G11: =G12+G19 -> 92988.02 | H11: =H12+H19 -> 92988.02 | I11: =I12+I19 -> 92988.02
B12: 31 | D12: Rashodi za zaposlene | E12: =E13+E16 -> 10163.3 | F12: =F13+F16 -> 46978.02 | G12: =G13+G16 -> 6978.02 | H12: =H13+H16 -> 6978.02 | I12: =I13+I16 -> 6978.02
B13: 311 | D13: Plaće | E13: =SUM(E14) -> 8723.88 | F13: =SUM(F14) -> 5989.73 | G13: =SUM(G14) -> 5989.73 | H13: =SUM(H14) -> 5989.73 | I13: =SUM(I14) -> 5989.73
B14: 3111 | D14: Plaće za redovan rad | E14: =SUM(E15) -> 8723.88 | F14: =SUM(F15) -> 5989.73 | G14: =SUM(G15) -> 5989.73 | H14: =SUM(H15) -> 5989.73 | I14: =SUM(I15) -> 5989.73
B15: 31111 | D15: Plaće za redovan rad | E15: ='Rekapitulacija Posebni dio'!C496+'Rekapitulacija Posebni dio'!C515+'Rekapitulacija Posebni dio'!C534 -> 8723.88 | F15: ='Rekapitulacija Posebni dio'!D496+'Rekapitulacija Posebni dio'!D515+'Rekapitulacija Posebni dio'!D534 -> 5989.73 | G15: ='Rekapitulacija Posebni dio'!E496+'Rekapitulacija Posebni dio'!E515+'Rekapitulacija Posebni dio'!E534 -> 5989.73 | H15: ='Rekapitulacija Posebni dio'!F496+'Rekapitulacija Posebni dio'!F515+'Rekapitulacija Posebni dio'!F534 -> 5989.73 | I15: ='Rekapitulacija Posebni dio'!G496+'Rekapitulacija Posebni dio'!G515+'Rekapitulacija Posebni dio'!G534 -> 5989.73
B16: 313 | D16: Doprinosi na plaće | E16: =SUM(E17) -> 1439.42 | F16: =SUM(F17) -> 40988.29 | G16: =SUM(G17) -> 988.29 | H16: =SUM(H17) -> 988.29 | I16: =SUM(I17) -> 988.29
B17: 3132 | D17: Doprinosi za obvezno zdravstveno osiguranje | E17: =SUM(E18) -> 1439.42 | F17: =SUM(F18) -> 40988.29 | G17: =SUM(G18) -> 988.29 | H17: =SUM(H18) -> 988.29 | I17: =SUM(I18) -> 988.29
B18: 31321 | D18: Doprinosi za obvezno zdravstveno osiguranje | E18: ='Rekapitulacija Posebni dio'!C381+'Rekapitulacija Posebni dio'!C501+'Rekapitulacija Posebni dio'!C520+'Rekapitulacija Posebni dio'!C539 -> 1439.42 | F18: ='Rekapitulacija Posebni dio'!D381+'Rekapitulacija Posebni dio'!D501+'Rekapitulacija Posebni dio'!D520+'Rekapitulacija Posebni dio'!D539 -> 40988.29 | G18: ='Rekapitulacija Posebni dio'!E381+'Rekapitulacija Posebni dio'!E501+'Rekapitulacija Posebni dio'!E520+'Rekapitulacija Posebni dio'!E539 -> 988.29 | H18: ='Rekapitulacija Posebni dio'!F381+'Rekapitulacija Posebni dio'!F501+'Rekapitulacija Posebni dio'!F520+'Rekapitulacija Posebni dio'!F539 -> 988.29 | I18: ='Rekapitulacija Posebni dio'!G381+'Rekapitulacija Posebni dio'!G501+'Rekapitulacija Posebni dio'!G520+'Rekapitulacija Posebni dio'!G539 -> 988.29
B19: 32 | D19: Materijalni rashodi | E19: =E20+E31+E47+E51 -> 131487.62 | F19: =F20+F31+F47+F51 -> 305286 | G19: =G20+G31+G47+G51 -> 86010 | H19: =H20+H31+H47+H51 -> 86010 | I19: =I20+I31+I47+I51 -> 86010
B20: 322 | D20: Rashodi za materijal i energiju | E20: =E21+E24+E26+E29 -> 20672.78 | F20: =F21+F24+F26+F29 -> 4000 | G20: =G21+G24+G26+G29 -> 0 | H20: =H21+H24+H26+H29 -> 0 | I20: =I21+I24+I26+I29 -> 0
B21: 3221 | D21: Uredski materijal i ostali materijalni rashodi | E21: =E22+E23 -> 1543.88 | F21: =F22+F23 -> 4000 | G21: =G22+G23 -> 0 | H21: =H22+H23 -> 0 | I21: =I22+I23 -> 0
B22: 32211 | D22: Uredski materijal | E22: ='Rekapitulacija Posebni dio'!C400 -> 1228.88 | F22: ='Rekapitulacija Posebni dio'!D400 -> 2000 | G22: ='Rekapitulacija Posebni dio'!E400 -> 0 | H22: ='Rekapitulacija Posebni dio'!F400 -> 0 | I22: ='Rekapitulacija Posebni dio'!G400 -> 0
B23: 32214 | D23: Materijal i sredstva za čišćenje | E23: ='Rekapitulacija Posebni dio'!C401 -> 315 | F23: ='Rekapitulacija Posebni dio'!D401 -> 2000 | G23: ='Rekapitulacija Posebni dio'!E401 -> 0 | H23: ='Rekapitulacija Posebni dio'!F401 -> 0 | I23: ='Rekapitulacija Posebni dio'!G401 -> 0
B24: 3222 | D24: Materijal i sirovine | E24: =E25 -> 12071.02 | F24: =F25 -> 0 | G24: =G25 -> 0 | H24: =H25 -> 0 | I24: =I25 -> 0
B25: 32221 | D25: Potrošni medicinski materijal | E25: ='Rekapitulacija Posebni dio'!C403 -> 12071.02 | F25: ='Rekapitulacija Posebni dio'!D403 -> 0 | G25: ='Rekapitulacija Posebni dio'!E403 -> 0 | H25: ='Rekapitulacija Posebni dio'!F403 -> 0 | I25: ='Rekapitulacija Posebni dio'!G403 -> 0
B26: 3223 | D26: Energija | E26: =E27+E28 -> 3057.88 | F26: =F27+F28 -> 0 | G26: =G27+G28 -> 0 | H26: =H27+H28 -> 0 | I26: =I27+I28 -> 0
B27: 32231 | D27: Električna energija | E27: ='Rekapitulacija Posebni dio'!C405 -> 2416.99 | F27: ='Rekapitulacija Posebni dio'!D405 -> 0 | G27: ='Rekapitulacija Posebni dio'!E405 -> 0 | H27: ='Rekapitulacija Posebni dio'!F405 -> 0 | I27: ='Rekapitulacija Posebni dio'!G405 -> 0
B28: 32233 | D28: Plin | E28: ='Rekapitulacija Posebni dio'!C406 -> 640.89 | F28: ='Rekapitulacija Posebni dio'!D406 -> 0 | G28: ='Rekapitulacija Posebni dio'!E406 -> 0 | H28: ='Rekapitulacija Posebni dio'!F406 -> 0 | I28: ='Rekapitulacija Posebni dio'!G406 -> 0
B29: 3224 | D29: Materijal i dijelovi za tekuće i investicijsko održavanje | E29: =E30 -> 4000 | F29: =F30 -> 0 | G29: =G30 -> 0 | H29: =H30 -> 0 | I29: =I30 -> 0
B30: 32241 | D30: Materijal i dijelovi za tekuće i invest. održavanje građevinskih objekata | E30: ='Rekapitulacija Posebni dio'!C464 -> 4000 | F30: ='Rekapitulacija Posebni dio'!D464 -> 0 | G30: ='Rekapitulacija Posebni dio'!E464 -> 0 | H30: ='Rekapitulacija Posebni dio'!F464 -> 0 | I30: ='Rekapitulacija Posebni dio'!G464 -> 0
B31: 323 | D31: Rashodi za usluge | E31: =E32+E34+E38+E40+E42+E44 -> 109496.94 | F31: =F32+F34+F38+F40+F42+F44 -> 125286 | G31: =G32+G34+G38+G40+G42+G44 -> 86010 | H31: =H32+H34+H38+H40+H42+H44 -> 86010 | I31: =I32+I34+I38+I40+I42+I44 -> 86010
B32: 3231 | D32: Usluge telefona i pošte | E32: =E33 -> 0 | F32: =F33 -> 3000 | G32: =G33 -> 0 | H32: =H33 -> 0 | I32: =I33 -> 0
B33: 32311 | D33: Usluge telefona, telefaksa | E33: ='Rekapitulacija Posebni dio'!C409 -> 0 | F33: ='Rekapitulacija Posebni dio'!D409 -> 3000 | G33: ='Rekapitulacija Posebni dio'!E409 -> 0 | H33: ='Rekapitulacija Posebni dio'!F409 -> 0 | I33: ='Rekapitulacija Posebni dio'!G409 -> 0
B34: 3232 | D34: Usluge tekućeg i investicijskog održavanja | E34: =SUM(E35:E37) -> 64234.04 | F34: =SUM(F35:F37) -> 55286 | G34: =SUM(G35:G37) -> 46010 | H34: =SUM(H35:H37) -> 46010 | I34: =SUM(I35:I37) -> 46010
B35: 32321 | D35: Usluge tekućeg i investicijskog održavanja građevinskih objekata | E35: ='Rekapitulacija Posebni dio'!C467 -> 15000 | F35: ='Rekapitulacija Posebni dio'!D467 -> 20000 | G35: ='Rekapitulacija Posebni dio'!E467 -> 20641 | H35: ='Rekapitulacija Posebni dio'!F467 -> 20641 | I35: ='Rekapitulacija Posebni dio'!G467 -> 20641
B36: 32322 | D36: Usluge tekućeg i investicijskog održavanja postrojenja i opreme | E36: ='Rekapitulacija Posebni dio'!C468 -> 8000 | F36: ='Rekapitulacija Posebni dio'!D468 -> 10000 | G36: ='Rekapitulacija Posebni dio'!E468 -> 10760 | H36: ='Rekapitulacija Posebni dio'!F468 -> 10760 | I36: ='Rekapitulacija Posebni dio'!G468 -> 10760
B37: 32323 | D37: Usluge tekućeg i investicijskog održavanja prijevoznih sredstava | E37: ='Rekapitulacija Posebni dio'!C469 -> 41234.04 | F37: ='Rekapitulacija Posebni dio'!D469 -> 25286 | G37: ='Rekapitulacija Posebni dio'!E469 -> 14609 | H37: ='Rekapitulacija Posebni dio'!F469 -> 14609 | I37: ='Rekapitulacija Posebni dio'!G469 -> 14609
B38: 3236 | D38: Zdravstvene i veterinarske usluge | E38: =E39 -> 1399.02 | F38: =F39 -> 27000 | G38: =G39 -> 0 | H38: =H39 -> 0 | I38: =I39 -> 0
B39: 32369 | D39: Zdravstvene i veterinarske usluge | E39: ='Rekapitulacija Posebni dio'!C411+'Rekapitulacija Posebni dio'!C439 -> 1399.02 | F39: ='Rekapitulacija Posebni dio'!D411+'Rekapitulacija Posebni dio'!D439 -> 27000 | G39: ='Rekapitulacija Posebni dio'!E411+'Rekapitulacija Posebni dio'!E439 -> 0 | H39: ='Rekapitulacija Posebni dio'!F411+'Rekapitulacija Posebni dio'!F439 -> 0 | I39: ='Rekapitulacija Posebni dio'!G411+'Rekapitulacija Posebni dio'!G439 -> 0
B40: 3237 | D40: Intelektualne usluge | E40: =E41 -> 1250 | F40: =F41 -> 0 | G40: =G41 -> 0 | H40: =H41 -> 0 | I40: =I41 -> 0
B41: 32379 | D41: Ostale intelektualne usluge | E41: ='Rekapitulacija Posebni dio'!C413 -> 1250 | F41: ='Rekapitulacija Posebni dio'!D413 -> 0 | G41: ='Rekapitulacija Posebni dio'!E413 -> 0 | H41: ='Rekapitulacija Posebni dio'!F413 -> 0 | I41: ='Rekapitulacija Posebni dio'!G413 -> 0
B42: 3238 | D42: Računalne usluge | E42: =SUM(E43) -> 42306 | F42: =SUM(F43) -> 40000 | G42: =SUM(G43) -> 40000 | H42: =SUM(H43) -> 40000 | I42: =SUM(I43) -> 40000
B43: 32389 | D43: Ostale računalne usluge | E43: ='Rekapitulacija Posebni dio'!C473 -> 42306 | F43: ='Rekapitulacija Posebni dio'!D473 -> 40000 | G43: ='Rekapitulacija Posebni dio'!E473 -> 40000 | H43: ='Rekapitulacija Posebni dio'!F473 -> 40000 | I43: ='Rekapitulacija Posebni dio'!G473 -> 40000
B44: 3239 | D44: Ostale usluge | E44: =E45+E46 -> 307.88 | F44: =F45+F46 -> 0 | G44: =G45+G46 -> 0 | H44: =H45+H46 -> 0 | I44: =I45+I46 -> 0
B45: 32394 | D45: Usluge pri registraciji prijevoznih sredstava | E45: ='Rekapitulacija Posebni dio'!C415 -> 237.88 | F45: ='Rekapitulacija Posebni dio'!D415 -> 0 | G45: ='Rekapitulacija Posebni dio'!E415 -> 0 | H45: ='Rekapitulacija Posebni dio'!F415 -> 0 | I45: ='Rekapitulacija Posebni dio'!G415 -> 0
B46: 32399 | D46: Ostale nespomenute usluge | E46: ='Rekapitulacija Posebni dio'!C416 -> 70 | F46: ='Rekapitulacija Posebni dio'!D416 -> 0 | G46: ='Rekapitulacija Posebni dio'!E416 -> 0 | H46: ='Rekapitulacija Posebni dio'!F416 -> 0 | I46: ='Rekapitulacija Posebni dio'!G416 -> 0
B47: 325 | D47: Rashodi za usluge | E47: =E48 -> 0 | F47: =F48 -> 176000 | G47: =G48 -> 0 | H47: =H48 -> 0 | I47: =I48 -> 0
B48: 3251 | D48: Ostale usluge | E48: =E49+E50 -> 0 | F48: =F49+F50 -> 176000 | G48: =G49+G50 -> 0 | H48: =H49+H50 -> 0 | I48: =I49+I50 -> 0
B49: 32511 | D49: Rashodi po osnovi utroška lijekova | E49: ='Rekapitulacija Posebni dio'!C419+'Rekapitulacija Posebni dio'!C442 -> 0 | F49: ='Rekapitulacija Posebni dio'!D419+'Rekapitulacija Posebni dio'!D442 -> 24000 | G49: ='Rekapitulacija Posebni dio'!E419+'Rekapitulacija Posebni dio'!E442 -> 0 | H49: ='Rekapitulacija Posebni dio'!F419+'Rekapitulacija Posebni dio'!F442 -> 0 | I49: ='Rekapitulacija Posebni dio'!G419+'Rekapitulacija Posebni dio'!G442 -> 0
B50: 32513 | D50: Rashodi po osnovi utroška potrošnog medicinskog materijala | E50: ='Rekapitulacija Posebni dio'!C420+'Rekapitulacija Posebni dio'!C433+'Rekapitulacija Posebni dio'!C443 -> 0 | F50: ='Rekapitulacija Posebni dio'!D420+'Rekapitulacija Posebni dio'!D433+'Rekapitulacija Posebni dio'!D443 -> 152000 | G50: ='Rekapitulacija Posebni dio'!E420+'Rekapitulacija Posebni dio'!E433+'Rekapitulacija Posebni dio'!E443 -> 0 | H50: ='Rekapitulacija Posebni dio'!F420+'Rekapitulacija Posebni dio'!F433+'Rekapitulacija Posebni dio'!F443 -> 0 | I50: ='Rekapitulacija Posebni dio'!G420+'Rekapitulacija Posebni dio'!G433+'Rekapitulacija Posebni dio'!G443 -> 0
B51: 329 | D51: Ostali nespomenuti rashodi poslovanja | E51: =E52+E54+E56 -> 1317.9 | F51: =F52+F54+F56 -> 0 | G51: =G52+G54+G56 -> 0 | H51: =H52+H54+H56 -> 0 | I51: =I52+I54+I56 -> 0
B52: 3292 | D52: Premija osiguranja | E52: =E53 -> 250.01 | F52: =F53 -> 0 | G52: =G53 -> 0 | H52: =H53 -> 0 | I52: =I53 -> 0
B53: 32923 | D53: Premije osiguranja zaposlenih | E53: ='Rekapitulacija Posebni dio'!C423 -> 250.01 | F53: ='Rekapitulacija Posebni dio'!D423 -> 0 | G53: ='Rekapitulacija Posebni dio'!E423 -> 0 | H53: ='Rekapitulacija Posebni dio'!F423 -> 0 | I53: ='Rekapitulacija Posebni dio'!G423 -> 0
B54: 3293 | D54: Reprezentacija | E54: =E55 -> 877.58 | F54: =F55 -> 0 | G54: =G55 -> 0 | H54: =H55 -> 0 | I54: =I55 -> 0
B55: 32931 | D55: Reprezentacija | E55: ='Rekapitulacija Posebni dio'!C425 -> 877.58 | F55: ='Rekapitulacija Posebni dio'!D425 -> 0 | G55: ='Rekapitulacija Posebni dio'!E425 -> 0 | H55: ='Rekapitulacija Posebni dio'!F425 -> 0 | I55: ='Rekapitulacija Posebni dio'!G425 -> 0
B56: 3299 | D56: Ostali nespomenuti rashodi poslovanja | E56: =E57 -> 190.31 | F56: =F57 -> 0 | G56: =G57 -> 0 | H56: =H57 -> 0 | I56: =I57 -> 0
B57: 32999 | D57: Ostali nespomenuti rashodi poslovanja | E57: ='Rekapitulacija Posebni dio'!C427 -> 190.31 | F57: ='Rekapitulacija Posebni dio'!D427 -> 0 | G57: ='Rekapitulacija Posebni dio'!E427 -> 0 | H57: ='Rekapitulacija Posebni dio'!F427 -> 0 | I57: ='Rekapitulacija Posebni dio'!G427 -> 0
A58: 4 | D58: Rashodi za nabavu nefinancijske imovine | E58: =E59+E70 -> 255509.51 | F58: =F59+F70 -> 209000 | G58: =G59+G70 -> 265276 | H58: =H59+H70 -> 265276 | I58: =I59+I70 -> 265276
B59: 42 | D59: Rashodi za nabavu proizvedene dug. imovine | E59: =SUM(E60) -> 108623.04 | F59: =SUM(F60) -> 178000 | G59: =SUM(G60) -> 180994.84 | H59: =SUM(H60) -> 180994.84 | I59: =SUM(I60) -> 180994.84
B60: 422 | D60: Postrojenja i oprema | E60: =E61+E64+E66+E68 -> 108623.04 | F60: =F61+F64+F66+F68 -> 178000 | G60: =G61+G64+G66+G68 -> 180994.84 | H60: =H61+H64+H66+H68 -> 180994.84 | I60: =I61+I64+I66+I68 -> 180994.84
B61: 4221 | D61: Uredska oprema i namještaj | E61: =SUM(E62:E63) -> 950.63 | F61: =SUM(F62:F63) -> 6000 | G61: =SUM(G62:G63) -> 315 | H61: =SUM(H62:H63) -> 315 | I61: =SUM(I62:I63) -> 315
B62: 42211 | D62: Računala i računalna oprema | E62: ='Rekapitulacija Posebni dio'!C478 -> 370.63 | F62: ='Rekapitulacija Posebni dio'!D478 -> 5000 | G62: ='Rekapitulacija Posebni dio'!E478 -> 0 | H62: ='Rekapitulacija Posebni dio'!F478 -> 0 | I62: ='Rekapitulacija Posebni dio'!G478 -> 0
B63: 42212 | D63: Uredski namještaj | E63: ='Rekapitulacija Posebni dio'!C479 -> 580 | F63: ='Rekapitulacija Posebni dio'!D479 -> 1000 | G63: ='Rekapitulacija Posebni dio'!E479 -> 315 | H63: ='Rekapitulacija Posebni dio'!F479 -> 315 | I63: ='Rekapitulacija Posebni dio'!G479 -> 315
B64: 4223 | D64: Oprema za održavanje iz zaštitu | E64: =E65 -> 3832.41 | F64: =F65 -> 3000 | G64: =G65 -> 2816.73 | H64: =H65 -> 2816.73 | I64: =I65 -> 2816.73
B65: 42231 | D65: Oprema za grijanje, ventilaciju i hlađenje | E65: ='Rekapitulacija Posebni dio'!C481 -> 3832.41 | F65: ='Rekapitulacija Posebni dio'!D481 -> 3000 | G65: ='Rekapitulacija Posebni dio'!E481 -> 2816.73 | H65: ='Rekapitulacija Posebni dio'!F481 -> 2816.73 | I65: ='Rekapitulacija Posebni dio'!G481 -> 2816.73
B66: 4224 | D66: Medicinska i laboratorijska oprema | E66: =SUM(E67) -> 59927.5 | F66: =SUM(F67) -> 134000 | G66: =SUM(G67) -> 146018.11 | H66: =SUM(H67) -> 146018.11 | I66: =SUM(I67) -> 146018.11
B67: 42241 | D67: Medicinska oprema | E67: ='Rekapitulacija Posebni dio'!C483 -> 59927.5 | F67: ='Rekapitulacija Posebni dio'!D483 -> 134000 | G67: ='Rekapitulacija Posebni dio'!E483 -> 146018.11 | H67: ='Rekapitulacija Posebni dio'!F483 -> 146018.11 | I67: ='Rekapitulacija Posebni dio'!G483 -> 146018.11
B68: 4225 | D68: Instrumenti, uređaji i strojevi | E68: =SUM(E69) -> 43912.5 | F68: =SUM(F69) -> 35000 | G68: =SUM(G69) -> 31845 | H68: =SUM(H69) -> 31845 | I68: =SUM(I69) -> 31845
B69: 42259 | D69: Ostali instrumenti i uređaji | E69: ='Rekapitulacija Posebni dio'!C485 -> 43912.5 | F69: ='Rekapitulacija Posebni dio'!D485 -> 35000 | G69: ='Rekapitulacija Posebni dio'!E485 -> 31845 | H69: ='Rekapitulacija Posebni dio'!F485 -> 31845 | I69: ='Rekapitulacija Posebni dio'!G485 -> 31845
B70: 45 | D70: Dodatna ulaganja na građevinskim objektima | E70: =E71 -> 146886.47 | F70: =F71 -> 31000 | G70: =G71 -> 84281.16 | H70: =H71 -> 84281.16 | I70: =I71 -> 84281.16
B71: 451 | D71: Građevinski objekti | E71: =SUM(E72) -> 146886.47 | F71: =SUM(F72) -> 31000 | G71: =SUM(G72) -> 84281.16 | H71: =SUM(H72) -> 84281.16 | I71: =SUM(I72) -> 84281.16
B72: 4511 | D72: Dodatna ulaganja na građevinskim objektima | E72: =SUM(E73) -> 146886.47 | F72: =SUM(F73) -> 31000 | G72: =SUM(G73) -> 84281.16 | H72: =SUM(H73) -> 84281.16 | I72: =SUM(I73) -> 84281.16
B73: 45111 | D73: Dodatna ulaganja na građevinskim objektima | E73: ='Rekapitulacija Posebni dio'!C489 -> 146886.47 | F73: ='Rekapitulacija Posebni dio'!D489 -> 31000 | G73: ='Rekapitulacija Posebni dio'!E489 -> 84281.16 | H73: ='Rekapitulacija Posebni dio'!F489 -> 84281.16 | I73: ='Rekapitulacija Posebni dio'!G489 -> 84281.16
C74: 11 | D74: Opći prihodi i primici | E74: =E11+E58 -> 397160.43 | F74: =F11+F58 -> 561264.02 | G74: =G11+G58 -> 358264.02 | H74: =H11+H58 -> 358264.02 | I74: =I11+I58 -> 358264.02
A75: 3 | D75: Rashodi poslovanja | E75: =E76+E90+E144+E150+E153 -> 140194.37 | F75: =F76+F90+F144+F150+F153 -> 163116.33 | G75: =G76+G90+G144+G150+G153 -> 163116.33 | H75: =H76+H90+H144+H150+H153 -> 163116.33 | I75: =I76+I90+I144+I150+I153 -> 163116.33
B76: 31 | D76: Rashodi za zaposlene | E76: =E77+E84+E87 -> 62630.28 | F76: =F77+F84+F87 -> 67928.2 | G76: =G77+G84+G87 -> 67928.2 | H76: =H77+H84+H87 -> 67928.2 | I76: =I77+I84+I87 -> 67928.2
B77: 311 | D77: Plaće | E77: =E78+E82 -> 52423.52 | F77: =F78+F82 -> 56139.76 | G77: =G78+G82 -> 56139.76 | H77: =H78+H82 -> 56139.76 | I77: =I78+I82 -> 56139.76
B78: 3111 | D78: Plaće za redovan rad | E78: =SUM(E79) -> 52423.52 | F78: =SUM(F79) -> 56139.76 | G78: =SUM(G79) -> 56139.76 | H78: =SUM(H79) -> 56139.76 | I78: =SUM(I79) -> 56139.76
B79: 31111 | D79: Plaće za redovan rad | E79: ='Rekapitulacija Posebni dio'!C199 -> 52423.52 | F79: ='Rekapitulacija Posebni dio'!D199 -> 56139.76 | G79: ='Rekapitulacija Posebni dio'!E199 -> 56139.76 | H79: ='Rekapitulacija Posebni dio'!F199 -> 56139.76 | I79: ='Rekapitulacija Posebni dio'!G199 -> 56139.76
B80: 3112 | D80: Plaće u naravi
B81: 3113 | D81: Plaće za prekovremeni rad
B82: 3114 | D82: Plaća za posebne uvjete rada | E82: =SUM(E83) -> 0 | F82: =SUM(F83) -> 0 | G82: =SUM(G83) -> 0 | H82: =SUM(H83) -> 0 | I82: =SUM(I83) -> 0
B83: 31141 | D83: Plaća za posebne uvjete rada | E83: ='Rekapitulacija Posebni dio'!C203 -> 0 | F83: ='Rekapitulacija Posebni dio'!D203 -> 0 | G83: ='Rekapitulacija Posebni dio'!E203 -> 0 | H83: ='Rekapitulacija Posebni dio'!F203 -> 0 | I83: ='Rekapitulacija Posebni dio'!G203 -> 0
B84: 312 | D84: Ostali rashodi za zaposlene | E84: =SUM(E85) -> 2400 | F84: =SUM(F85) -> 3981.68 | G84: =SUM(G85) -> 3981.68 | H84: =SUM(H85) -> 3981.68 | I84: =SUM(I85) -> 3981.68
B85: 3121 | D85: Ostali rashodi za zaposlene | E85: =SUM(E86) -> 2400 | F85: =SUM(F86) -> 3981.68 | G85: =SUM(G86) -> 3981.68 | H85: =SUM(H86) -> 3981.68 | I85: =SUM(I86) -> 3981.68
B86: 31219 | D86: Ostali nenavedeni rashodi za zaposlene | E86: ='Rekapitulacija Posebni dio'!C206 -> 2400 | F86: ='Rekapitulacija Posebni dio'!D206 -> 3981.68 | G86: ='Rekapitulacija Posebni dio'!E206 -> 3981.68 | H86: ='Rekapitulacija Posebni dio'!F206 -> 3981.68 | I86: ='Rekapitulacija Posebni dio'!G206 -> 3981.68
B87: 313 | D87: Doprinosi na plaće | E87: =SUM(E88) -> 7806.76 | F87: =SUM(F88) -> 7806.76 | G87: =SUM(G88) -> 7806.76 | H87: =SUM(H88) -> 7806.76 | I87: =SUM(I88) -> 7806.76
B88: 3132 | D88: Doprinosi za obvezno zdravstveno osiguranje | E88: =SUM(E89) -> 7806.76 | F88: =SUM(F89) -> 7806.76 | G88: =SUM(G89) -> 7806.76 | H88: =SUM(H89) -> 7806.76 | I88: =SUM(I89) -> 7806.76
B89: 31321 | D89: Doprinosi za obvezno zdravstveno osiguranje | E89: ='Rekapitulacija Posebni dio'!C209 -> 7806.76 | F89: ='Rekapitulacija Posebni dio'!D209 -> 7806.76 | G89: ='Rekapitulacija Posebni dio'!E209 -> 7806.76 | H89: ='Rekapitulacija Posebni dio'!F209 -> 7806.76 | I89: ='Rekapitulacija Posebni dio'!G209 -> 7806.76
B90: 32 | D90: Materijalni rashodi | E90: =E91+E99+E114+E130+E134 -> 77564.09 | F90: =F91+F99+F114+F130+F134 -> 95188.13 | G90: =G91+G99+G114+G130+G134 -> 95188.13 | H90: =H91+H99+H114+H130+H134 -> 95188.13 | I90: =I91+I99+I114+I130+I134 -> 95188.13
B91: 321 | D91: Naknade troškova zaposlenima | E91: =E92+E94+E96+E98 -> 12311.04 | F91: =F92+F94+F96+F98 -> 14599.5 | G91: =G92+G94+G96+G98 -> 14599.5 | H91: =H92+H94+H96+H98 -> 14599.5 | I91: =I92+I94+I96+I98 -> 14599.5
B92: 3211 | D92: Službena putovanja | E92: =SUM(E93) -> 463.61 | F92: =SUM(F93) -> 663.61 | G92: =SUM(G93) -> 663.61 | H92: =SUM(H93) -> 663.61 | I92: =SUM(I93) -> 663.61
B93: 32115 | D93: Naknade za prijevoz na službenom putu u zemlji | E93: ='Rekapitulacija Posebni dio'!C213 -> 463.61 | F93: ='Rekapitulacija Posebni dio'!D213 -> 663.61 | G93: ='Rekapitulacija Posebni dio'!E213 -> 663.61 | H93: ='Rekapitulacija Posebni dio'!F213 -> 663.61 | I93: ='Rekapitulacija Posebni dio'!G213 -> 663.61
B94: 3212 | D94: Naknade za prijevoz, za rad na terenu i odvojeni život | E94: =SUM(E95) -> 11383.82 | F94: =SUM(F95) -> 13272.28 | G94: =SUM(G95) -> 13272.28 | H94: =SUM(H95) -> 13272.28 | I94: =SUM(I95) -> 13272.28
B95: 32121 | D95: Naknade za prijevoz | E95: ='Rekapitulacija Posebni dio'!C215 -> 11383.82 | F95: ='Rekapitulacija Posebni dio'!D215 -> 13272.28 | G95: ='Rekapitulacija Posebni dio'!E215 -> 13272.28 | H95: ='Rekapitulacija Posebni dio'!F215 -> 13272.28 | I95: ='Rekapitulacija Posebni dio'!G215 -> 13272.28
B96: 3213 | D96: Stručno usavršavanje zaposlenih | E96: =SUM(E97) -> 463.61 | F96: =SUM(F97) -> 663.61 | G96: =SUM(G97) -> 663.61 | H96: =SUM(H97) -> 663.61 | I96: =SUM(I97) -> 663.61
B97: 32132 | D97: Tečajevi i stručni ispiti | E97: ='Rekapitulacija Posebni dio'!C217 -> 463.61 | F97: ='Rekapitulacija Posebni dio'!D217 -> 663.61 | G97: ='Rekapitulacija Posebni dio'!E217 -> 663.61 | H97: ='Rekapitulacija Posebni dio'!F217 -> 663.61 | I97: ='Rekapitulacija Posebni dio'!G217 -> 663.61
B98: 3214 | D98: Ostale naknade troškova zaposlenima
B99: 322 | D99: Rashodi za materijal i energiju | E99: =E100+E102+E105+E108+E110+E112 -> 49398.76 | F99: =F100+F102+F105+F108+F110+F112 -> 19444.55 | G99: =G100+G102+G105+G108+G110+G112 -> 19444.55 | H99: =H100+H102+H105+H108+H110+H112 -> 19444.55 | I99: =I100+I102+I105+I108+I110+I112 -> 19444.55
B100: 3221 | D100: Uredski materijal i ostali materijalni rashodi | E100: =SUM(E101) -> 639.19 | F100: =SUM(F101) -> 639.19 | G100: =SUM(G101) -> 639.19 | H100: =SUM(H101) -> 639.19 | I100: =SUM(I101) -> 639.19
B101: 32211 | D101: Uredski materijal | E101: ='Rekapitulacija Posebni dio'!C221 -> 639.19 | F101: ='Rekapitulacija Posebni dio'!D221 -> 639.19 | G101: ='Rekapitulacija Posebni dio'!E221 -> 639.19 | H101: ='Rekapitulacija Posebni dio'!F221 -> 639.19 | I101: ='Rekapitulacija Posebni dio'!G221 -> 639.19
...

Sheet Prih.i rash.
A3: PRIHODI I RASHODI PREMA IZVORIMA FINANCIRANJA
A5: BROJČANA OZNAKA I NAZIV | B5: IZVRŠENJE 2024. | C5: TEKUĆI PLAN ZA 2025. | D5: PLAN ZA 2026. | E5: PROJEKCIJA ZA 2027. | F5: PROJEKCIJA ZA 2028.
A6: UKUPNO PRIHODI | B6: =B7+B9+B11+B15+B17+B19 -> 5100997.3 | C6: =C7+C9+C11+C15+C17+C19 -> 5178957.9 | D6: =D7+D9+D11+D15+D17+D19 -> 5420091.1 | E6: =E7+E9+E11+E15+E17+E19 -> 5902923.2 | F6: =F7+F9+F11+F15+F17+F19 -> 6174587.6
A7: 1 Opći prihodi i primici | B7: =B8 -> 397160.43 | C7: =C8 -> 561264.02 | D7: =D8 -> 358264.02 | E7: =E8 -> 358264.02 | F7: =F8 -> 358264.02
A8: 11 Opći prihodi i primici | B8: ='Prihodi po ek klas i izvorima'!E15 -> 397160.43 | C8: ='Prihodi po ek klas i izvorima'!F15 -> 561264.02 | D8: ='Prihodi po ek klas i izvorima'!G15 -> 358264.02 | E8: ='Prihodi po ek klas i izvorima'!H15 -> 358264.02 | F8: ='Prihodi po ek klas i izvorima'!I15 -> 358264.02
A9: 2 Vlastiti prihodi | B9: =B10 -> 140194.37 | C9: =C10 -> 199283.29 | D9: =D10 -> 163316.33 | E9: =E10 -> 163316.33 | F9: =F10 -> 163316.33
A10: 31 Vlastiti prihodi | B10: ='Prihodi po ek klas i izvorima'!E33 -> 140194.37 | C10: ='Prihodi po ek klas i izvorima'!F33 -> 199283.29 | D10: ='Prihodi po ek klas i izvorima'!G33 -> 163316.33 | E10: ='Prihodi po ek klas i izvorima'!H33 -> 163316.33 | F10: ='Prihodi po ek klas i izvorima'!I33 -> 163316.33
A11: 3 Prihodi za posebne namjene | B11: =SUM(B12:B14) -> 4219254.6 | C11: =SUM(C12:C14) -> 3949596.7 | D11: =SUM(D12:D14) -> 4660586.9 | E11: =SUM(E12:E14) -> 5202643.3 | F11: =SUM(F12:F14) -> 5473818.8
A12: 43 Prihodi za posebne namjene (HZZO) | B12: ='Prihodi po ek klas i izvorima'!E42 -> 4148754.7 | C12: ='Prihodi po ek klas i izvorima'!F42 -> 3899096.7 | D12: ='Prihodi po ek klas i izvorima'!G42 -> 4599086.9 | E12: ='Prihodi po ek klas i izvorima'!H42 -> 5137268.3 | F12: ='Prihodi po ek klas i izvorima'!I42 -> 5405449.8
A13: 43 Prihodi za posebne namjene (dopunsko osiguranje, participacija,…) | B13: ='Prihodi po ek klas i izvorima'!E37 -> 69787.18 | C13: ='Prihodi po ek klas i izvorima'!F37 -> 47500 | D13: ='Prihodi po ek klas i izvorima'!G37 -> 58500 | E13: ='Prihodi po ek klas i izvorima'!H37 -> 62375 | F13: ='Prihodi po ek klas i izvorima'!I37 -> 65369
A14: 43 Ostali prihodi | B14: ='Prihodi po ek klas i izvorima'!E49 -> 712.71 | C14: ='Prihodi po ek klas i izvorima'!F49 -> 3000 | D14: ='Prihodi po ek klas i izvorima'!G49 -> 3000 | E14: ='Prihodi po ek klas i izvorima'!H49 -> 3000 | F14: ='Prihodi po ek klas i izvorima'!I49 -> 3000
A15: 4 Pomoći | B15: =B16 -> 331632.4 | C15: =C16 -> 412013.95 | D15: =D16 -> 231423.83 | E15: =E16 -> 171724.49 | F15: =F16 -> 171724.49
A16: 52 Ostale pomoći | B16: ='Prihodi po ek klas i izvorima'!E54 -> 331632.4 | C16: ='Prihodi po ek klas i izvorima'!F54 -> 412013.95 | D16: ='Prihodi po ek klas i izvorima'!G54 -> 231423.83 | E16: ='Prihodi po ek klas i izvorima'!H54 -> 171724.49 | F16: ='Prihodi po ek klas i izvorima'!I54 -> 171724.49
A17: 5 Donacije | B17: =B18 -> 3957.25 | C17: =C18 -> 50500 | D17: =D18 -> 1000 | E17: =E18 -> 1200 | F17: =F18 -> 1400
A18: 61 Donacije | B18: ='Prihodi po ek klas i izvorima'!E79 -> 3957.25 | C18: ='Prihodi po ek klas i izvorima'!F79 -> 50500 | D18: ='Prihodi po ek klas i izvorima'!G79 -> 1000 | E18: ='Prihodi po ek klas i izvorima'!H79 -> 1200 | F18: ='Prihodi po ek klas i izvorima'!I79 -> 1400
A19: 6 Prihodi od nefinancijske imovine i naknade štete s naslova osiguranja | B19: =B20 -> 8798.23 | C19: =C20 -> 6300 | D19: =D20 -> 5500 | E19: =E20 -> 5775 | F19: =F20 -> 6064
A20: 71 Prihodi od nefinancijske imovine i naknade štete s naslova osiguranja | B20: ='Prihodi po ek klas i izvorima'!E84+'Prihodi po ek klas i izvorima'!E92 -> 8798.23 | C20: ='Prihodi po ek klas i izvorima'!F84+'Prihodi po ek klas i izvorima'!F92 -> 6300 | D20: ='Prihodi po ek klas i izvorima'!G84+'Prihodi po ek klas i izvorima'!G92 -> 5500 | E20: ='Prihodi po ek klas i izvorima'!H84+'Prihodi po ek klas i izvorima'!H92 -> 5775 | F20: ='Prihodi po ek klas i izvorima'!I84+'Prihodi po ek klas i izvorima'!I92 -> 6064
A23: UKUPNO RASHODI | B23: =B24+B26+B28+B30+B32+B34 -> 5931700.2 | C23: =C24+C26+C28+C30+C32+C34 -> 4614031.8 | D23: =D24+D26+D28+D30+D32+D34 -> 5674498.2 | E23: =E24+E26+E28+E30+E32+E34 -> 5750359.6 | F23: =F24+F26+F28+F30+F32+F34 -> 5794611.3
A24: 1 Opći prihodi i primici | B24: =B25 -> 397160.43 | C24: =C25 -> 561264.02 | D24: =D25 -> 358264.02 | E24: =E25 -> 358264.02 | F24: =F25 -> 358264.02
A25: 11 Opći prihodi i primici | B25: =' PRIHODI I RASHODI-izvori'!E74 -> 397160.43 | C25: =' PRIHODI I RASHODI-izvori'!F74 -> 561264.02 | D25: =' PRIHODI I RASHODI-izvori'!G74 -> 358264.02 | E25: =' PRIHODI I RASHODI-izvori'!H74 -> 358264.02 | F25: =' PRIHODI I RASHODI-izvori'!I74 -> 358264.02
A26: 2 Vlastiti prihodi | B26: =B27 -> 140194.37 | C26: =C27 -> 163116.33 | D26: =D27 -> 163116.33 | E26: =E27 -> 163116.33 | F26: =F27 -> 163116.33
A27: 31 Vlastiti prihodi | B27: =' PRIHODI I RASHODI-izvori'!E180 -> 140194.37 | C27: =' PRIHODI I RASHODI-izvori'!F180 -> 163116.33 | D27: =' PRIHODI I RASHODI-izvori'!G180 -> 163116.33 | E27: =' PRIHODI I RASHODI-izvori'!H180 -> 163116.33 | F27: =' PRIHODI I RASHODI-izvori'!I180 -> 163116.33
A28: 3 Prihodi za posebne namjene | B28: =B29 -> 4777402.3 | C28: =C29 -> 3705637.5 | D28: =D29 -> 4915694 | E28: =E29 -> 5005105.4 | F28: =F29 -> 5094606.5
A29: 43 Prihodi za posebne namjene | B29: =' PRIHODI I RASHODI-izvori'!E366 -> 4777402.3 | C29: =' PRIHODI I RASHODI-izvori'!F366 -> 3705637.5 | D29: =' PRIHODI I RASHODI-izvori'!G366 -> 4915694 | E29: =' PRIHODI I RASHODI-izvori'!H366 -> 5005105.4 | F29: =' PRIHODI I RASHODI-izvori'!I366 -> 5094606.5
A30: 4 Pomoći | B30: =B31 -> 604187.62 | C30: =C31 -> 128013.95 | D30: =D31 -> 230923.83 | E30: =E31 -> 216923.83 | F30: =F31 -> 171224.49
A31: 52 Ostale pomoći | B31: =' PRIHODI I RASHODI-izvori'!E422 -> 604187.62 | C31: =' PRIHODI I RASHODI-izvori'!F422 -> 128013.95 | D31: =' PRIHODI I RASHODI-izvori'!G422 -> 230923.83 | E31: =' PRIHODI I RASHODI-izvori'!H422 -> 216923.83 | F31: =' PRIHODI I RASHODI-izvori'!I422 -> 171224.49
A32: 5 Donacije | B32: =B33 -> 3957.25 | C32: =C33 -> 50500 | D32: =D33 -> 1000 | E32: =E33 -> 1200 | F32: =F33 -> 1400
A33: 61 Donacije | B33: =' PRIHODI I RASHODI-izvori'!E473 -> 3957.25 | C33: =' PRIHODI I RASHODI-izvori'!F473 -> 50500 | D33: =' PRIHODI I RASHODI-izvori'!G473 -> 1000 | E33: =' PRIHODI I RASHODI-izvori'!H473 -> 1200 | F33: =' PRIHODI I RASHODI-izvori'!I473 -> 1400
A34: 6 Prihodi od nefinancijske imovine i naknade štete s naslova osiguranja | B34: =B35 -> 8798.23 | C34: =C35 -> 5500 | D34: =D35 -> 5500 | E34: =E35 -> 5750 | F34: =F35 -> 6000
A35: 71 Prihodi od nefinancijske imovine i naknade štete s naslova osiguranja | B35: =' PRIHODI I RASHODI-izvori'!E492 -> 8798.23 | C35: =' PRIHODI I RASHODI-izvori'!F492 -> 5500 | D35: =' PRIHODI I RASHODI-izvori'!G492 -> 5500 | E35: =' PRIHODI I RASHODI-izvori'!H492 -> 5750 | F35: =' PRIHODI I RASHODI-izvori'!I492 -> 6000

Sheet RASHODI-funkcijska
A2: I. OPĆI DIO
A4: A. RAČUN PRIHODA I RASHODA
A6: IZVJEŠTAJ O RASHODIMA PREMA FUNKCIJSKOJ KLASIFIKACIJI
A8: BROJČANA OZNAKA I NAZIV | B8: IZVRŠENJE 2024. | C8: TEKUĆI PLAN ZA 2025. | D8: PLAN ZA 2026. | E8: PROJEKCIJA ZA 2027. | F8: PROJEKCIJA ZA 2028.
A9: 1 | B9: 2 | C9: 3 | D9: 4 | E9: 5 | F9: 6
A10: UKUPNO RASHODI | B10: ='RASHODI-ek.kl.'!D245 -> 5931700.2 | C10: ='RASHODI-ek.kl.'!E245 -> 4614031.8 | D10: ='RASHODI-ek.kl.'!F245 -> 5674498.2 | E10: ='RASHODI-ek.kl.'!G245 -> 5750359.6 | F10: ='RASHODI-ek.kl.'!H245 -> 5794611.3
A11: 07 Zdravstvo | B11: =B12 -> 5931700.2 | C11: =C12 -> 4614031.8 | D11: =D12 -> 5674498.2 | E11: =E12 -> 5750359.6 | F11: =F12 -> 5794611.3
A12: 072 Služba za vanjske pacijente | B12: =B13+B14+B15 -> 5931700.2 | C12: =C13+C14+C15 -> 4614031.8 | D12: =D13+D14+D15 -> 5674498.2 | E12: =E13+E14+E15 -> 5750359.6 | F12: =F13+F14+F15 -> 5794611.3
A13: 0721 Opće medicinske usluge | B13: =ROUND(B10*0.6,2) -> 3559020.1 | C13: =ROUND(C10*0.6,2) -> 2768419.1 | D13: =ROUND(D10*0.6,2) -> 3404698.9 | E13: =ROUND(E10*0.6,2) -> 3450215.8 | F13: =ROUND(F10*0.6,2) -> 3476766.8
A14: 0722 Specijalističke med. usluge | B14: =ROUND(B10*0.15,2) -> 889755.03 | C14: =ROUND(C10*0.15,2) -> 692104.77 | D14: =ROUND(D10*0.15,2) -> 851174.73 | E14: =ROUND(E10*0.15,2) -> 862553.94 | F14: =ROUND(F10*0.15,2) -> 869191.7
A15: 0723 Zubarske usluge | B15: =ROUND(B10*0.25,2) -> 1482925 | C15: =ROUND(C10*0.25,2) -> 1153507.9 | D15: =ROUND(D10*0.25,2) -> 1418624.6 | E15: =ROUND(E10*0.25,2) -> 1437589.9 | F15: =ROUND(F10*0.25,2) -> 1448652.8
A16: 073 Bolničke službe | D16: =D17 -> 0 | E16: =E17 -> 0 | F16: =F17 -> 0
A17: 0731 Usluge općih bolnica
A18: 074 Službe javnog zdravstva | D18: 0 | E18: 0 | F18: 0

Sheet Rekapitulacija Posebni dio
A1: II. POSEBNI DIO
A2: Rashodi i izdaci po izvorima financiranja i ekonomskoj klasifikaciji raspoređenih u programe, aktivnosti i projekte
A4: Šifra | B4: Naziv | C4: IZVRŠENJE 2024. | D4: TEKUĆI PLAN ZA 2025. | E4: PLAN ZA 2026. | F4: PROJEKCIJA ZA 2027. | G4: PROJEKCIJA ZA 2028.
A5: PROGRAM | B5: RAD I RAZVOJ USTANOVE | C5: =C7+C194+C295+C338+C354+C374+C382+C428+C434+C445+C491+C510+C529+C548+C577+C608+C648+C691 -> 5931700.2 | D5: =D7+D194+D295+D338+D354+D374+D382+D428+D434+D445+D491+D510+D529+D548+D577+D608+D648+D691 -> 4614031.8 | E5: =E7+E194+E295+E338+E354+E374+E382+E428+E434+E445+E491+E510+E529+E548+E577+E608+E648+E691 -> 5674498.2 | F5: =F7+F194+F295+F338+F354+F374+F382+F428+F434+F445+F491+F510+F529+F548+F577+F608+F648+F691 -> 5750359.6 | G5: =G7+G194+G295+G338+G354+G374+G382+G428+G434+G445+G491+G510+G529+G548+G577+G608+G648+G691 -> 5794611.3
A6: AKTIVNOST | B6: Redovna djelatnost | C6: =C7+C194+C295+C338+C354+C374+C382+C428+C434 -> 4952099.2 | D6: =D7+D194+D295+D338+D354+D374+D382+D428+D434 -> 4193568.4 | E6: =E7+E194+E295+E338+E354+E374+E382+E428+E434 -> 5153625 | F6: =F7+F194+F295+F338+F354+F374+F382+F428+F434 -> 5243486.4 | G6: =G7+G194+G295+G338+G354+G374+G382+G428+G434 -> 5333437.4
A7: 43 | B7: Ostali prihodi za posebne namjene | C7: =C8+C159 -> 4777402.3 | D7: =D8+D159 -> 3705637.5 | E7: =E8+E159 -> 4915694 | F7: =F8+F159 -> 5005105.4 | G7: =G8+G159 -> 5094606.5
A8: 3 | B8: Rashodi poslovanja | C8: =C9+C32+C128+C140+C143+C148 -> 4756406.2 | D8: =D9+D32+D128+D140+D143+D148 -> 3580125.3 | E8: =E9+E32+E128+E140+E143+E148 -> 4830321.8 | F8: =F9+F32+F128+F140+F143+F148 -> 4916783.1 | G8: =G9+G32+G128+G140+G143+G148 -> 5003334.2
A9: 31 | B9: Rashodi za zaposlene | C9: =C10+C19+C27 -> 4058051.6 | D9: =D10+D19+D27 -> 3002112.3 | E9: =E10+E19+E27 -> 4115156.1 | F9: =F10+F19+F27 -> 4155283.6 | G9: =G10+G19+G27 -> 4195288.8
A10: 311 | B10: Plaće | C10: =C11+C14+C15+C17 -> 3379334.8 | D10: =D11+D14+D15+D17 -> 2505491.4 | E10: =E11+E14+E15+E17 -> 3451867.3 | F10: =F11+F14+F15+F17 -> 3484044.8 | G10: =G11+G14+G15+G17 -> 3516000
A11: 3111 | B11: Plaće za redovan rad | C11: =SUM(C12:C13) -> 3257753.1 | D11: =SUM(D12:D13) -> 2456384 | E11: =SUM(E12:E13) -> 3371867.3 | F11: =SUM(F12:F13) -> 3402044.8 | G11: =SUM(G12:G13) -> 3432000
A12: 31111 | B12: Plaće za redovan rad | C12: 3256037.1 | D12: 2451384 | E12: 3370067.3 | F12: 3400144.8 | G12: 3430000
A13: 31113 | B13: Plaće po sudskim presudama | C13: 1715.99 | D13: 5000 | E13: 1800 | F13: 1900 | G13: 2000
A14: 3112 | B14: Plaće u naravi
A15: 3113 | B15: Plaće za prekovremeni rad | C15: =SUM(C16) -> 79831.87 | D15: =SUM(D16) -> 49107.44 | E15: =SUM(E16) -> 80000 | F15: =SUM(F16) -> 82000 | G15: =SUM(G16) -> 84000
A16: 31131 | B16: Plaće za prekovremeni rad | C16: 79831.87 | D16: 49107.44 | E16: 80000 | F16: 82000 | G16: 84000
A17: 3114 | B17: Plaće za posebne uvjete rada | C17: =SUM(C18) -> 41749.86 | D17: =SUM(D18) -> 0 | E17: =SUM(E18) -> 0 | F17: =SUM(F18) -> 0 | G17: =SUM(G18) -> 0
A18: 31141 | B18: Plaće za posebne uvjete rada | C18: 41749.86 | D18: 0 | E18: 0 | F18: 0 | G18: 0
A19: 312 | B19: Ostali rashodi za zaposlene | C19: =C20 -> 142684.44 | D19: =D20 -> 123214.88 | E19: =E20 -> 126800 | F19: =F20 -> 132750 | G19: =G20 -> 138800
A20: 3121 | B20: Ostali rashodi za zaposlene | C20: =SUM(C21:C26) -> 142684.44 | D20: =SUM(D21:D26) -> 123214.88 | E20: =SUM(E21:E26) -> 126800 | F20: =SUM(F21:F26) -> 132750 | G20: =SUM(G21:G26) -> 138800
A21: 31212 | B21: Ostali rashodi za zaposlene-nagrade | C21: 32979.2 | D21: 13000 | E21: 28000 | F21: 29500 | G21: 31000
A22: 31213 | B22: Darovi | C22: 30736.17 | D22: 25000 | E22: 26000 | F22: 27000 | G22: 28000
A23: 31214 | B23: Otpremnine | C23: 0 | D23: 2000 | E23: 2000 | F23: 2250 | G23: 2500
A24: 31215 | B24: Naknade za bolest, invalidnost i smrt | C24: 4022.98 | D24: 3800 | E24: 3800 | F24: 4000 | G24: 4300
A25: 31216 | B25: Regres za godišnji odmor | C25: 39600 | D25: 40000 | E25: 35000 | F25: 36500 | G25: 38000
A26: 31219 | B26: Ostali nenavedeni rashodi za zaposlene | C26: 35346.09 | D26: =123214.88-D21-D22-D23-D24-D25 -> 39414.88 | E26: 32000 | F26: 33500 | G26: 35000
A27: 313 | B27: Doprinosi na plaće | C27: =C28+C30 -> 536032.32 | D27: =D28+D30 -> 373406 | E27: =E28+E30 -> 536488.84 | F27: =F28+F30 -> 538488.84 | G27: =G28+G30 -> 540488.84
A28: 3132 | B28: Doprinosi za obvezno zdravstveno osiguranje | C28: =SUM(C29) -> 535994.58 | D28: =SUM(D29) -> 373406 | E28: =SUM(E29) -> 536488.84 | F28: =SUM(F29) -> 538488.84 | G28: =SUM(G29) -> 540488.84
A29: 31321 | B29: Doprinosi za obvezno zdravstveno osiguranje | C29: 535994.58 | D29: 373406 | E29: 536488.84 | F29: 538488.84 | G29: 540488.84
A30: 3133 | B30: Doprinosi za zapošljavanje | C30: =C31 -> 37.74 | D30: =D31 -> 0 | E30: =E31 -> 0 | F30: =F31 -> 0 | G30: =G31 -> 0
A31: 31332 | B31: Doprinosi u slučaju nezaposlenosti | C31: 37.74 | D31: 0
A32: 32 | B32: Materijalni rashodi | C32: =C33+C45+C70+C101+C104+C108 -> 682391.78 | D32: =D33+D45+D70+D101+D104+D108 -> 565540.49 | E32: =E33+E45+E70+E101+E104+E108 -> 705690.62 | F32: =F33+F45+F70+F101+F104+F108 -> 751729.52 | G32: =G33+G45+G70+G101+G104+G108 -> 797980.37
A33: 321 | B33: Naknade troškova zaposlenima | C33: =C34+C38+C40+C43 -> 100222.78 | D33: =D34+D38+D40+D43 -> 106441.57 | E33: =E34+E38+E40+E43 -> 82594.29 | F33: =F34+F38+F40+F43 -> 85033.19 | G33: =G34+G38+G40+G43 -> 87584.04
A34: 3211 | B34: Službena putovanja | C34: =SUM(C35:C37) -> 3262.24 | D34: =SUM(D35:D37) -> 18977.24 | E34: =SUM(E35:E37) -> 4000 | F34: =SUM(F35:F37) -> 4250 | G34: =SUM(G35:G37) -> 4500
A35: 32111 | B35: Dnevnice za službeni put u zemlji | C35: 2952.75 | D35: 11800 | E35: 3000 | F35: 3100 | G35: 3200
A36: 32113 | B36: Naknade za smještaj na službenom putu u zemlji | C36: 0 | D36: 700 | E36: 500 | F36: 550 | G36: 600
A37: 32115 | B37: Naknade za prijevoz na službenom putu u zemlji | C37: 309.49 | D37: =18977.24-D35-D36 -> 6477.24 | E37: 500 | F37: 600 | G37: 700
A38: 3212 | B38: Naknade za prijevoz, za rad na terenu i odvojeni život | C38: =SUM(C39) -> 92041.02 | D38: =SUM(D39) -> 82288.14 | E38: =SUM(E39) -> 74716.27 | F38: =SUM(F39) -> 76716.27 | G38: =SUM(G39) -> 78716.27
A39: 32121 | B39: Naknade za prijevoz, za rad na terenu i odvojeni život | C39: 92041.02 | D39: 82288.14 | E39: 74716.27 | F39: 76716.27 | G39: 78716.27
A40: 3213 | B40: Stručno usavršavanje zaposlenih | C40: =SUM(C41:C42) -> 4919.52 | D40: =SUM(D41:D42) -> 4778.02 | E40: =SUM(E41:E42) -> 3678.02 | F40: =SUM(F41:F42) -> 3866.92 | G40: =SUM(G41:G42) -> 4167.77
A41: 32131 | B41: Seminari, savjetovanja i simpoziji | C41: 1080 | D41: 2200 | E41: 1100 | F41: 1200 | G41: 1300
A42: 32132 | B42: Tečajevi i stručni ispiti | C42: 3839.52 | D42: 2578.02 | E42: 2578.02 | F42: 2666.92 | G42: 2867.77
A43: 3214 | B43: Ostale naknade troškova zaposlenima | C43: =SUM(C44) -> 0 | D43: =SUM(D44) -> 398.17 | E43: =SUM(E44) -> 200 | F43: =SUM(F44) -> 200 | G43: =SUM(G44) -> 200
A44: 32141 | B44: Naknada za korištenje privatnog automobila u službene svrhe | C44: 0 | D44: 398.17 | E44: 200 | F44: 200 | G44: 200
A45: 322 | B45: Rashodi za materijal i energiju | C45: =C46+C52+C56+C61+C66+C68 -> 361175.7 | D45: =D46+D52+D56+D61+D66+D68 -> 146061.65 | E45: =E46+E52+E56+E61+E66+E68 -> 107550 | F45: =F46+F52+F56+F61+F66+F68 -> 112850 | G45: =G46+G52+G56+G61+G66+G68 -> 118250
A46: 3221 | B46: Uredski materijal i ostali materijalni rashodi | C46: =SUM(C47:C51) -> 29125.12 | D46: =SUM(D47:D51) -> 29862.63 | E46: =SUM(E47:E51) -> 27800 | F46: =SUM(F47:F51) -> 28950 | G46: =SUM(G47:G51) -> 30100
A47: 32211 | B47: Uredski materijal | C47: 13687.63 | D47: 12000 | E47: 12000 | F47: 12500 | G47: 13000
A48: 32212 | B48: Literatura | C48: 0 | D48: 500 | E48: 300 | F48: 350 | G48: 400
A49: 32214 | B49: Materijal i sredstva za čišćenje i održavanje | C49: 13369.64 | D49: 15000 | E49: 13500 | F49: 14000 | G49: 14500
A50: 32215 | B50: Službena, radna i zaštitna odjeća | C50: 0 | D50: 700 | E50: 500 | F50: 550 | G50: 600
A51: 32219 | B51: Ostali materijal za potrebe redovnog poslovanja | C51: 2067.85 | D51: =29862.63-D47-D48-D49-D50 -> 1662.63 | E51: 1500 | F51: 1550 | G51: 1600
A52: 3222 | B52: Materijal i sirovine | C52: =SUM(C53:C55) -> 214691.74 | D52: =SUM(D53:D55) -> 0 | E52: =SUM(E53:E55) -> 0 | F52: =SUM(F53:F55) -> 0 | G52: =SUM(G53:G55) -> 0
A53: 32221 | B53: Potrošni medicinski materijal | C53: 199443.64 | D53: 0 | E53: 0 | F53: 0 | G53: 0
A54: 32226 | B54: Lijekovi | C54: 15034.88 | D54: 0 | E54: 0 | F54: 0 | G54: 0
A55: 32229 | B55: Ostali materijal i sirovine | C55: 213.22 | D55: 0 | E55: 0 | F55: 0 | G55: 0
A56: 3223 | B56: Energija | C56: =SUM(C57:C60) -> 107818.18 | D56: =SUM(D57:D60) -> 87000 | E56: =SUM(E57:E60) -> 66200 | F56: =SUM(F57:F60) -> 69300 | G56: =SUM(G57:G60) -> 72400
A57: 32231 | B57: Električna energija | C57: 26651.44 | D57: 29000 | E57: 27000 | F57: 27500 | G57: 28000
A58: 32232 | B58: Topla voda | C58: 2531.24 | D58: 2000 | E58: 2200 | F58: 2300 | G58: 2400
A59: 32233 | B59: Plin | C59: 21396.27 | D59: 36000 | E59: 20000 | F59: 22000 | G59: 24000
A60: 32234 | B60: Motorni benzin i dizel gorivo | C60: 57239.23 | D60: 20000 | E60: 17000 | F60: 17500 | G60: 18000
A61: 3224 | B61: Materijal i dijelovi za tekuće i investicijsko održavanje | C61: =SUM(C62:C65) -> 1636.84 | D61: =SUM(D62:D65) -> 13272.28 | E61: =SUM(E62:E65) -> 6050 | F61: =SUM(F62:F65) -> 6600 | G61: =SUM(G62:G65) -> 7250
A62: 32241 | B62: Materijal i dijelovi za tekuće i invest. održavanje građevinskih objekata | C62: 1030.38 | D62: 7200 | E62: 2500 | F62: 2750 | G62: 3000
A63: 32242 | B63: Materijal i dijelovi za tekuće i invest. održavanje postrojenja i opreme | C63: 191.25 | D63: 3000 | E63: 2750 | F63: 2850 | G63: 3050
A64: 32243 | B64: Materijal i dijelovi za tekuće i invest. održavanje transportnih sredstava | C64: 415.21 | D64: 2500 | E64: 500 | F64: 600 | G64: 700
A65: 32244 | B65: Ostali materijal i dijelovi za tekuće i invest. održavanje | C65: 0 | D65: 572.28 | E65: 300 | F65: 400 | G65: 500
A66: 3225 | B66: Sitan inventar i autogume | C66: =SUM(C67) -> 4563.9 | D66: =SUM(D67) -> 6636.14 | E66: =SUM(E67) -> 5000 | F66: =SUM(F67) -> 5250 | G66: =SUM(G67) -> 5500
A67: 32251 | B67: Sitan inventar i autogume | C67: 4563.9 | D67: 6636.14 | E67: 5000 | F67: 5250 | G67: 5500
A68: 3227 | B68: Službena radna i zaštitna odjeća | C68: =SUM(C69) -> 3339.92 | D68: =SUM(D69) -> 9290.6 | E68: =SUM(E69) -> 2500 | F68: =SUM(F69) -> 2750 | G68: =SUM(G69) -> 3000
A69: 32271 | B69: Službena radna i zaštitna odjeća | C69: 3339.92 | D69: 9290.6 | E69: 2500 | F69: 2750 | G69: 3000
A70: 323 | B70: Rashodi za usluge | C70: =C71+C75+C79+C81+C86+C88+C90+C95+C97 -> 186036.66 | D70: =D71+D75+D79+D81+D86+D88+D90+D95+D97 -> 220863.46 | E70: =E71+E75+E79+E81+E86+E88+E90+E95+E97 -> 202846.33 | F70: =F71+F75+F79+F81+F86+F88+F90+F95+F97 -> 211696.33 | G70: =G71+G75+G79+G81+G86+G88+G90+G95+G97 -> 220546.33
A71: 3231 | B71: Usluge telefona i pošte | C71: =SUM(C72:C74) -> 20247.75 | D71: =SUM(D72:D74) -> 23235.65 | E71: =SUM(E72:E74) -> 18950 | F71: =SUM(F72:F74) -> 19550 | G71: =SUM(G72:G74) -> 20150
A72: 32311 | B72: Usluge telefona, telefaksa | C72: 19646.55 | D72: 19500 | E72: 18000 | F72: 18500 | G72: 19000
A73: 32313 | B73: Poštarina | C73: 594.2 | D73: 1735.65 | E73: 600 | F73: 650 | G73: 700
A74: 32319 | B74: Ostale usluge za komunikaciju i prijevoz | C74: 7 | D74: 2000 | E74: 350 | F74: 400 | G74: 450
A75: 3232 | B75: Usluge tekućeg i investicijskog održavanja | C75: =SUM(C76:C78) -> 15181.16 | D75: =SUM(D76:D78) -> 21053.72 | E75: =SUM(E76:E78) -> 13500 | F75: =SUM(F76:F78) -> 15750 | G75: =SUM(G76:G78) -> 18000
A76: 32321 | B76: Usluge tekućeg i investicijskog održavanja građevinskih objekata | C76: 5082.59 | D76: 10500 | E76: 5000 | F76: 6000 | G76: 7000
A77: 32322 | B77: Usluge tekućeg i investicijskog održavanja postrojenja i opreme | C77: 9438.4 | D77: 6500 | E77: 5000 | F77: 6000 | G77: 7000
A78: 32323 | B78: Usluge tekućeg i investicijskog održavanja prijevoznih sredstava | C78: 660.17 | D78: =21053.72-D76-D77 -> 4053.72 | E78: 3500 | F78: 3750 | G78: 4000
A79: 3233 | B79: Usluge promidžbe i informiranja | C79: =SUM(C80) -> 0 | D79: =SUM(D80) -> 663.61 | E79: =SUM(E80) -> 663.61 | F79: =SUM(F80) -> 663.61 | G79: =SUM(G80) -> 663.61
A80: 32339 | B80: Usluge promidžbe i informiranja | C80: 0 | D80: 663.61 | E80: 663.61 | F80: 663.61 | G80: 663.61
A81: 3234 | B81: Komunalne usluge | C81: =SUM(C82:C85) -> 23343.89 | D81: =SUM(D82:D85) -> 19908.42 | E81: =SUM(E82:E85) -> 26500 | F81: =SUM(F82:F85) -> 27300 | G81: =SUM(G82:G85) -> 28100
A82: 32341 | B82: Opskrba vodom | C82: 5937.95 | D82: 7500 | E82: 6000 | F82: 6200 | G82: 6400
A83: 32342 | B83: Iznošenje i odvoz smeća | C83: 15622.79 | D83: 10500 | E83: 18000 | F83: 18500 | G83: 19000
A84: 32343 | B84: Deratizacija i dezinsekcija | C84: 1127.96 | D84: 1500 | E84: 1800 | F84: 1850 | G84: 1900
A85: 32349 | B85: Ostale komunalne usluge | C85: 655.19 | D85: =19908.42-D82-D83-D84 -> 408.42 | E85: 700 | F85: 750 | G85: 800
A86: 3235 | B86: Zakupnine i najamnine | C86: =SUM(C87) -> 0 | D86: =SUM(D87) -> 132.72 | E86: =SUM(E87) -> 132.72 | F86: =SUM(F87) -> 132.72 | G86: =SUM(G87) -> 132.72
A87: 32359 | B87: Zakupnine i najamnine | C87: 0 | D87: 132.72 | E87: 132.72 | F87: 132.72 | G87: 132.72
A88: 3236 | B88: Zdravstvene i veterinarske usluge | C88: =SUM(C89) -> 29827.13 | D88: =SUM(D89) -> 2562.88 | E88: =SUM(E89) -> 32000 | F88: =SUM(F89) -> 33000 | G88: =SUM(G89) -> 34000
A89: 32369 | B89: Zdravstvene i veterinarske usluge | C89: 29827.13 | D89: 2562.88 | E89: 32000 | F89: 33000 | G89: 34000
A90: 3237 | B90: Intelektualne usluge | C90: =SUM(C91:C94) -> 86411.15 | D90: =SUM(D91:D94) -> 110480.46 | E90: =SUM(E91:E94) -> 90500 | F90: =SUM(F91:F94) -> 93350 | G90: =SUM(G91:G94) -> 96200
A91: 32372 | B91: Ugovori o djelu | C91: 62424.14 | D91: 94500 | E91: 70000 | F91: 71000 | G91: 72000
A92: 32373 | B92: Usluge odvjetnika i pravnog savjetovanja | C92: 18195.37 | D92: 12000 | E92: 15000 | F92: 16500 | G92: 18000
A93: 32375 | B93: Geodetsko-katastarske usluge | C93: 1312.5 | E93: 1000 | F93: 1100 | G93: 1200
A94: 32379 | B94: Ostale intelektualne usluge | C94: 4479.14 | D94: =110480.46-D91-D92 -> 3980.46 | E94: 4500 | F94: 4750 | G94: 5000
A95: 3238 | B95: Računalne usluge | C95: =SUM(C96) -> 1750.47 | D95: =SUM(D96) -> 18581.19 | E95: =SUM(E96) -> 3500 | F95: =SUM(F96) -> 4000 | G95: =SUM(G96) -> 4500
A96: 32389 | B96: Ostale računalne usluge | C96: 1750.47 | D96: 18581.19 | E96: 3500 | F96: 4000 | G96: 4500
A97: 3239 | B97: Ostale usluge | C97: =SUM(C98:C100) -> 9275.11 | D97: =SUM(D98:D100) -> 24244.81 | E97: =SUM(E98:E100) -> 17100 | F97: =SUM(F98:F100) -> 17950 | G97: =SUM(G98:G100) -> 18800
A98: 32394 | B98: Usluge pri registraciji prijevoznih sredstava | C98: 2726.44 | D98: 4000 | E98: 3800 | F98: 4100 | G98: 4400
A99: 32395 | B99: Usluge čišćenja, pranja i slično | C99: 5622 | D99: 6500 | E99: 300 | F99: 350 | G99: 400
A100: 32399 | B100: Ostale nespomenute usluge | C100: 926.67 | D100: =24244.81-D98-D99 -> 13744.81 | E100: 13000 | F100: 13500 | G100: 14000
A101: 324 | B101: Naknade troškova osobama izvan radnog odnosa | C101: =SUM(C102) -> 0 | D101: =SUM(D102) -> 398.17 | E101: =SUM(E102) -> 400 | F101: =SUM(F102) -> 400 | G101: =SUM(G102) -> 400
...
