Workbook

Sheet SAŽETAK
B1: FINANCIJSKI PLAN PRORAČUNSKOG KORISNIKA DOMA ZDRAVLJA VUKOVAR ZA 2026. I PROJEKCIJA ZA 2027. I 2028. GODINU
B4: I. OPĆI DIO
F6: A) SAŽETAK RAČUNA PRIHODA I RASHODA
K7: EUR
B8: BROJČANA OZNAKA I NAZIV | G8: IZVRŠENJE 2024. | H8: TEKUĆI PLAN ZA 2025. | I8: PLAN ZA 2026. | J8: PROJEKCIJA ZA 2027. | K8: PROJEKCIJA ZA 2028.
B9: 1 | I9: 3 | J9: 4 | K9: 5
B10: PRIHODI UKUPNO | G10: =G11+G12 -> 5100997.3 | H10: =H11+H12 -> 5178957.9 | I10: =I11+I12 -> 5420091.1 | J10: =J11+J12 -> 5902923.2 | K10: =K11+K12 -> 6174587.6
B11: 6 PRIHODI POSLOVANJA | G11: ='Prihodi po ekonomskoj klas'!D10 -> 5100997.3 | H11: ='Prihodi po ekonomskoj klas'!E10 -> 5178157.9 | I11: ='Prihodi po ekonomskoj klas'!F10 -> 5420091.1 | J11: ='Prihodi po ekonomskoj klas'!G10 -> 5902923.2 | K11: ='Prihodi po ekonomskoj klas'!H10 -> 6174587.6
B12: 7 PRIHODI OD PRODAJE NEFINANCIJSKE IMOVINE | G12: ='Prihodi po ekonomskoj klas'!D68 -> 0 | H12: ='Prihodi po ekonomskoj klas'!E68 -> 800 | I12: ='Prihodi po ekonomskoj klas'!F68 -> 0 | J12: ='Prihodi po ekonomskoj klas'!G68 -> 0 | K12: ='Prihodi po ekonomskoj klas'!H68 -> 0
B13: RASHODI UKUPNO | G13: =G14+G15 -> 5931700.2 | H13: =H14+H15 -> 4614031.8 | I13: =I14+I15 -> 5674498.2 | J13: =J14+J15 -> 5750359.6 | K13: =K14+K15 -> 5794611.3
B14: 3 RASHODI POSLOVANJA | G14: ='RASHODI-ek.kl.'!D57 -> 5084825.9 | H14: ='RASHODI-ek.kl.'!E57 -> 4244329.6 | I14: ='RASHODI-ek.kl.'!F57 -> 5323850 | J14: ='RASHODI-ek.kl.'!G57 -> 5396761.3 | K14: ='RASHODI-ek.kl.'!H57 -> 5438063
B15: 4 RASHODI ZA NABAVU NEFINANCIJSKE IMOVINE | G15: ='RASHODI-ek.kl.'!D209 -> 846874.29 | H15: ='RASHODI-ek.kl.'!E209 -> 369702.17 | I15: ='RASHODI-ek.kl.'!F209 -> 350648.28 | J15: ='RASHODI-ek.kl.'!G209 -> 353598.28 | K15: ='RASHODI-ek.kl.'!H209 -> 356548.28
B16: RAZLIKA - VIŠAK MANJAK | G16: =G10-G13 -> -830702.87 | H16: =H10-H13 -> 564926.15 | I16: =I10-I13 -> -254407.15 | J16: =J10-J13 -> 152563.6 | K16: =K10-K13 -> 379976.31
F18: B) SAŽETAK RAČUNA FINANCIRANJA
B20: BROJČANA OZNAKA I NAZIV | G20: IZVRŠENJE 2024. | H20: TEKUĆI PLAN ZA 2025. | I20: PLAN ZA 2026. | J20: PROJEKCIJA ZA 2027. | K20: PROJEKCIJA ZA 2028.
B21: 1 | I21: 3 | J21: 4 | K21: 5
B22: 8 PRIMICI OD FINANCIJSKE IMOVINE I ZADUŽIVANJA
B23: 5 IZDACI ZA FINANCIJSKU IMOVINU I OTPLATE ZAJMOVA
B24: NETO FINANCIRANJE
B25: VIŠAK / MANJAK + NETO FINANCIRANJE | G25: =G16+G24 -> -830702.87 | H25: =H16+H24 -> 564926.15 | I25: =I16+I24 -> -254407.15 | J25: =J16+J24 -> 152563.6 | K25: =K16+K24 -> 379976.31
F27: C) PRENESENI VIŠAK ILI PRENESENI MANJAK
B29: BROJČANA OZNAKA I NAZIV | G29: IZVRŠENJE 2024. | H29: TEKUĆI PLAN ZA 2025. | I29: PLAN ZA 2026. | J29: PROJEKCIJA ZA 2027. | K29: PROJEKCIJA ZA 2028.
B30: PRENESENI VIŠAK / MANJAK IZ PRETHODNE(IH) GODINE | G30: -12356.04 | H30: =G30+G31 -> -843058.91 | I30: =H31 -> -278132.76 | J30: =I31 -> -532539.91 | K30: =J31 -> -379976.31
B31: PRIJENOS VIŠKA / MANJKA U SLJEDEĆE RAZDOBLJE | G31: =G16 -> -830702.87 | H31: =H25+H30 -> -278132.76 | I31: =I25+I30 -> -532539.91 | J31: =J25+J30 -> -379976.31 | K31: =K25+K30 -> -9.3132257e-10
B32: VIŠAK / MANJAK + NETO FINANCIRANJE + PRIJENOS VIŠKA / MANJKA IZ PRETHODNE(IH) GODINE - PRIJENOS VIŠKA / MANJKA U SLJEDEĆE RAZDOBLJE
F34: D) VIŠEGODIŠNJI PLAN URAVNOTEŽENJA
B36: BROJČANA OZNAKA I NAZIV | G36: IZVRŠENJE 2024. | H36: TEKUĆI PLAN ZA 2025. | I36: PLAN ZA 2026. | J36: PROJEKCIJA ZA 2027. | K36: PROJEKCIJA ZA 2028.
B37: PRIJENOS VIŠKA / MANJKA IZ PRETHODNE(IH) GODINE | G37: =G30 -> -12356.04 | H37: =G40 -> -843058.91 | I37: =H40 -> -278132.76 | J37: =I40 -> -532539.91 | K37: =J40 -> -379976.31
B38: VIŠAK / MANJAK IZ PRETHODNE(IH) GODINE KOJI ĆE SE RASPOREDITI / POKRITI | G38: =G16 -> -830702.87 | H38: =H16 -> 564926.15 | I38: =I25 -> -254407.15 | J38: =J25 -> 152563.6 | K38: =K25 -> 379976.31
B39: VIŠAK / MANJAK TEKUĆE GOINE | I39: 0 | J39: 0
B40: PRIJENOS VIŠKA / MANJKA U SLJEDEĆE RAZDOBLJE | G40: =G37+G38 -> -843058.91 | H40: =H37+H38 -> -278132.76 | I40: =I37+I38 -> -532539.91 | J40: =J37+J38 -> -379976.31 | K40: =K37+K38 -> -9.3132257e-10

Sheet Prihodi po ekonomskoj klas
A2: I. OPĆI DIO
A4: A. RAČUN PRIHODA
A6: PRIHODI PREMA EKONOMSKOJ KLASIFIKACIJI
A8: PRIHODI POSLOVANJA
A9: Razred | B9: Skupina/podskupina/odjeljak | C9: Naziv | D9: IZVRŠENJE 2024. | E9: TEKUĆI PLAN ZA 2025. | F9: PLAN ZA 2026. | G9: PROJEKCIJA ZA 2027. | H9: PROJEKCIJA ZA 2028.
A10: 6 | C10: Prihodi poslovanja | D10: =D11+D32+D39+D45+D55+D64 -> 5100997.3 | E10: =E11+E32+E39+E45+E55+E64 -> 5178157.9 | F10: =F11+F32+F39+F45+F55+F64 -> 5420091.1 | G10: =G11+G32+G39+G45+G55+G64 -> 5902923.2 | H10: =H11+H32+H39+H45+H55+H64 -> 6174587.6
B11: 63 | C11: Pomoći | D11: =D12+D14+D18+D21+D26+D30 -> 331632.4 | E11: =E12+E14+E18+E21+E26+E30 -> 412013.95 | F11: =F12+F14+F18+F21+F26+F30 -> 231423.83 | G11: =G12+G14+G18+G21+G26+G30 -> 171724.49 | H11: =H12+H14+H18+H21+H26+H30 -> 171724.49 | J11: SAVJET: PRVO POPUNITE PRETHODNI LIST
B12: 632 | C12: Pomoći od međunaodnih organizacija te institucija i tijela EU | D12: =SUM(D13) -> 0 | E12: =SUM(E13) -> 0 | F12: =SUM(F13) -> 0 | G12: =SUM(G13) -> 0 | H12: =SUM(H13) -> 0
B13: 6324 | C13: Kapitalne pomoći od instucija i tijela EU | D13: 0 | E13: 0 | F13: 0 | G13: 0 | H13: 0
B14: 633 | C14: Pomoć proračunu iz drugih proračuna | D14: =SUM(D15,D17) -> 799.5 | E14: =SUM(E15,E17) -> 0 | F14: =SUM(F15,F17) -> 500 | G14: =SUM(G15,G17) -> 500 | H14: =SUM(H15,H17) -> 500 | J14: OVA TABLICA AUTOMATSKI POVLAČI IZNOSE IZ PRETHODNOG LISTA (PRIHODI PO EK KLAS I IZVORIMA)
B15: 6331 | C15: Tekuća pomoć proračunu iz drugih proračuna | D15: =D16 -> 799.5 | E15: =E16 -> 0 | F15: =F16 -> 500 | G15: =G16 -> 500 | H15: =H16 -> 500 | J15: UKOLIKO STE U PRVOM LISTU DODAVALI RAČUNE MORATI ĆETE I U OVOME LISTU NAPRAVITI IZMJENE U FORMULI RAČUNA NA KOJI SE IZMJENA ODNOSI
B16: 63313 | C16: Tekuće potpore iz gradskog proračuna | D16: ='Prihodi po ek klas i izvorima'!E57 -> 799.5 | E16: ='Prihodi po ek klas i izvorima'!F57 -> 0 | F16: ='Prihodi po ek klas i izvorima'!G57 -> 500 | G16: ='Prihodi po ek klas i izvorima'!H57 -> 500 | H16: ='Prihodi po ek klas i izvorima'!I57 -> 500
B17: 6332 | C17: Kapitalna pomoć proračunu iz drugih proračuna | D17: 0 | E17: 0 | F17: 0 | G17: 0 | H17: 0
B18: 634 | C18: Pomoći od izvanproračunskih korisnika | D18: =SUM(D19) -> 0 | E18: =SUM(E19) -> 68314.61 | F18: =SUM(F19) -> 68314.61 | G18: =SUM(G19) -> 68314.61 | H18: =SUM(H19) -> 68314.61
B19: 6341 | C19: Tekuće pomoći od izvanproračunskih korisnika | D19: =D20 -> 0 | E19: =E20 -> 68314.61 | F19: =F20 -> 68314.61 | G19: =G20 -> 68314.61 | H19: =H20 -> 68314.61
B20: 63414 | C20: Tekuće pomoći od izvanproračunskih korisnika | D20: ='Prihodi po ek klas i izvorima'!E61 -> 0 | E20: ='Prihodi po ek klas i izvorima'!F61 -> 68314.61 | F20: ='Prihodi po ek klas i izvorima'!G61 -> 68314.61 | G20: ='Prihodi po ek klas i izvorima'!H61 -> 68314.61 | H20: ='Prihodi po ek klas i izvorima'!I61 -> 68314.61
B21: 636 | C21: Pomoć proračunskim korisnicima iz prorač.koji im nije nadležan | D21: =SUM(D22,D24) -> 299750 | E21: =SUM(E22,E24) -> 298000 | F21: =SUM(F22,F24) -> 14000 | G21: =SUM(G22,G24) -> 0 | H21: =SUM(H22,H24) -> 0
B22: 6361 | C22: Tekuće pomoći iz državnog prorač. prorač.korisnicima JLP(R)S | D22: =D23 -> 14000 | E22: =E23 -> 14000 | F22: =F23 -> 14000 | G22: =G23 -> 0 | H22: =H23 -> 0
B23: 63612 | C23: Tekuće pomoći iz državnog prorač. prorač.korisnicima JLP(R)S | D23: ='Prihodi po ek klas i izvorima'!E64 -> 14000 | E23: ='Prihodi po ek klas i izvorima'!F64 -> 14000 | F23: ='Prihodi po ek klas i izvorima'!G64 -> 14000 | G23: ='Prihodi po ek klas i izvorima'!H64 -> 0 | H23: ='Prihodi po ek klas i izvorima'!I64 -> 0
B24: 6362 | C24: Kapitalne pomoći iz državnog prorač. prorač.korisnicima JLP(R)S | D24: =D25 -> 285750 | E24: =E25 -> 284000 | F24: =F25 -> 0 | G24: =G25 -> 0 | H24: =H25 -> 0
B25: 63622 | C25: Kapitalne pomoći iz državnog prorač. prorač.korisnicima JLP(R)S | D25: ='Prihodi po ek klas i izvorima'!E66 -> 285750 | E25: ='Prihodi po ek klas i izvorima'!F66 -> 284000 | F25: ='Prihodi po ek klas i izvorima'!G66 -> 0 | G25: ='Prihodi po ek klas i izvorima'!H66 -> 0 | H25: ='Prihodi po ek klas i izvorima'!I66 -> 0
B26: 638 | C26: Pomoć temeljem prijenosa EU | D26: =D27+D29 -> 31082.9 | E26: =E27+E29 -> 45699.34 | F26: =F27+F29 -> 148609.22 | G26: =G27+G29 -> 102909.88 | H26: =H27+H29 -> 102909.88
B27: 6381 | C27: Tekuće pomoći temeljem prijenosa EU sredstava | D27: =SUM(D28) -> 31082.9 | E27: =SUM(E28) -> 45699.34 | F27: =SUM(F28) -> 148609.22 | G27: =SUM(G28) -> 102909.88 | H27: =SUM(H28) -> 102909.88
B28: 63814 | C28: Tekuće pomoći temeljem prijenosa EU sredstava | D28: ='Prihodi po ek klas i izvorima'!E69 -> 31082.9 | E28: ='Prihodi po ek klas i izvorima'!F69 -> 45699.34 | F28: ='Prihodi po ek klas i izvorima'!G69 -> 148609.22 | G28: ='Prihodi po ek klas i izvorima'!H69 -> 102909.88 | H28: ='Prihodi po ek klas i izvorima'!I69 -> 102909.88
B29: 6382 | C29: kapitalna pomoć temeljem prijenosa EU | D29: 0 | E29: 0 | F29: 0 | G29: 0 | H29: 0
B30: 639 | C30: Prijenosi između proračunskih korisnika | D30: =SUM(D31) -> 0 | E30: =SUM(E31) -> 0 | F30: =SUM(F31) -> 0 | G30: =SUM(G31) -> 0 | H30: =SUM(H31) -> 0
B31: 6391 | C31: Tekući prijenosi između proračunskih korisnika | D31: 0 | E31: 0 | F31: 0 | G31: 0 | H31: 0
B32: 64 | C32: Prihodi od imovine | D32: =D33+D35+D37+D38 -> 40.76 | E32: =E33+E35+E37+E38 -> 200 | F32: =F33+F35+F37+F38 -> 200 | G32: =G33+G35+G37+G38 -> 200 | H32: =H33+H35+H37+H38 -> 200
B33: 6413 | C33: Kamate na oročena sredstva i depozite po viđenju | D33: =SUM(D34) -> 24.01 | E33: =SUM(E34) -> 200 | F33: =SUM(F34) -> 150 | G33: =SUM(G34) -> 150 | H33: =SUM(H34) -> 150
B34: 64132 | C34: Kamate na oročena sredstva i depozite po viđenju | D34: ='Prihodi po ek klas i izvorima'!E19 -> 24.01 | E34: ='Prihodi po ek klas i izvorima'!F19 -> 200 | F34: ='Prihodi po ek klas i izvorima'!G19 -> 150 | G34: ='Prihodi po ek klas i izvorima'!H19 -> 150 | H34: ='Prihodi po ek klas i izvorima'!I19 -> 150
B35: 6414 | C35: Prihodi od zateznih kamata | D35: =D36 -> 16.75 | E35: =E36 -> 0 | F35: =F36 -> 50 | G35: =G36 -> 50 | H35: =H36 -> 50
B36: 64143 | C36: Prihodi od zateznih kamata | D36: ='Prihodi po ek klas i izvorima'!E21 -> 16.75 | E36: ='Prihodi po ek klas i izvorima'!F21 -> 0 | F36: ='Prihodi po ek klas i izvorima'!G21 -> 50 | G36: ='Prihodi po ek klas i izvorima'!H21 -> 50 | H36: ='Prihodi po ek klas i izvorima'!I21 -> 50
B37: 6419 | C37: Ostali prihode o financijske imovine
B38: 6429 | C38: Ostali prihodi od nefinancijske imovine
B39: 65 | C39: Prihodi po posebnim propisima | D39: =D40 -> 78585.41 | E39: =E40 -> 53000 | F39: =F40 -> 64000 | G39: =G40 -> 68150 | H39: =H40 -> 71433
B40: 652 | C40: Prihodi po posebnim propisima | D40: =SUM(D41) -> 78585.41 | E40: =SUM(E41) -> 53000 | F40: =SUM(F41) -> 64000 | G40: =SUM(G41) -> 68150 | H40: =SUM(H41) -> 71433
B41: 6526 | C41: Ostali nespomenuti prihodi (participacija) | D41: =SUM(D42:D44) -> 78585.41 | E41: =SUM(E42:E44) -> 53000 | F41: =SUM(F42:F44) -> 64000 | G41: =SUM(G42:G44) -> 68150 | H41: =SUM(H42:H44) -> 71433
B42: 65264 | C42: Sufinanciranje cijene usluge, participacija | D42: ='Prihodi po ek klas i izvorima'!E40 -> 51154.92 | E42: ='Prihodi po ek klas i izvorima'!F40 -> 44000 | F42: ='Prihodi po ek klas i izvorima'!G40 -> 55000 | G42: ='Prihodi po ek klas i izvorima'!H40 -> 57500 | H42: ='Prihodi po ek klas i izvorima'!I40 -> 60000
B43: 65267 | C43: Prihodi od osiguranja i refundacije štete | D43: ='Prihodi po ek klas i izvorima'!E83 -> 8798.23 | E43: ='Prihodi po ek klas i izvorima'!F83 -> 5500 | F43: ='Prihodi po ek klas i izvorima'!G83 -> 5500 | G43: ='Prihodi po ek klas i izvorima'!H83 -> 5775 | H43: ='Prihodi po ek klas i izvorima'!I83 -> 6064
B44: 65269 | C44: Refundacija plaća specijalizanata | D44: ='Prihodi po ek klas i izvorima'!E41 -> 18632.26 | E44: ='Prihodi po ek klas i izvorima'!F41 -> 3500 | F44: ='Prihodi po ek klas i izvorima'!G41 -> 3500 | G44: ='Prihodi po ek klas i izvorima'!H41 -> 4875 | H44: ='Prihodi po ek klas i izvorima'!I41 -> 5369
...

Sheet RASHODI-ek.kl.
A1: I. OPĆI DIO
A2: A. RAČUN PRIHODA I RASHODA
A4: RASHODI PREMA EKONOMSKOJ KLASIFIKACIJI
A7: PRIHODI POSLOVANJA
A8: Razred | B8: Skupina/podskupina/odjeljak | C8: Naziv | F8: Izvršenje prethodne godine I.-VI. 2022. | G8: REBALANS 2023. | H8: Izvršenje tekuće godine I.-VI. 2023
A9: 1 | F9: 2 | G9: 3 | H9: 4
A10: 6 | F10: =F11+F26+F30+F33+F40+F43 -> 24659146 | G10: =G11+G26+G30+G33+G40+G43 -> 63888652 | H10: =H11+H26+H30+H33+H40+H43 -> 30834919
B11: 63 | C11: Pomoći | F11: =F12+F14+F17+F19+F21+F24 -> 324811.47 | G11: =SUM(G12,G14,G17,G19,G21,G24) -> 639378.86 | H11: =SUM(H12,H14,H17,H19,H21,H24) -> 1892796.8
B12: 632 | C12: Pomoći od međunaodnih organizacija te institucija i tijela EU | F12: =SUM(F13) -> 0 | G12: =SUM(G13) -> 0 | H12: =SUM(H13) -> 0
B13: 6324 | C13: Kapitalne pomoći od instucija i tijela EU | F13: 0 | G13: 0 | H13: 0
B14: 633 | C14: Pomoć proračunu iz drugih proračuna | F14: =SUM(F15:F16) -> 50556.109 | G14: =SUM(G15:G16) -> 0 | H14: =SUM(H15:H16) -> 0
B15: 6331 | C15: Tekuća pomoć proračunu iz drugih proračuna | F15: =380915/7.5345 -> 50556.109 | G15: 0 | H15: 0
B16: 6332 | C16: Kapitalna pomoć proračunu iz drugih proračuna | F16: 0 | G16: 0 | H16: 0
B17: 634 | C17: Pomoći od izvanproračunskih korisnika | F17: =SUM(F18) -> 111981.95 | G17: =SUM(G18) -> 366500.76 | H17: =SUM(H18) -> 1829292.8
B18: 6341 | C18: Tekuće pomoći od HZZ-a, HZZO-a | F18: =843728/7.5345 -> 111981.95 | G18: 366500.76 | H18: 1829292.8
B19: 636 | C19: Pomoć proračunskim korisnicima iz prorač.koji im nije nadležan | F19: =SUM(F20) -> 54857.124 | G19: =SUM(G20) -> 796.34 | H19: =SUM(H20) -> 45490.31
B20: 6361 | C20: Tekuće pomoći iz državnog prorač. prorač.korisnicima JLP(R)S | F20: =413321/7.5345 -> 54857.124 | G20: =796.34 -> 796.34 | H20: 45490.31
B21: 638 | C21: Pomoć temeljem prijenosa EU | F21: =SUM(F22:F23) -> 107244.81 | G21: =SUM(G23) -> 272081.76 | H21: =SUM(H23) -> 18013.71
B22: 6381 | C22: Tekuće pomoći temeljem prijenosa EU sredstava | F22: =493624/7.5345 -> 65515.164 | G22: 0 | H22: 0
B23: 6382 | C23: kapitalna pomoć temeljem prijenosa EU | F23: =314412/7.5345 -> 41729.644 | G23: 272081.76 | H23: 18013.71
B24: 639 | C24: Prijenosi između proračunskih korisnika | F24: =SUM(F25) -> 171.47787 | G24: =SUM(G25) -> 0 | H24: =SUM(H25) -> 0
B25: 6391 | C25: Tekući prijenosi između proračunskih korisnika | F25: =1292/7.5345 -> 171.47787 | G25: 0 | H25: 0
B26: 64 | C26: Prihodi od imovine | F26: =SUM(F27:F29) -> 50144.535 | G26: =SUM(G27:G29) -> 120462.42 | H26: =SUM(H27:H29) -> 55180.92
B27: 6413 | C27: Kamate na oročena sredstva i depozite po viđenju | F27: =439/7.5345 -> 58.265313 | G27: 746.44 | H27: 204.07
B28: 6419 | C28: Ostali prihode o financijske imovine | F28: =376342/7.5345 -> 49949.167 | G28: 119450.53 | H28: 54839.75
B29: 6429 | C29: Ostali prihodi od nefinancijske imovine | F29: =1033/7.5345 -> 137.10266 | G29: =265.45 -> 265.45 | H29: 137.1
B30: 65 | C30: Prihodi po posebnim propisima | F30: =F31 -> 1523828.4 | G30: =SUM(G31) -> 6950029.9 | H30: =SUM(H31) -> 1963072.3
B31: 652 | C31: Prihodi po posebnim propisima | F31: =SUM(F32) -> 1523828.4 | G31: =SUM(G32) -> 6950029.9 | H31: =SUM(H32) -> 1963072.3
B32: 6526 | C32: Ostali nespomenuti prihodi (participacija) | F32: =11481285/7.5345 -> 1523828.4 | G32: =6950029.86 -> 6950029.9 | H32: 1963072.3
B33: 66 | C33: Prihodi od prodaje i donacija | F33: =F34+F37 -> 1701559.2 | G33: =SUM(G34,G37) -> 3641484.9 | H33: =SUM(H34,H37) -> 1739052
B34: 661 | C34: Prihodi od prodaje roba i pruženih usluga (vlastiti prihodi) | F34: =SUM(F35:F36) -> 1677912 | G34: =SUM(G36,G35) -> 3521370.8 | H34: =SUM(H36,H35) -> 1704828
B35: 6614 | C35: Prihodi od prodaje proizvoda i robe | F35: =6216809/7.5345 -> 825112.35 | G35: 1725396.5 | H35: 916985.05
B36: 6615 | C36: Prihodi od pruženih usluga | F36: =6425419/7.5345 -> 852799.65 | G36: 1795974.2 | H36: 787842.97
B37: 663 | C37: Donacije od pravnih i fizičkih osoba izvan proračuna | F37: =SUM(F38:F39) -> 23647.223 | G37: =SUM(G38:G39) -> 120114.13 | H37: =SUM(H38:H39) -> 34224
B38: 6631 | C38: Tekuće donacije | F38: =5000/7.5345 -> 663.61404 | G38: 53752.73 | H38: =5600+1310 -> 6910
B39: 6632 | C39: Kapitalne donacije | F39: =173170/7.5345 -> 22983.609 | G39: 66361.4 | H39: 27314
B40: 67 | C40: Prihodi iz nadležnog proračuna i HZZOa | F40: =SUM(F41) -> 20985600 | G40: =SUM(G41) -> 52367289 | H40: =SUM(H41) -> 24656056
B41: 673 | C41: Prihodi od HZZO-a | F41: =SUM(F42) -> 20985600 | G41: =SUM(G42) -> 52367289 | H41: =SUM(H42) -> 24656056
B42: 6731 | C42: Prihodi od HZZO-a temeljem ugovora | F42: =158116000/7.5345 -> 20985600 | G42: 52367289 | H42: 24656056
B43: 68 | C43: Kazne, upravne mjere i ostali prihodi | F43: =SUM(F44) -> 73202.601 | G43: =SUM(G44) -> 170007.44 | H43: =SUM(H44) -> 528760.56
...

Sheet Prihodi po ek klas i izvorima
A1: I. OPĆI DIO
A2: A. RAČUN PRIHODA
A3: PRIHODI PREMA EKONOMSKOJ KLASIFIKACIJI I IZVORIMA FINANCIRANJA
A5: PRIHODI POSLOVANJA
A6: Razred | B6: Skupina/podskupina/odjeljak | C6: Izvor | D6: Naziv | E6: IZVRŠENJE 2024. | F6: TEKUĆI PLAN ZA 2025. | G6: PLAN ZA 2026. | H6: PROJEKCIJA ZA 2027. | I6: PROJEKCIJA ZA 2028.
A7: 1 | G7: 2 | H7: 3 | I7: 4
A8: 6 | D8: Prihodi poslovanja | E8: =SUM(E15,E73,E53,E33,E79,E84) -> 5100997.3 | F8: =SUM(F15,F73,F53,F33,F79,F84) -> 5178157.9 | G8: =SUM(G15,G73,G53,G33,G79,G84) -> 5420091.1 | H8: =SUM(H15,H73,H53,H33,H79,H84) -> 5902923.2 | I8: =SUM(I15,I73,I53,I33,I79,I84) -> 6174587.6
B9: 67 | D9: Prihodi iz nadležnog proračuna i od HZZO-a temeljem ugovornih obveza | E9: =E10 -> 397160.43 | F9: =F10 -> 561264.02 | G9: =G10 -> 358264.02 | H9: =H10 -> 358264.02 | I9: =I10 -> 358264.02
B10: 671 | D10: Prihodi iz nadležnog proračuna za financiranje redovne djelatnosti proračunskih korisnika | E10: =SUM(E11,E13) -> 397160.43 | F10: =SUM(F11,F13) -> 561264.02 | G10: =SUM(G11,G13) -> 358264.02 | H10: =SUM(H11,H13) -> 358264.02 | I10: =SUM(I11,I13) -> 358264.02
B11: 6711 | D11: Prihodi iz nadležnog proračuna za financiranje rashoda poslovanja | E11: =E12 -> 141650.92 | F11: =F12 -> 352264.02 | G11: =G12 -> 92988.02 | H11: =H12 -> 92988.02 | I11: =I12 -> 92988.02
B12: 67111 | D12: Prihodi iz nadležnog proračuna za financiranje rashoda poslovanja | E12: 141650.92 | F12: 352264.02 | G12: 92988.02 | H12: 92988.02 | I12: 92988.02
B13: 6712 | D13: Prihodi iz nadležnog proračuna za nabavu nefinancijske imovine | E13: =E14 -> 255509.51 | F13: =F14 -> 209000 | G13: =G14 -> 265276 | H13: =H14 -> 265276 | I13: =I14 -> 265276
B14: 67121 | D14: Prihodi iz nadležnog proračuna za nabavu nefinancijske imovine | E14: 255509.51 | F14: 209000 | G14: 265276 | H14: 265276 | I14: 265276
C15: 11 | D15: Opći prihodi i primici | E15: =E9 -> 397160.43 | F15: =F9 -> 561264.02 | G15: =G9 -> 358264.02 | H15: =H9 -> 358264.02 | I15: =I9 -> 358264.02
B16: 64 | D16: Prihodi od imovine | E16: =SUM(E17) -> 40.76 | F16: =SUM(F17) -> 200 | G16: =SUM(G17) -> 200 | H16: =SUM(H17) -> 200 | I16: =SUM(I17) -> 200
B17: 641 | D17: Prihodi od financijske imovine | E17: =SUM(E18,E20,E22,E23) -> 40.76 | F17: =SUM(F18,F20,F22,F23) -> 200 | G17: =SUM(G18,G20,G22,G23) -> 200 | H17: =SUM(H18,H20,H22,H23) -> 200 | I17: =SUM(I18,I20,I22,I23) -> 200
B18: 6413 | D18: Kamate na oročena srredstva i depozite po viđenju | E18: =SUM(E19) -> 24.01 | F18: =SUM(F19) -> 200 | G18: =SUM(G19) -> 150 | H18: =SUM(H19) -> 150 | I18: =SUM(I19) -> 150
B19: 64132 | D19: Kamate na oročena sredstva i depozite po viđenju | E19: 24.01 | F19: 200 | G19: 150 | H19: 150 | I19: 150
B20: 6414 | D20: Prihodi od zateznih kamata | E20: =E21 -> 16.75 | F20: =F21 -> 0 | G20: =G21 -> 50 | H20: =H21 -> 50 | I20: =I21 -> 50
B21: 64143 | D21: Prihodi od zateznih kamata | E21: 16.75 | G21: 50 | H21: 50 | I21: 50
B22: 6419 | D22: Ostali prihodi od financijske imovine
B23: 6429 | D23: Ostali prihodi od nefinancijske imovine
B24: 66 | D24: Prihodi od prodaje proizvoda i robe te pruženih usluga i prihodi od donacija | E24: =SUM(E25) -> 140153.61 | F24: =SUM(F25) -> 199083.29 | G24: =SUM(G25) -> 163116.33 | H24: =SUM(H25) -> 163116.33 | I24: =SUM(I25) -> 163116.33
B25: 661 | D25: Prihodi od prodaje proizvoda i robe te pruženih usluga | E25: =SUM(E26:E27) -> 140153.61 | F25: =SUM(F26:F27) -> 199083.29 | G25: =SUM(G26:G27) -> 163116.33 | H25: =SUM(H26:H27) -> 163116.33 | I25: =SUM(I26:I27) -> 163116.33
B26: 6614 | D26: Prihod od prodaje proizvoda i usluga
B27: 6615 | D27: Prihodi od pruženih usluga | E27: =SUM(E28:E29) -> 140153.61 | F27: =SUM(F28:F29) -> 199083.29 | G27: =SUM(G28:G29) -> 163116.33 | H27: =SUM(H28:H29) -> 163116.33 | I27: =SUM(I28:I29) -> 163116.33
B28: 66151 | D28: Prihodi od pruženih usluga | E28: 139946.23 | F28: 199083.29 | G28: 163116.33 | H28: 163116.33 | I28: 163116.33
B29: 66153 | D29: Prihodi za udio troškova u zakupu | E29: 207.38
B30: 68 | D30: Kazne, upravne mjere i ostali prihodi | E30: =SUM(E31) -> 0 | F30: =SUM(F31) -> 0 | G30: =SUM(G31) -> 0 | H30: =SUM(H31) -> 0 | I30: =SUM(I31) -> 0
B31: 683 | D31: Ostali prihodi | E31: =SUM(E32) -> 0 | F31: =SUM(F32) -> 0 | G31: =SUM(G32) -> 0 | H31: =SUM(H32) -> 0 | I31: =SUM(I32) -> 0
B32: 6831 | D32: Ostali prihodi
C33: 31 | D33: Vlastiti prihodi | E33: =E16+E24+E30 -> 140194.37 | F33: =F16+F24+F30 -> 199283.29 | G33: =G16+G24+G30 -> 163316.33 | H33: =H16+H24+H30 -> 163316.33 | I33: =I16+I24+I30 -> 163316.33
B34: 64 | D34: Prihodi od imovine | E34: =SUM(E35) -> 0 | F34: =SUM(F35) -> 0 | G34: =SUM(G35) -> 0 | H34: =SUM(H35) -> 0 | I34: =SUM(I35) -> 0
B35: 641 | D35: Prihodi od financijske imovine | E35: =SUM(E36:E36) -> 0 | F35: =SUM(F36:F36) -> 0 | G35: =SUM(G36:G36) -> 0 | H35: =SUM(H36:H36) -> 0 | I35: =SUM(I36:I36) -> 0
B36: 6419 | D36: Ostali prihodi od financijske imovine
B37: 65 | D37: Prihodi od upravnih i administrativnih pristojbi, pristojbi po posebnim propisima i nakanda | E37: =SUM(E38) -> 69787.18 | F37: =SUM(F38) -> 47500 | G37: =SUM(G38) -> 58500 | H37: =SUM(H38) -> 62375 | I37: =SUM(I38) -> 65369
B38: 652 | D38: Prihodi po posebnim propisima | E38: =SUM(E39) -> 69787.18 | F38: =SUM(F39) -> 47500 | G38: =SUM(G39) -> 58500 | H38: =SUM(H39) -> 62375 | I38: =SUM(I39) -> 65369
B39: 6526 | D39: Ostali nespomenuti prihodi (participacija) | E39: =SUM(E40:E41) -> 69787.18 | F39: =SUM(F40:F41) -> 47500 | G39: =SUM(G40:G41) -> 58500 | H39: =SUM(H40:H41) -> 62375 | I39: =SUM(I40:I41) -> 65369
B40: 65264 | D40: Sufinanciranje cijene usluge, participacija | E40: 51154.92 | F40: 44000 | G40: 55000 | H40: 57500 | I40: 60000
B41: 65269 | D41: Refundacija plaća specijalizanata | E41: 18632.26 | F41: 3500 | G41: 3500 | H41: 4875 | I41: 5369
...

Sheet  PRIHODI I RASHODI-izvori
A1: I. OPĆI DIO
A2: A. RAČUN PRIHODA I RASHODA
A3: RASHODI PREMA EKONOMSKOJ KLASIFIKACIJI I IZVORIMA FINANCIRANJA
A5: RASHODI POSLOVANJA
A6: Razred | B6: Skupina/podskupina/odjeljak | C6: Izvor | D6: Naziv | E6: IZVRŠENJE 2024. | F6: TEKUĆI PLAN ZA 2025. | G6: PLAN ZA 2026. | H6: PROJEKCIJA ZA 2027. | I6: PROJEKCIJA ZA 2028.
A7: 1 | G7: 2 | H7: 3 | I7: 4
A8: 3 | D8: Rashodi poslovanja | E8: =E11+E181+E75+E367+E448+E474 -> 5084825.9 | F8: =F11+F181+F75+F367+F448+F474 -> 4244329.6 | G8: =G11+G181+G75+G367+G448+G474 -> 5323849.9 | H8: =H11+H181+H75+H367+H448+H474 -> 5396761.3 | I8: =I11+I181+I75+I367+I448+I474 -> 5438063
A9: 4 | D9: Rashodi za nabavu nefinancijske imovine | E9: =E58+E332+E159+E416+E443+E462+E483 -> 846874.29 | F9: =F58+F332+F159+F416+F443+F462+F483 -> 369702.17 | G9: =G58+G332+G159+G416+G443+G462+G483 -> 350648.28 | H9: =H58+H332+H159+H416+H443+H462+H483 -> 353598.28 | I9: =I58+I332+I159+I416+I443+I462+I483 -> 356548.28
D10: KORIŠTENJE DEC-a SREDSTAVA ŽUPANIJE
A11: 3 | D11: Rashodi poslovanja | E11: =E12+E19 -> 141650.92 | F11: =F12+F19 -> 352264.02 | G11: =G12+G19 -> 92988.02 | H11: =H12+H19 -> 92988.02 | I11: =I12+I19 -> 92988.02
B12: 31 | D12: Rashodi za zaposlene | E12: =E13+E16 -> 10163.3 | F12: =F13+F16 -> 46978.02 | G12: =G13+G16 -> 6978.02 | H12: =H13+H16 -> 6978.02 | I12: =I13+I16 -> 6978.02
B13: 311 | D13: Plaće | E13: =SUM(E14) -> 8723.88 | F13: =SUM(F14) -> 5989.73 | G13: =SUM(G14) -> 5989.73 | H13: =SUM(H14) -> 5989.73 | I13: =SUM(I14) -> 5989.73
B14: 3111 | D14: Plaće za redovan rad | E14: =SUM(E15) -> 8723.88 | F14: =SUM(F15) -> 5989.73 | G14: =SUM(G15) -> 5989.73 | H14: =SUM(H15) -> 5989.73 | I14: =SUM(I15) -> 5989.73
B15: 31111 | D15: Plaće za redovan rad | E15: ='Rekapitulacija Posebni dio'!C496+'Rekapitulacija Posebni dio'!C515+'Rekapitulacija Posebni dio'!C534 -> 8723.88 | F15: ='Rekapitulacija Posebni dio'!D496+'Rekapitulacija Posebni dio'!D515+'Rekapitulacija Posebni dio'!D534 -> 5989.73 | G15: ='Rekapitulacija Posebni dio'!E496+'Rekapitulacija Posebni dio'!E515+'Rekapitulacija Posebni dio'!E534 -> 5989.73 | H15: ='Rekapitulacija Posebni dio'!F496+'Rekapitulacija Posebni dio'!F515+'Rekapitulacija Posebni dio'!F534 -> 5989.73 | I15: ='Rekapitulacija Posebni dio'!G496+'Rekapitulacija Posebni dio'!G515+'Rekapitulacija Posebni dio'!G534 -> 5989.73
B16: 313 | D16: Doprinosi na plaće | E16: =SUM(E17) -> 1439.42 | F16: =SUM(F17) -> 40988.29 | G16: =SUM(G17) -> 988.29 | H16: =SUM(H17) -> 988.29 | I16: =SUM(I17) -> 988.29
B17: 3132 | D17: Doprinosi za obvezno zdravstveno osiguranje | E17: =SUM(E18) -> 1439.42 | F17: =SUM(F18) -> 40988.29 | G17: =SUM(G18) -> 988.29 | H17: =SUM(H18) -> 988.29 | I17: =SUM(I18) -> 988.29
B18: 31321 | D18: Doprinosi za obvezno zdravstveno osiguranje | E18: ='Rekapitulacija Posebni dio'!C381+'Rekapitulacija Posebni dio'!C501+'Rekapitulacija Posebni dio'!C520+'Rekapitulacija Posebni dio'!C539 -> 1439.42 | F18: ='Rekapitulacija Posebni dio'!D381+'Rekapitulacija Posebni dio'!D501+'Rekapitulacija Posebni dio'!D520+'Rekapitulacija Posebni dio'!D539 -> 40988.29 | G18: ='Rekapitulacija Posebni dio'!E381+'Rekapitulacija Posebni dio'!E501+'Rekapitulacija Posebni dio'!E520+'Rekapitulacija Posebni dio'!E539 -> 988.29 | H18: ='Rekapitulacija Posebni dio'!F381+'Rekapitulacija Posebni dio'!F501+'Rekapitulacija Posebni dio'!F520+'Rekapitulacija Posebni dio'!F539 -> 988.29 | I18: ='Rekapitulacija Posebni dio'!G381+'Rekapitulacija Posebni dio'!G501+'Rekapitulacija Posebni dio'!G520+'Rekapitulacija Posebni dio'!G539 -> 988.29
B19: 32 | D19: Materijalni rashodi | E19: =E20+E31+E47+E51 -> 131487.62 | F19: =F20+F31+F47+F51 -> 305286 | G19: =G20+G31+G47+G51 -> 86010 | H19: =H20+H31+H47+H51 -> 86010 | I19: =I20+I31+I47+I51 -> 86010
B20: 322 | D20: Rashodi za materijal i energiju | E20: =E21+E24+E26+E29 -> 20672.78 | F20: =F21+F24+F26+F29 -> 4000 | G20: =G21+G24+G26+G29 -> 0 | H20: =H21+H24+H26+H29 -> 0 | I20: =I21+I24+I26+I29 -> 0
B21: 3221 | D21: Uredski materijal i ostali materijalni rashodi | E21: =E22+E23 -> 1543.88 | F21: =F22+F23 -> 4000 | G21: =G22+G23 -> 0 | H21: =H22+H23 -> 0 | I21: =I22+I23 -> 0
B22: 32211 | D22: Uredski materijal | E22: ='Rekapitulacija Posebni dio'!C400 -> 1228.88 | F22: ='Rekapitulacija Posebni dio'!D400 -> 2000 | G22: ='Rekapitulacija Posebni dio'!E400 -> 0 | H22: ='Rekapitulacija Posebni dio'!F400 -> 0 | I22: ='Rekapitulacija Posebni dio'!G400 -> 0
B23: 32214 | D23: Materijal i sredstva za čišćenje | E23: ='Rekapitulacija Posebni dio'!C401 -> 315 | F23: ='Rekapitulacija Posebni dio'!D401 -> 2000 | G23: ='Rekapitulacija Posebni dio'!E401 -> 0 | H23: ='Rekapitulacija Posebni dio'!F401 -> 0 | I23: ='Rekapitulacija Posebni dio'!G401 -> 0
B24: 3222 | D24: Materijal i sirovine | E24: =E25 -> 12071.02 | F24: =F25 -> 0 | G24: =G25 -> 0 | H24: =H25 -> 0 | I24: =I25 -> 0
B25: 32221 | D25: Potrošni medicinski materijal | E25: ='Rekapitulacija Posebni dio'!C403 -> 12071.02 | F25: ='Rekapitulacija Posebni dio'!D403 -> 0 | G25: ='Rekapitulacija Posebni dio'!E403 -> 0 | H25: ='Rekapitulacija Posebni dio'!F403 -> 0 | I25: ='Rekapitulacija Posebni dio'!G403 -> 0
B26: 3223 | D26: Energija | E26: =E27+E28 -> 3057.88 | F26: =F27+F28 -> 0 | G26: =G27+G28 -> 0 | H26: =H27+H28 -> 0 | I26: =I27+I28 -> 0
B27: 32231 | D27: Električna energija | E27: ='Rekapitulacija Posebni dio'!C405 -> 2416.99 | F27: ='Rekapitulacija Posebni dio'!D405 -> 0 | G27: ='Rekapitulacija Posebni dio'!E405 -> 0 | H27: ='Rekapitulacija Posebni dio'!F405 -> 0 | I27: ='Rekapitulacija Posebni dio'!G405 -> 0
B28: 32233 | D28: Plin | E28: ='Rekapitulacija Posebni dio'!C406 -> 640.89 | F28: ='Rekapitulacija Posebni dio'!D406 -> 0 | G28: ='Rekapitulacija Posebni dio'!E406 -> 0 | H28: ='Rekapitulacija Posebni dio'!F406 -> 0 | I28: ='Rekapitulacija Posebni dio'!G406 -> 0
B29: 3224 | D29: Materijal i dijelovi za tekuće i investicijsko održavanje | E29: =E30 -> 4000 | F29: =F30 -> 0 | G29: =G30 -> 0 | H29: =H30 -> 0 | I29: =I30 -> 0
B30: 32241 | D30: Materijal i dijelovi za tekuće i invest. održavanje građevinskih objekata | E30: ='Rekapitulacija Posebni dio'!C464 -> 4000 | F30: ='Rekapitulacija Posebni dio'!D464 -> 0 | G30: ='Rekapitulacija Posebni dio'!E464 -> 0 | H30: ='Rekapitulacija Posebni dio'!F464 -> 0 | I30: ='Rekapitulacija Posebni dio'!G464 -> 0
B31: 323 | D31: Rashodi za usluge | E31: =E32+E34+E38+E40+E42+E44 -> 109496.94 | F31: =F32+F34+F38+F40+F42+F44 -> 125286 | G31: =G32+G34+G38+G40+G42+G44 -> 86010 | H31: =H32+H34+H38+H40+H42+H44 -> 86010 | I31: =I32+I34+I38+I40+I42+I44 -> 86010
B32: 3231 | D32: Usluge telefona i pošte | E32: =E33 -> 0 | F32: =F33 -> 3000 | G32: =G33 -> 0 | H32: =H33 -> 0 | I32: =I33 -> 0
B33: 32311 | D33: Usluge telefona, telefaksa | E33: ='Rekapitulacija Posebni dio'!C409 -> 0 | F33: ='Rekapitulacija Posebni dio'!D409 -> 3000 | G33: ='Rekapitulacija Posebni dio'!E409 -> 0 | H33: ='Rekapitulacija Posebni dio'!F409 -> 0 | I33: ='Rekapitulacija Posebni dio'!G409 -> 0
B34: 3232 | D34: Usluge tekućeg i investicijskog održavanja | E34: =SUM(E35:E37) -> 64234.04 | F34: =SUM(F35:F37) -> 55286 | G34: =SUM(G35:G37) -> 46010 | H34: =SUM(H35:H37) -> 46010 | I34: =SUM(I35:I37) -> 46010
B35: 32321 | D35: Usluge tekućeg i investicijskog održavanja građevinskih objekata | E35: ='Rekapitulacija Posebni dio'!C467 -> 15000 | F35: ='Rekapitulacija Posebni dio'!D467 -> 20000 | G35: ='Rekapitulacija Posebni dio'!E467 -> 20641 | H35: ='Rekapitulacija Posebni dio'!F467 -> 20641 | I35: ='Rekapitulacija Posebni dio'!G467 -> 20641
B36: 32322 | D36: Usluge tekućeg i investicijskog održavanja postrojenja i opreme | E36: ='Rekapitulacija Posebni dio'!C468 -> 8000 | F36: ='Rekapitulacija Posebni dio'!D468 -> 10000 | G36: ='Rekapitulacija Posebni dio'!E468 -> 10760 | H36: ='Rekapitulacija Posebni dio'!F468 -> 10760 | I36: ='Rekapitulacija Posebni dio'!G468 -> 10760
B37: 32323 | D37: Usluge tekućeg i investicijskog održavanja prijevoznih sredstava | E37: ='Rekapitulacija Posebni dio'!C469 -> 41234.04 | F37: ='Rekapitulacija Posebni dio'!D469 -> 25286 | G37: ='Rekapitulacija Posebni dio'!E469 -> 14609 | H37: ='Rekapitulacija Posebni dio'!F469 -> 14609 | I37: ='Rekapitulacija Posebni dio'!G469 -> 14609
B38: 3236 | D38: Zdravstvene i veterinarske usluge | E38: =E39 -> 1399.02 | F38: =F39 -> 27000 | G38: =G39 -> 0 | H38: =H39 -> 0 | I38: =I39 -> 0
B39: 32369 | D39: Zdravstvene i veterinarske usluge | E39: ='Rekapitulacija Posebni dio'!C411+'Rekapitulacija Posebni dio'!C439 -> 1399.02 | F39: ='Rekapitulacija Posebni dio'!D411+'Rekapitulacija Posebni dio'!D439 -> 27000 | G39: ='Rekapitulacija Posebni dio'!E411+'Rekapitulacija Posebni dio'!E439 -> 0 | H39: ='Rekapitulacija Posebni dio'!F411+'Rekapitulacija Posebni dio'!F439 -> 0 | I39: ='Rekapitulacija Posebni dio'!G411+'Rekapitulacija Posebni dio'!G439 -> 0
B40: 3237 | D40: Intelektualne usluge | E40: =E41 -> 1250 | F40: =F41 -> 0 | G40: =G41 -> 0 | H40: =H41 -> 0 | I40: =I41 -> 0
B41: 32379 | D41: Ostale intelektualne usluge | E41: ='Rekapitulacija Posebni dio'!C413 -> 1250 | F41: ='Rekapitulacija Posebni dio'!D413 -> 0 | G41: ='Rekapitulacija Posebni dio'!E413 -> 0 | H41: ='Rekapitulacija Posebni dio'!F413 -> 0 | I41: ='Rekapitulacija Posebni dio'!G413 -> 0
...

Sheet Prih.i rash.
A3: PRIHODI I RASHODI PREMA IZVORIMA FINANCIRANJA
A5: BROJČANA OZNAKA I NAZIV | B5: IZVRŠENJE 2024. | C5: TEKUĆI PLAN ZA 2025. | D5: PLAN ZA 2026. | E5: PROJEKCIJA ZA 2027. | F5: PROJEKCIJA ZA 2028.
A6: UKUPNO PRIHODI | B6: =B7+B9+B11+B15+B17+B19 -> 5100997.3 | C6: =C7+C9+C11+C15+C17+C19 -> 5178957.9 | D6: =D7+D9+D11+D15+D17+D19 -> 5420091.1 | E6: =E7+E9+E11+E15+E17+E19 -> 5902923.2 | F6: =F7+F9+F11+F15+F17+F19 -> 6174587.6
A7: 1 Opći prihodi i primici | B7: =B8 -> 397160.43 | C7: =C8 -> 561264.02 | D7: =D8 -> 358264.02 | E7: =E8 -> 358264.02 | F7: =F8 -> 358264.02
A8: 11 Opći prihodi i primici | B8: ='Prihodi po ek klas i izvorima'!E15 -> 397160.43 | C8: ='Prihodi po ek klas i izvorima'!F15 -> 561264.02 | D8: ='Prihodi po ek klas i izvorima'!G15 -> 358264.02 | E8: ='Prihodi po ek klas i izvorima'!H15 -> 358264.02 | F8: ='Prihodi po ek klas i izvorima'!I15 -> 358264.02
A9: 2 Vlastiti prihodi | B9: =B10 -> 140194.37 | C9: =C10 -> 199283.29 | D9: =D10 -> 163316.33 | E9: =E10 -> 163316.33 | F9: =F10 -> 163316.33
A10: 31 Vlastiti prihodi | B10: ='Prihodi po ek klas i izvorima'!E33 -> 140194.37 | C10: ='Prihodi po ek klas i izvorima'!F33 -> 199283.29 | D10: ='Prihodi po ek klas i izvorima'!G33 -> 163316.33 | E10: ='Prihodi po ek klas i izvorima'!H33 -> 163316.33 | F10: ='Prihodi po ek klas i izvorima'!I33 -> 163316.33
A11: 3 Prihodi za posebne namjene | B11: =SUM(B12:B14) -> 4219254.6 | C11: =SUM(C12:C14) -> 3949596.7 | D11: =SUM(D12:D14) -> 4660586.9 | E11: =SUM(E12:E14) -> 5202643.3 | F11: =SUM(F12:F14) -> 5473818.8
A12: 43 Prihodi za posebne namjene (HZZO) | B12: ='Prihodi po ek klas i izvorima'!E42 -> 4148754.7 | C12: ='Prihodi po ek klas i izvorima'!F42 -> 3899096.7 | D12: ='Prihodi po ek klas i izvorima'!G42 -> 4599086.9 | E12: ='Prihodi po ek klas i izvorima'!H42 -> 5137268.3 | F12: ='Prihodi po ek klas i izvorima'!I42 -> 5405449.8
A13: 43 Prihodi za posebne namjene (dopunsko osiguranje, participacija,…) | B13: ='Prihodi po ek klas i izvorima'!E37 -> 69787.18 | C13: ='Prihodi po ek klas i izvorima'!F37 -> 47500 | D13: ='Prihodi po ek klas i izvorima'!G37 -> 58500 | E13: ='Prihodi po ek klas i izvorima'!H37 -> 62375 | F13: ='Prihodi po ek klas i izvorima'!I37 -> 65369
A14: 43 Ostali prihodi | B14: ='Prihodi po ek klas i izvorima'!E49 -> 712.71 | C14: ='Prihodi po ek klas i izvorima'!F49 -> 3000 | D14: ='Prihodi po ek klas i izvorima'!G49 -> 3000 | E14: ='Prihodi po ek klas i izvorima'!H49 -> 3000 | F14: ='Prihodi po ek klas i izvorima'!I49 -> 3000
A15: 4 Pomoći | B15: =B16 -> 331632.4 | C15: =C16 -> 412013.95 | D15: =D16 -> 231423.83 | E15: =E16 -> 171724.49 | F15: =F16 -> 171724.49
A16: 52 Ostale pomoći | B16: ='Prihodi po ek klas i izvorima'!E54 -> 331632.4 | C16: ='Prihodi po ek klas i izvorima'!F54 -> 412013.95 | D16: ='Prihodi po ek klas i izvorima'!G54 -> 231423.83 | E16: ='Prihodi po ek klas i izvorima'!H54 -> 171724.49 | F16: ='Prihodi po ek klas i izvorima'!I54 -> 171724.49
A17: 5 Donacije | B17: =B18 -> 3957.25 | C17: =C18 -> 50500 | D17: =D18 -> 1000 | E17: =E18 -> 1200 | F17: =F18 -> 1400
A18: 61 Donacije | B18: ='Prihodi po ek klas i izvorima'!E79 -> 3957.25 | C18: ='Prihodi po ek klas i izvorima'!F79 -> 50500 | D18: ='Prihodi po ek klas i izvorima'!G79 -> 1000 | E18: ='Prihodi po ek klas i izvorima'!H79 -> 1200 | F18: ='Prihodi po ek klas i izvorima'!I79 -> 1400
A19: 6 Prihodi od nefinancijske imovine i naknade štete s naslova osiguranja | B19: =B20 -> 8798.23 | C19: =C20 -> 6300 | D19: =D20 -> 5500 | E19: =E20 -> 5775 | F19: =F20 -> 6064
A20: 71 Prihodi od nefinancijske imovine i naknade štete s naslova osiguranja | B20: ='Prihodi po ek klas i izvorima'!E84+'Prihodi po ek klas i izvorima'!E92 -> 8798.23 | C20: ='Prihodi po ek klas i izvorima'!F84+'Prihodi po ek klas i izvorima'!F92 -> 6300 | D20: ='Prihodi po ek klas i izvorima'!G84+'Prihodi po ek klas i izvorima'!G92 -> 5500 | E20: ='Prihodi po ek klas i izvorima'!H84+'Prihodi po ek klas i izvorima'!H92 -> 5775 | F20: ='Prihodi po ek klas i izvorima'!I84+'Prihodi po ek klas i izvorima'!I92 -> 6064
A23: UKUPNO RASHODI | B23: =B24+B26+B28+B30+B32+B34 -> 5931700.2 | C23: =C24+C26+C28+C30+C32+C34 -> 4614031.8 | D23: =D24+D26+D28+D30+D32+D34 -> 5674498.2 | E23: =E24+E26+E28+E30+E32+E34 -> 5750359.6 | F23: =F24+F26+F28+F30+F32+F34 -> 5794611.3
A24: 1 Opći prihodi i primici | B24: =B25 -> 397160.43 | C24: =C25 -> 561264.02 | D24: =D25 -> 358264.02 | E24: =E25 -> 358264.02 | F24: =F25 -> 358264.02
A25: 11 Opći prihodi i primici | B25: =' PRIHODI I RASHODI-izvori'!E74 -> 397160.43 | C25: =' PRIHODI I RASHODI-izvori'!F74 -> 561264.02 | D25: =' PRIHODI I RASHODI-izvori'!G74 -> 358264.02 | E25: =' PRIHODI I RASHODI-izvori'!H74 -> 358264.02 | F25: =' PRIHODI I RASHODI-izvori'!I74 -> 358264.02
A26: 2 Vlastiti prihodi | B26: =B27 -> 140194.37 | C26: =C27 -> 163116.33 | D26: =D27 -> 163116.33 | E26: =E27 -> 163116.33 | F26: =F27 -> 163116.33
A27: 31 Vlastiti prihodi | B27: =' PRIHODI I RASHODI-izvori'!E180 -> 140194.37 | C27: =' PRIHODI I RASHODI-izvori'!F180 -> 163116.33 | D27: =' PRIHODI I RASHODI-izvori'!G180 -> 163116.33 | E27: =' PRIHODI I RASHODI-izvori'!H180 -> 163116.33 | F27: =' PRIHODI I RASHODI-izvori'!I180 -> 163116.33
A28: 3 Prihodi za posebne namjene | B28: =B29 -> 4777402.3 | C28: =C29 -> 3705637.5 | D28: =D29 -> 4915694 | E28: =E29 -> 5005105.4 | F28: =F29 -> 5094606.5
A29: 43 Prihodi za posebne namjene | B29: =' PRIHODI I RASHODI-izvori'!E366 -> 4777402.3 | C29: =' PRIHODI I RASHODI-izvori'!F366 -> 3705637.5 | D29: =' PRIHODI I RASHODI-izvori'!G366 -> 4915694 | E29: =' PRIHODI I RASHODI-izvori'!H366 -> 5005105.4 | F29: =' PRIHODI I RASHODI-izvori'!I366 -> 5094606.5
A30: 4 Pomoći | B30: =B31 -> 604187.62 | C30: =C31 -> 128013.95 | D30: =D31 -> 230923.83 | E30: =E31 -> 216923.83 | F30: =F31 -> 171224.49
A31: 52 Ostale pomoći | B31: =' PRIHODI I RASHODI-izvori'!E422 -> 604187.62 | C31: =' PRIHODI I RASHODI-izvori'!F422 -> 128013.95 | D31: =' PRIHODI I RASHODI-izvori'!G422 -> 230923.83 | E31: =' PRIHODI I RASHODI-izvori'!H422 -> 216923.83 | F31: =' PRIHODI I RASHODI-izvori'!I422 -> 171224.49
A32: 5 Donacije | B32: =B33 -> 3957.25 | C32: =C33 -> 50500 | D32: =D33 -> 1000 | E32: =E33 -> 1200 | F32: =F33 -> 1400
A33: 61 Donacije | B33: =' PRIHODI I RASHODI-izvori'!E473 -> 3957.25 | C33: =' PRIHODI I RASHODI-izvori'!F473 -> 50500 | D33: =' PRIHODI I RASHODI-izvori'!G473 -> 1000 | E33: =' PRIHODI I RASHODI-izvori'!H473 -> 1200 | F33: =' PRIHODI I RASHODI-izvori'!I473 -> 1400
A34: 6 Prihodi od nefinancijske imovine i naknade štete s naslova osiguranja | B34: =B35 -> 8798.23 | C34: =C35 -> 5500 | D34: =D35 -> 5500 | E34: =E35 -> 5750 | F34: =F35 -> 6000
A35: 71 Prihodi od nefinancijske imovine i naknade štete s naslova osiguranja | B35: =' PRIHODI I RASHODI-izvori'!E492 -> 8798.23 | C35: =' PRIHODI I RASHODI-izvori'!F492 -> 5500 | D35: =' PRIHODI I RASHODI-izvori'!G492 -> 5500 | E35: =' PRIHODI I RASHODI-izvori'!H492 -> 5750 | F35: =' PRIHODI I RASHODI-izvori'!I492 -> 6000

Sheet RASHODI-funkcijska
A2: I. OPĆI DIO
A4: A. RAČUN PRIHODA I RASHODA
A6: IZVJEŠTAJ O RASHODIMA PREMA FUNKCIJSKOJ KLASIFIKACIJI
A8: BROJČANA OZNAKA I NAZIV | B8: IZVRŠENJE 2024. | C8: TEKUĆI PLAN ZA 2025. | D8: PLAN ZA 2026. | E8: PROJEKCIJA ZA 2027. | F8: PROJEKCIJA ZA 2028.
A9: 1 | B9: 2 | C9: 3 | D9: 4 | E9: 5 | F9: 6
A10: UKUPNO RASHODI | B10: ='RASHODI-ek.kl.'!D245 -> 5931700.2 | C10: ='RASHODI-ek.kl.'!E245 -> 4614031.8 | D10: ='RASHODI-ek.kl.'!F245 -> 5674498.2 | E10: ='RASHODI-ek.kl.'!G245 -> 5750359.6 | F10: ='RASHODI-ek.kl.'!H245 -> 5794611.3
A11: 07 Zdravstvo | B11: =B12 -> 5931700.2 | C11: =C12 -> 4614031.8 | D11: =D12 -> 5674498.2 | E11: =E12 -> 5750359.6 | F11: =F12 -> 5794611.3
A12: 072 Služba za vanjske pacijente | B12: =B13+B14+B15 -> 5931700.2 | C12: =C13+C14+C15 -> 4614031.8 | D12: =D13+D14+D15 -> 5674498.2 | E12: =E13+E14+E15 -> 5750359.6 | F12: =F13+F14+F15 -> 5794611.3
A13: 0721 Opće medicinske usluge | B13: =ROUND(B10*0.6,2) -> 3559020.1 | C13: =ROUND(C10*0.6,2) -> 2768419.1 | D13: =ROUND(D10*0.6,2) -> 3404698.9 | E13: =ROUND(E10*0.6,2) -> 3450215.8 | F13: =ROUND(F10*0.6,2) -> 3476766.8
A14: 0722 Specijalističke med. usluge | B14: =ROUND(B10*0.15,2) -> 889755.03 | C14: =ROUND(C10*0.15,2) -> 692104.77 | D14: =ROUND(D10*0.15,2) -> 851174.73 | E14: =ROUND(E10*0.15,2) -> 862553.94 | F14: =ROUND(F10*0.15,2) -> 869191.7
A15: 0723 Zubarske usluge | B15: =ROUND(B10*0.25,2) -> 1482925 | C15: =ROUND(C10*0.25,2) -> 1153507.9 | D15: =ROUND(D10*0.25,2) -> 1418624.6 | E15: =ROUND(E10*0.25,2) -> 1437589.9 | F15: =ROUND(F10*0.25,2) -> 1448652.8
A16: 073 Bolničke službe | D16: =D17 -> 0 | E16: =E17 -> 0 | F16: =F17 -> 0
A17: 0731 Usluge općih bolnica
A18: 074 Službe javnog zdravstva | D18: 0 | E18: 0 | F18: 0

Sheet Rekapitulacija Posebni dio
A1: II. POSEBNI DIO
A2: Rashodi i izdaci po izvorima financiranja i ekonomskoj klasifikaciji raspoređenih u programe, aktivnosti i projekte
A4: Šifra | B4: Naziv | C4: IZVRŠENJE 2024. | D4: TEKUĆI PLAN ZA 2025. | E4: PLAN ZA 2026. | F4: PROJEKCIJA ZA 2027. | G4: PROJEKCIJA ZA 2028.
A5: PROGRAM | B5: RAD I RAZVOJ USTANOVE | C5: =C7+C194+C295+C338+C354+C374+C382+C428+C434+C445+C491+C510+C529+C548+C577+C608+C648+C691 -> 5931700.2 | D5: =D7+D194+D295+D338+D354+D374+D382+D428+D434+D445+D491+D510+D529+D548+D577+D608+D648+D691 -> 4614031.8 | E5: =E7+E194+E295+E338+E354+E374+E382+E428+E434+E445+E491+E510+E529+E548+E577+E608+E648+E691 -> 5674498.2 | F5: =F7+F194+F295+F338+F354+F374+F382+F428+F434+F445+F491+F510+F529+F548+F577+F608+F648+F691 -> 5750359.6 | G5: =G7+G194+G295+G338+G354+G374+G382+G428+G434+G445+G491+G510+G529+G548+G577+G608+G648+G691 -> 5794611.3
A6: AKTIVNOST | B6: Redovna djelatnost | C6: =C7+C194+C295+C338+C354+C374+C382+C428+C434 -> 4952099.2 | D6: =D7+D194+D295+D338+D354+D374+D382+D428+D434 -> 4193568.4 | E6: =E7+E194+E295+E338+E354+E374+E382+E428+E434 -> 5153625 | F6: =F7+F194+F295+F338+F354+F374+F382+F428+F434 -> 5243486.4 | G6: =G7+G194+G295+G338+G354+G374+G382+G428+G434 -> 5333437.4
A7: 43 | B7: Ostali prihodi za posebne namjene | C7: =C8+C159 -> 4777402.3 | D7: =D8+D159 -> 3705637.5 | E7: =E8+E159 -> 4915694 | F7: =F8+F159 -> 5005105.4 | G7: =G8+G159 -> 5094606.5
A8: 3 | B8: Rashodi poslovanja | C8: =C9+C32+C128+C140+C143+C148 -> 4756406.2 | D8: =D9+D32+D128+D140+D143+D148 -> 3580125.3 | E8: =E9+E32+E128+E140+E143+E148 -> 4830321.8 | F8: =F9+F32+F128+F140+F143+F148 -> 4916783.1 | G8: =G9+G32+G128+G140+G143+G148 -> 5003334.2
A9: 31 | B9: Rashodi za zaposlene | C9: =C10+C19+C27 -> 4058051.6 | D9: =D10+D19+D27 -> 3002112.3 | E9: =E10+E19+E27 -> 4115156.1 | F9: =F10+F19+F27 -> 4155283.6 | G9: =G10+G19+G27 -> 4195288.8
A10: 311 | B10: Plaće | C10: =C11+C14+C15+C17 -> 3379334.8 | D10: =D11+D14+D15+D17 -> 2505491.4 | E10: =E11+E14+E15+E17 -> 3451867.3 | F10: =F11+F14+F15+F17 -> 3484044.8 | G10: =G11+G14+G15+G17 -> 3516000
A11: 3111 | B11: Plaće za redovan rad | C11: =SUM(C12:C13) -> 3257753.1 | D11: =SUM(D12:D13) -> 2456384 | E11: =SUM(E12:E13) -> 3371867.3 | F11: =SUM(F12:F13) -> 3402044.8 | G11: =SUM(G12:G13) -> 3432000
A12: 31111 | B12: Plaće za redovan rad | C12: 3256037.1 | D12: 2451384 | E12: 3370067.3 | F12: 3400144.8 | G12: 3430000
A13: 31113 | B13: Plaće po sudskim presudama | C13: 1715.99 | D13: 5000 | E13: 1800 | F13: 1900 | G13: 2000
A14: 3112 | B14: Plaće u naravi
A15: 3113 | B15: Plaće za prekovremeni rad | C15: =SUM(C16) -> 79831.87 | D15: =SUM(D16) -> 49107.44 | E15: =SUM(E16) -> 80000 | F15: =SUM(F16) -> 82000 | G15: =SUM(G16) -> 84000
A16: 31131 | B16: Plaće za prekovremeni rad | C16: 79831.87 | D16: 49107.44 | E16: 80000 | F16: 82000 | G16: 84000
A17: 3114 | B17: Plaće za posebne uvjete rada | C17: =SUM(C18) -> 41749.86 | D17: =SUM(D18) -> 0 | E17: =SUM(E18) -> 0 | F17: =SUM(F18) -> 0 | G17: =SUM(G18) -> 0
A18: 31141 | B18: Plaće za posebne uvjete rada | C18: 41749.86 | D18: 0 | E18: 0 | F18: 0 | G18: 0
A19: 312 | B19: Ostali rashodi za zaposlene | C19: =C20 -> 142684.44 | D19: =D20 -> 123214.88 | E19: =E20 -> 126800 | F19: =F20 -> 132750 | G19: =G20 -> 138800
A20: 3121 | B20: Ostali rashodi za zaposlene | C20: =SUM(C21:C26) -> 142684.44 | D20: =SUM(D21:D26) -> 123214.88 | E20: =SUM(E21:E26) -> 126800 | F20: =SUM(F21:F26) -> 132750 | G20: =SUM(G21:G26) -> 138800
A21: 31212 | B21: Ostali rashodi za zaposlene-nagrade | C21: 32979.2 | D21: 13000 | E21: 28000 | F21: 29500 | G21: 31000
A22: 31213 | B22: Darovi | C22: 30736.17 | D22: 25000 | E22: 26000 | F22: 27000 | G22: 28000
A23: 31214 | B23: Otpremnine | C23: 0 | D23: 2000 | E23: 2000 | F23: 2250 | G23: 2500
A24: 31215 | B24: Naknade za bolest, invalidnost i smrt | C24: 4022.98 | D24: 3800 | E24: 3800 | F24: 4000 | G24: 4300
A25: 31216 | B25: Regres za godišnji odmor | C25: 39600 | D25: 40000 | E25: 35000 | F25: 36500 | G25: 38000
A26: 31219 | B26: Ostali nenavedeni rashodi za zaposlene | C26: 35346.09 | D26: =123214.88-D21-D22-D23-D24-D25 -> 39414.88 | E26: 32000 | F26: 33500 | G26: 35000
A27: 313 | B27: Doprinosi na plaće | C27: =C28+C30 -> 536032.32 | D27: =D28+D30 -> 373406 | E27: =E28+E30 -> 536488.84 | F27: =F28+F30 -> 538488.84 | G27: =G28+G30 -> 540488.84
A28: 3132 | B28: Doprinosi za obvezno zdravstveno osiguranje | C28: =SUM(C29) -> 535994.58 | D28: =SUM(D29) -> 373406 | E28: =SUM(E29) -> 536488.84 | F28: =SUM(F29) -> 538488.84 | G28: =SUM(G29) -> 540488.84
A29: 31321 | B29: Doprinosi za obvezno zdravstveno osiguranje | C29: 535994.58 | D29: 373406 | E29: 536488.84 | F29: 538488.84 | G29: 540488.84
A30: 3133 | B30: Doprinosi za zapošljavanje | C30: =C31 -> 37.74 | D30: =D31 -> 0 | E30: =E31 -> 0 | F30: =F31 -> 0 | G30: =G31 -> 0
A31: 31332 | B31: Doprinosi u slučaju nezaposlenosti | C31: 37.74 | D31: 0
A32: 32 | B32: Materijalni rashodi | C32: =C33+C45+C70+C101+C104+C108 -> 682391.78 | D32: =D33+D45+D70+D101+D104+D108 -> 565540.49 | E32: =E33+E45+E70+E101+E104+E108 -> 705690.62 | F32: =F33+F45+F70+F101+F104+F108 -> 751729.52 | G32: =G33+G45+G70+G101+G104+G108 -> 797980.37
A33: 321 | B33: Naknade troškova zaposlenima | C33: =C34+C38+C40+C43 -> 100222.78 | D33: =D34+D38+D40+D43 -> 106441.57 | E33: =E34+E38+E40+E43 -> 82594.29 | F33: =F34+F38+F40+F43 -> 85033.19 | G33: =G34+G38+G40+G43 -> 87584.04
A34: 3211 | B34: Službena putovanja | C34: =SUM(C35:C37) -> 3262.24 | D34: =SUM(D35:D37) -> 18977.24 | E34: =SUM(E35:E37) -> 4000 | F34: =SUM(F35:F37) -> 4250 | G34: =SUM(G35:G37) -> 4500
A35: 32111 | B35: Dnevnice za službeni put u zemlji | C35: 2952.75 | D35: 11800 | E35: 3000 | F35: 3100 | G35: 3200
A36: 32113 | B36: Naknade za smještaj na službenom putu u zemlji | C36: 0 | D36: 700 | E36: 500 | F36: 550 | G36: 600
A37: 32115 | B37: Naknade za prijevoz na službenom putu u zemlji | C37: 309.49 | D37: =18977.24-D35-D36 -> 6477.24 | E37: 500 | F37: 600 | G37: 700
A38: 3212 | B38: Naknade za prijevoz, za rad na terenu i odvojeni život | C38: =SUM(C39) -> 92041.02 | D38: =SUM(D39) -> 82288.14 | E38: =SUM(E39) -> 74716.27 | F38: =SUM(F39) -> 76716.27 | G38: =SUM(G39) -> 78716.27
A39: 32121 | B39: Naknade za prijevoz, za rad na terenu i odvojeni život | C39: 92041.02 | D39: 82288.14 | E39: 74716.27 | F39: 76716.27 | G39: 78716.27
A40: 3213 | B40: Stručno usavršavanje zaposlenih | C40: =SUM(C41:C42) -> 4919.52 | D40: =SUM(D41:D42) -> 4778.02 | E40: =SUM(E41:E42) -> 3678.02 | F40: =SUM(F41:F42) -> 3866.92 | G40: =SUM(G41:G42) -> 4167.77
A41: 32131 | B41: Seminari, savjetovanja i simpoziji | C41: 1080 | D41: 2200 | E41: 1100 | F41: 1200 | G41: 1300
...
