Workbook

Sheet SAŽETAK
B1: IZVJEŠTAJ O IZVRŠENJU FINANCIJSKOG PLANA DOMA ZDRAVLJA VUKOVAR ZA RAZDOBLJE OD 01.01. DO 30.06.2025. GODINE
B3: I. OPĆI DIO
B5: SAŽETAK RAČUNA PRIHODA I RASHODA I RAČUNA FINANCIRANJA
B7: SAŽETAK RAČUNA PRIHODA I RASHODA | K7: EUR | L7: EUR
B8: BROJČANA OZNAKA I NAZIV | G8: OSTVARENJE/IZVRŠENJE 1.-6.2024. | H8: IZVORNI PLAN ZA 2025. | I8: TEKUĆI PLAN 2025. | J8: OSTVARENJE/IZVRŠENJE 1.-6.2025. | K8: Indeks | L8: Indeks
B9: 1 | G9: 2 | H9: 3 | I9: 4 | J9: 5 | K9: 6=5/3*100 | L9: 6=5/4*100
B10: PRIHODI UKUPNO | G10: =G11+G12 -> 2228337.5 | H10: =H11+H12 -> 4702255.6 | I10: =I11+I12 -> 4988957.9 | J10: =J11+J12 -> 2608890.3 | K10: =J10/H10*100 -> 55.481678 | L10: =J10/I10*100 -> 52.293292
B11: 6 PRIHODI POSLOVANJA | G11: ='Prihodi po ekonomskoj klas'!D10 -> 2228337.5 | H11: ='Prihodi po ekonomskoj klas'!E10 -> 4702255.6 | I11: ='Prihodi po ekonomskoj klas'!F10 -> 4988157.9 | J11: ='Prihodi po ekonomskoj klas'!G10 -> 2608090.3 | K11: =J11/H11*100 -> 55.464665 | L11: =J11/I11*100 -> 52.28564
B12: 7 PRIHODI OD PRODAJE NEFINANCIJSKE IMOVINE | G12: ='Prihodi po ekonomskoj klas'!D70 -> 0 | H12: ='Prihodi po ekonomskoj klas'!E70 -> 0 | I12: ='Prihodi po ekonomskoj klas'!F70 -> 800 | J12: ='Prihodi po ekonomskoj klas'!G70 -> 800 | K12: =I12/H12*100 -> #DIV/0! | L12: =J12/I12*100 -> 100
B13: RASHODI UKUPNO | G13: =G14+G15 -> 2650450.5 | H13: =H14+H15 -> 4725934.6 | I13: =I14+I15 -> 4614031.8 | J13: =J14+J15 -> 2566545.1 | K13: =J13/H13*100 -> 54.307673 | L13: =J13/I13*100 -> 55.624781
B14: 3 RASHODI POSLOVANJA | G14: ='RASHODI-ek.kl.'!D57 -> 2567146.6 | H14: ='RASHODI-ek.kl.'!E57 -> 4299508.7 | I14: ='RASHODI-ek.kl.'!F57 -> 4244329.6 | J14: ='RASHODI-ek.kl.'!G57 -> 2396625.1 | K14: =J14/H14*100 -> 55.741836 | L14: =J14/I14*100 -> 56.466517
B15: 4 RASHODI ZA NABAVU NEFINANCIJSKE IMOVINE | G15: ='RASHODI-ek.kl.'!D212 -> 83303.89 | H15: ='RASHODI-ek.kl.'!E212 -> 426425.88 | I15: ='RASHODI-ek.kl.'!F212 -> 369702.17 | J15: ='RASHODI-ek.kl.'!G212 -> 169919.99 | K15: =J15/H15*100 -> 39.847485 | L15: =J15/I15*100 -> 45.961318
B16: RAZLIKA - VIŠAK MANJAK | G16: =G10-G13 -> -422112.9 | H16: =H10-H13 -> -23678.94 | I16: =I10-I13 -> 374926.15 | J16: =J10-J13 -> 42345.24 | K16: =-J16/H16*100 -> 178.83081 | L16: =J16/I16*100 -> 11.294288
B18: SAŽETAK RAČUNA FINANCIRANJA
B19: BROJČANA OZNAKA I NAZIV | G19: OSTVARENJE/IZVRŠENJE 1.-6.2024. | H19: IZVORNI PLAN ZA 2025. | I19: TEKUĆI PLAN 2025. | J19: OSTVARENJE/IZVRŠENJE 1.-6.2025. | K19: Indeks | L19: Indeks
B20: 1 | G20: 2 | H20: 3 | I20: 4 | J20: 5 | K20: 6 | L20: 7
B21: 8 PRIMICI OD FINANCIJSKE IMOVINE I ZADUŽIVANJA
B22: 5 IZDACI ZA FINANCIJSKU IMOVINU I OTPLATE ZAJMOVA
B23: RAZLIKA PRIMITAKA I IZDATAKA
B25: PRENESENI VIŠAK ILI PRENESENI MANJAK
B26: BROJČANA OZNAKA I NAZIV | G26: OSTVARENJE/IZVRŠENJE 1.-6.2024. | H26: IZVORNI PLAN ZA 2025. | I26: TEKUĆI PLAN 2025. | J26: OSTVARENJE/IZVRŠENJE 1.-6.2025. | K26: Indeks | L26: Indeks
B27: PRENESENI VIŠAK / MANJAK IZ PRETHODNE(IH) GODINE | H27: -830702.87 | I27: -830702.87 | J27: -830702.87 | L27: 0
B28: VIŠAK/MANJAK IZ PRETHODNE GODINE KOJI ĆE SE RASPOREDITI/POKRITI | G28: =G16+G27 -> -422112.9 | H28: =H16+H27 -> -854381.81 | I28: =I27+I16 -> -455776.72 | J28: =J27+J16 -> -788357.63 | L28: 0

Sheet Prihodi po ekonomskoj klas
A2: I. OPĆI DIO
A4: A. RAČUN PRIHODA
A6: PRIHODI PREMA EKONOMSKOJ KLASIFIKACIJI
A8: PRIHODI POSLOVANJA
A9: Razred | B9: Skupina/podskupina/odjeljak | C9: Naziv | D9: OSTVARENJE/IZVRŠENJE 1.-6.2024. | E9: IZVORNI PLAN ZA 2025. | F9: TEKUĆI PLAN 2025. | G9: Izvršenje tekuće godine I.-VI.2025.
A10: 6 | D10: =D11+D33+D40+D47+D57+D66 -> 2228337.5 | E10: =E11+E33+E40+E47+E57+E66 -> 4702255.6 | F10: =F11+F33+F40+F47+F57+F66 -> 4988157.9 | G10: =G11+G33+G40+G47+G57+G66 -> 2608090.3
B11: 63 | C11: Pomoći | D11: =D12+D14+D19+D22+D27+D31 -> 15048.23 | E11: =E12+E14+E19+E22+E27+E31 -> 128013.95 | F11: =F12+F14+F19+F22+F27+F31 -> 472013.95 | G11: =G12+G14+G19+G22+G27+G31 -> 293965.23 | I11: SAVJET: PRVO POPUNITE PRETHODNI LIST
B12: 632 | C12: Pomoći od međunaodnih organizacija te institucija i tijela EU | D12: =SUM(D13) -> 0 | E12: =SUM(E13) -> 0 | F12: =SUM(F13) -> 0 | G12: =SUM(G13) -> 0
B13: 6324 | C13: Kapitalne pomoći od instucija i tijela EU | D13: 0 | E13: 0 | F13: 0 | G13: 0
B14: 633 | C14: Pomoć proračunu iz drugih proračuna | D14: =D15+D18 -> 600 | E14: =E15+E18 -> 0 | F14: =F15+F18 -> 60000 | G14: =G15+G18 -> 0 | I14: OVA TABLICA AUTOMATSKI POVLAČI IZNOSE IZ PRETHODNOG LISTA (PRIHODI PO EK KLAS I IZVORIMA)
B15: 6331 | C15: Tekuća pomoć proračunu iz drugih proračuna | D15: =SUM(D17) -> 600 | E15: =SUM(E17) -> 0 | F15: =SUM(F16:F17) -> 60000 | G15: =SUM(G16:G17) -> 0 | I15: UKOLIKO STE U PRVOM LISTU DODAVALI RAČUNE MORATI ĆETE I U OVOME LISTU NAPRAVITI IZMJENE U FORMULI RAČUNA NA KOJI SE IZMJENA ODNOSI
B16: 63312 | C16: Tekuće potpore iz županijskog proračuna | F16: ='Prihodi po ek klas i izvorima'!G19 -> 60000 | G16: ='Prihodi po ek klas i izvorima'!H19 -> 0
B17: 63313 | C17: Tekuće potpore iz gradskog proračuna | D17: ='Prihodi po ek klas i izvorima'!E20 -> 600 | E17: ='Prihodi po ek klas i izvorima'!F20 -> 0 | F17: ='Prihodi po ek klas i izvorima'!G20 -> 0 | G17: ='Prihodi po ek klas i izvorima'!H20 -> 0
B18: 6332 | C18: Kapitalna pomoć proračunu iz drugih proračuna | D18: ='Prihodi po ek klas i izvorima'!E21 -> 0 | E18: ='Prihodi po ek klas i izvorima'!F21 -> 0 | F18: ='Prihodi po ek klas i izvorima'!G21 -> 0 | G18: ='Prihodi po ek klas i izvorima'!H21 -> 0
B19: 634 | C19: Pomoći od izvanproračunskih korisnika | D19: =SUM(D20) -> 0 | E19: =SUM(E20) -> 68314.61 | F19: =SUM(F20) -> 68314.61 | G19: =SUM(G20) -> 0
B20: 6341 | C20: Tekuće pomoći od izvanproračunskih korisnika | D20: =D21 -> 0 | E20: =E21 -> 68314.61 | F20: =F21 -> 68314.61 | G20: =G21 -> 0
B21: 63414 | C21: Tekuće pomoći od izvanproračunskih korisnika | D21: ='Prihodi po ek klas i izvorima'!E24 -> 0 | E21: ='Prihodi po ek klas i izvorima'!F24 -> 68314.61 | F21: ='Prihodi po ek klas i izvorima'!G24 -> 68314.61 | G21: ='Prihodi po ek klas i izvorima'!H24 -> 0
B22: 636 | C22: Pomoć proračunskim korisnicima iz prorač.koji im nije nadležan | D22: =SUM(D23) -> 0 | E22: =SUM(E23) -> 14000 | F22: =F23+F25 -> 298000 | G22: =G23+G25 -> 284000
B23: 6361 | C23: Tekuće pomoći iz državnog prorač. prorač.korisnicima JLP(R)S | D23: =D24 -> 0 | E23: =E24 -> 14000 | F23: =F24 -> 14000 | G23: =G24 -> 0
B24: 63612 | C24: Tekuće pomoći iz državnog prorač. prorač.korisnicima JLP(R)S | D24: ='Prihodi po ek klas i izvorima'!E27 -> 0 | E24: ='Prihodi po ek klas i izvorima'!F27 -> 14000 | F24: ='Prihodi po ek klas i izvorima'!G27 -> 14000 | G24: ='Prihodi po ek klas i izvorima'!H27 -> 0
B25: 6362 | C25: Kapitalne pomoći iz državnog proračuna proračunskim korisnicima JLP(R)S | F25: =F26 -> 284000 | G25: =G26 -> 284000
B26: 63622 | C26: Kapitalne pomoći iz državnog proračuna proračunskim korisnicima JLP(R)S | F26: ='Prihodi po ek klas i izvorima'!G29 -> 284000 | G26: ='Prihodi po ek klas i izvorima'!H29 -> 284000
B27: 638 | C27: Pomoć temeljem prijenosa EU | D27: =D28+D30 -> 14448.23 | E27: =E28+E30 -> 45699.34 | F27: =F28+F30 -> 45699.34 | G27: =G28+G30 -> 9965.23
B28: 6381 | C28: Tekuće pomoći temeljem prijenosa EU sredstava | D28: =SUM(D29) -> 14448.23 | E28: =SUM(E29) -> 45699.34 | F28: =SUM(F29) -> 45699.34 | G28: =SUM(G29) -> 9965.23
B29: 63814 | C29: Tekuće pomoći temeljem prijenosa EU sredstava | D29: ='Prihodi po ek klas i izvorima'!E32 -> 14448.23 | E29: ='Prihodi po ek klas i izvorima'!F32 -> 45699.34 | F29: ='Prihodi po ek klas i izvorima'!G32 -> 45699.34 | G29: ='Prihodi po ek klas i izvorima'!H32 -> 9965.23
B30: 6382 | C30: kapitalna pomoć temeljem prijenosa EU | D30: ='Prihodi po ek klas i izvorima'!E33 -> 0 | E30: ='Prihodi po ek klas i izvorima'!F33 -> 0 | F30: ='Prihodi po ek klas i izvorima'!G33 -> 0 | G30: ='Prihodi po ek klas i izvorima'!H33 -> 0
B31: 639 | C31: Prijenosi između proračunskih korisnika | D31: =SUM(D32) -> 0 | E31: =SUM(E32) -> 0 | F31: =SUM(F32) -> 0 | G31: =SUM(G32) -> 0
B32: 6391 | C32: Tekući prijenosi između proračunskih korisnika | D32: ='Prihodi po ek klas i izvorima'!E35 -> 0 | E32: ='Prihodi po ek klas i izvorima'!F35 -> 0 | F32: ='Prihodi po ek klas i izvorima'!G35 -> 0 | G32: ='Prihodi po ek klas i izvorima'!H35 -> 0
B33: 64 | C33: Prihodi od imovine | D33: =D34+D36+D38+D39 -> 34.92 | E33: =E34+E36+E38+E39 -> 200 | F33: =F34+F36+F38+F39 -> 200 | G33: =G34+G36+G38+G39 -> 2.74
B34: 6413 | C34: Kamate na oročena sredstva i depozite po viđenju | D34: =SUM(D35) -> 18.17 | E34: =SUM(E35) -> 200 | F34: =SUM(F35) -> 200 | G34: =SUM(G35) -> 2.74
B35: 64132 | C35: Kamate na oročena sredstva i depozite po viđenju | D35: ='Prihodi po ek klas i izvorima'!E61 -> 18.17 | E35: ='Prihodi po ek klas i izvorima'!F61 -> 200 | F35: ='Prihodi po ek klas i izvorima'!G61 -> 200 | G35: ='Prihodi po ek klas i izvorima'!H61 -> 2.74
B36: 6414 | C36: Prihodi od zateznih kamata | D36: =SUM(D37) -> 16.75 | E36: =SUM(E37) -> 0 | F36: =SUM(F37) -> 0 | G36: =SUM(G37) -> 0
B37: 64143 | C37: Prihodi od zateznih kamata | D37: ='Prihodi po ek klas i izvorima'!E63 -> 16.75 | E37: ='Prihodi po ek klas i izvorima'!F63 -> 0 | F37: ='Prihodi po ek klas i izvorima'!G63 -> 0 | G37: ='Prihodi po ek klas i izvorima'!H63 -> 0
B38: 6419 | C38: Ostali prihode o financijske imovine | D38: ='Prihodi po ek klas i izvorima'!E39+'Prihodi po ek klas i izvorima'!E64 -> 0 | E38: ='Prihodi po ek klas i izvorima'!F39+'Prihodi po ek klas i izvorima'!F64 -> 0 | F38: ='Prihodi po ek klas i izvorima'!G39+'Prihodi po ek klas i izvorima'!G64 -> 0 | G38: ='Prihodi po ek klas i izvorima'!H39+'Prihodi po ek klas i izvorima'!H64 -> 0
B39: 6429 | C39: Ostali prihodi od nefinancijske imovine | D39: ='Prihodi po ek klas i izvorima'!E65 -> 0 | E39: ='Prihodi po ek klas i izvorima'!F65 -> 0 | F39: ='Prihodi po ek klas i izvorima'!G65 -> 0 | G39: ='Prihodi po ek klas i izvorima'!H65 -> 0
B40: 65 | C40: Prihodi po posebnim propisima | D40: =D41 -> 31193.51 | E40: =E41 -> 53000 | F40: =F41 -> 53000 | G40: =G41 -> 24794.35
B41: 652 | C41: Prihodi po posebnim propisima | D41: =SUM(D42) -> 31193.51 | E41: =SUM(E42) -> 53000 | F41: =SUM(F42) -> 53000 | G41: =SUM(G42) -> 24794.35
B42: 6526 | C42: Ostali nespomenuti prihodi (participacija) | D42: =SUM(D43:D46) -> 31193.51 | E42: =SUM(E43:E46) -> 53000 | F42: =SUM(F43:F46) -> 53000 | G42: =SUM(G43:G46) -> 24794.35
B43: 65264 | C43: Sufinanciranje cijene usluge, participacija | D43: ='Prihodi po ek klas i izvorima'!E43 -> 27405.34 | E43: ='Prihodi po ek klas i izvorima'!F43 -> 44000 | F43: ='Prihodi po ek klas i izvorima'!G43 -> 14000 | G43: ='Prihodi po ek klas i izvorima'!H43 -> 0
B44: 65265 | C44: Dopunsko osiguranje | D44: ='Prihodi po ek klas i izvorima'!E44 -> 0 | E44: ='Prihodi po ek klas i izvorima'!F44 -> 0 | F44: ='Prihodi po ek klas i izvorima'!G44 -> 30000 | G44: ='Prihodi po ek klas i izvorima'!H44 -> 23644.07
B45: 65267 | C45: Prihodi od osiguranja i refundacije štete | D45: ='Prihodi po ek klas i izvorima'!E85 -> 3788.17 | E45: ='Prihodi po ek klas i izvorima'!F85 -> 5500 | F45: ='Prihodi po ek klas i izvorima'!G85 -> 5500 | G45: ='Prihodi po ek klas i izvorima'!H85 -> 1150.28
B46: 65269 | C46: Refundacija plaća specijalizanata | D46: ='Prihodi po ek klas i izvorima'!E45 -> 0 | E46: ='Prihodi po ek klas i izvorima'!F45 -> 3500 | F46: ='Prihodi po ek klas i izvorima'!G45 -> 3500 | G46: ='Prihodi po ek klas i izvorima'!H45 -> 0
B47: 66 | C47: Prihodi od prodaje i donacija | D47: =D48+D53 -> 77725.18 | E47: =E48+E53 -> 249583.29 | F47: =F48+F53 -> 249583.29 | G47: =G48+G53 -> 70068.47
B48: 661 | C48: Prihodi od prodaje roba i pruženih usluga (vlastiti prihodi) | D48: =SUM(D49:D50) -> 73917.93 | E48: =SUM(E49:E50) -> 199083.29 | F48: =SUM(F49:F50) -> 199083.29 | G48: =SUM(G49:G50) -> 70068.47
B49: 6614 | C49: Prihodi od prodaje proizvoda i robe | D49: ='Prihodi po ek klas i izvorima'!E68 -> 0 | E49: ='Prihodi po ek klas i izvorima'!F68 -> 0 | F49: ='Prihodi po ek klas i izvorima'!G68 -> 0 | G49: ='Prihodi po ek klas i izvorima'!H68 -> 0
B50: 6615 | C50: Prihodi od pruženih usluga | D50: =SUM(D51) -> 73917.93 | E50: =SUM(E51) -> 199083.29 | F50: =SUM(F51:F52) -> 199083.29 | G50: =SUM(G51:G52) -> 70068.47
B51: 66151 | C51: Prihodi od pruženih usluga | D51: ='Prihodi po ek klas i izvorima'!E70 -> 73917.93 | E51: ='Prihodi po ek klas i izvorima'!F70 -> 199083.29 | F51: ='Prihodi po ek klas i izvorima'!G70 -> 199083.29 | G51: ='Prihodi po ek klas i izvorima'!H70 -> 70068.47
B52: 66153 | C52: Prihodi za udio troškova u zakupu | F52: ='Prihodi po ek klas i izvorima'!G71 -> 0 | G52: ='Prihodi po ek klas i izvorima'!H71 -> 0
B53: 663 | C53: Donacije od pravnih i fizičkih osoba izvan proračuna | D53: =D54+D56 -> 3807.25 | E53: =E54+E56 -> 50500 | F53: =F54+F56 -> 50500 | G53: =G54+G56 -> 0
B54: 6631 | C54: Tekuće donacije | D54: =SUM(D55) -> 3807.25 | E54: =SUM(E55) -> 50500 | F54: =SUM(F55) -> 50500 | G54: =SUM(G55) -> 0
B55: 66313 | C55: Tekuće donacije | D55: ='Prihodi po ek klas i izvorima'!E79 -> 3807.25 | E55: ='Prihodi po ek klas i izvorima'!F79 -> 50500 | F55: ='Prihodi po ek klas i izvorima'!G79 -> 50500 | G55: ='Prihodi po ek klas i izvorima'!H79 -> 0
B56: 6632 | C56: Kapitalne donacije | D56: ='Prihodi po ek klas i izvorima'!E80 -> 0 | E56: ='Prihodi po ek klas i izvorima'!F80 -> 0 | F56: ='Prihodi po ek klas i izvorima'!G80 -> 0 | G56: ='Prihodi po ek klas i izvorima'!H80 -> 0
B57: 67 | C57: Prihodi iz nadležnog proračuna i HZZOa | D57: =SUM(D58,D63) -> 2103623 | E57: =SUM(E58,E63) -> 4268458.4 | F57: =SUM(F58,F63) -> 4210360.7 | G57: =SUM(G58,G63) -> 2219259.5
B58: 671 | C58: Prihodi iz nadležnog proračuna za financiranje redovne djelatnosti proračunskih korisnika | D58: =D59+D61 -> 130583.54 | E58: =E59+E61 -> 369361.73 | F58: =F59+F61 -> 311264.02 | G58: =G59+G61 -> 116122.25
B59: 6711 | C59: Prihodi iz nadležnog proračuna za financiranje rashoda poslovanja | D59: =SUM(D60) -> 54337.27 | E59: =SUM(E60) -> 103638.02 | F59: =SUM(F60) -> 102264.02 | G59: =SUM(G60) -> 116122.25
B60: 67111 | C60: Prihodi iz nadležnog proračuna za financiranje rashoda poslovanja | D60: ='Prihodi po ek klas i izvorima'!E12 -> 54337.27 | E60: ='Prihodi po ek klas i izvorima'!F12 -> 103638.02 | F60: ='Prihodi po ek klas i izvorima'!G12 -> 102264.02 | G60: ='Prihodi po ek klas i izvorima'!H12 -> 116122.25
B61: 6712 | C61: Prihodi iz nadležnog proračuna za nabavu nefinancijske imovine | D61: =SUM(D62) -> 76246.27 | E61: =SUM(E62) -> 265723.71 | F61: =SUM(F62) -> 209000 | G61: =SUM(G62) -> 0
B62: 67121 | C62: Prihodi iz nadležnog proračuna za nabavu nefinancijske imovine | D62: ='Prihodi po ek klas i izvorima'!E14 -> 76246.27 | E62: ='Prihodi po ek klas i izvorima'!F14 -> 265723.71 | F62: ='Prihodi po ek klas i izvorima'!G14 -> 209000 | G62: ='Prihodi po ek klas i izvorima'!H14 -> 0
B63: 673 | C63: Prihodi od HZZO-a | D63: =SUM(D64) -> 1973039.5 | E63: =SUM(E64) -> 3899096.7 | F63: =SUM(F64) -> 3899096.7 | G63: =SUM(G64) -> 2103137.3
B64: 6731 | C64: Prihodi od HZZO-a temeljem ugovora | D64: =D65 -> 1973039.5 | E64: =E65 -> 3899096.7 | F64: =F65 -> 3899096.7 | G64: =G65 -> 2103137.3
B65: 67311 | C65: Prihodi od HZZO-a temeljem ugovora | D65: ='Prihodi po ek klas i izvorima'!E52 -> 1973039.5 | E65: ='Prihodi po ek klas i izvorima'!F52 -> 3899096.7 | F65: ='Prihodi po ek klas i izvorima'!G52 -> 3899096.7 | G65: ='Prihodi po ek klas i izvorima'!H52 -> 2103137.3
B66: 68 | C66: Kazne, upravne mjere i ostali prihodi | D66: =SUM(D67) -> 712.71 | E66: =SUM(E67) -> 3000 | F66: =SUM(F67) -> 3000 | G66: =SUM(G67) -> 0
B67: 683 | C67: Ostali prihodi | D67: =D68 -> 712.71 | E67: =E68 -> 3000 | F67: =F68 -> 3000 | G67: =G68 -> 0
B68: 6831 | C68: Ostali prihodi | D68: =D69 -> 712.71 | E68: =E69 -> 3000 | F68: =F69 -> 3000 | G68: =G69 -> 0
B69: 68311 | C69: Ostali prihodi | D69: ='Prihodi po ek klas i izvorima'!E56 -> 712.71 | E69: ='Prihodi po ek klas i izvorima'!F56 -> 3000 | F69: ='Prihodi po ek klas i izvorima'!G56 -> 3000 | G69: ='Prihodi po ek klas i izvorima'!H56 -> 0
A70: 7 | C70: Prihodi od prodaje nefinancijske imovine | D70: =SUM(D71) -> 0 | E70: =SUM(E71) -> 0 | F70: =SUM(F71) -> 800 | G70: =SUM(G71) -> 800
B71: 72 | C71: Prihodi od prodaje proizvedene dugotrajne imovine | D71: =SUM(D72,D74) -> 0 | E71: =SUM(E72,E74) -> 0 | F71: =SUM(F72,F74) -> 800 | G71: =SUM(G72,G74) -> 800
B72: 721 | C72: Prihodi od prodaje građevinskih objekata | D72: =D73 -> 0 | E72: =E73 -> 0 | F72: =F73 -> 0 | G72: =G73 -> 0
B73: 7211 | C73: Stambeni objekti | D73: ='Prihodi po ek klas i izvorima'!E90 -> 0 | E73: ='Prihodi po ek klas i izvorima'!F90 -> 0 | F73: 0 | G73: 0
B74: 723 | C74: Prihodi od prodaje prijevoznih sredstava | D74: =D75 -> 0 | E74: =E75 -> 0 | F74: =F75 -> 800 | G74: =G75 -> 800
B75: 7231 | C75: Prijevozna sredstva u cestovnom prometu | D75: ='Prihodi po ek klas i izvorima'!E92 -> 0 | E75: ='Prihodi po ek klas i izvorima'!F92 -> 0 | F75: =F76 -> 800 | G75: =G76 -> 800
B76: 72313 | C76: Kombi vozila | D76: ='Prihodi po ek klas i izvorima'!E93 -> 0 | E76: ='Prihodi po ek klas i izvorima'!F93 -> 0 | F76: ='Prihodi po ek klas i izvorima'!G93 -> 800 | G76: ='Prihodi po ek klas i izvorima'!H93 -> 800
A77: UKUPNO PRIHODI I PRIMICI: | D77: =D10+D70 -> 2228337.5 | E77: =E10+E70 -> 4702255.6 | F77: =F10+F70 -> 4988957.9 | G77: =G10+G70 -> 2608890.3

Sheet RASHODI-ek.kl.
A1: I. OPĆI DIO
A2: A. RAČUN PRIHODA I RASHODA
A4: RASHODI PREMA EKONOMSKOJ KLASIFIKACIJI
A7: PRIHODI POSLOVANJA
A8: Razred | B8: Skupina/podskupina/odjeljak | C8: Naziv | E8: Izvršenje prethodne godine I.-VI. 2022. | G8: REBALANS 2023.
A9: 1 | E9: 2 | G9: 3
A10: 6 | E10: =E11+E26+E30+E33+E40+E43 -> 24659146 | G10: =G11+G26+G30+G33+G40+G43 -> 63888652
B11: 63 | C11: Pomoći | E11: =E12+E14+E17+E19+E21+E24 -> 324811.47 | G11: =SUM(G12,G14,G17,G19,G21,G24) -> 639378.86
B12: 632 | C12: Pomoći od međunaodnih organizacija te institucija i tijela EU | E12: =SUM(E13) -> 0 | G12: =SUM(G13) -> 0
B13: 6324 | C13: Kapitalne pomoći od instucija i tijela EU | E13: 0 | G13: 0
B14: 633 | C14: Pomoć proračunu iz drugih proračuna | E14: =SUM(E15:E16) -> 50556.109 | G14: =SUM(G15:G16) -> 0
B15: 6331 | C15: Tekuća pomoć proračunu iz drugih proračuna | E15: =380915/7.5345 -> 50556.109 | G15: 0
B16: 6332 | C16: Kapitalna pomoć proračunu iz drugih proračuna | E16: 0 | G16: 0
B17: 634 | C17: Pomoći od izvanproračunskih korisnika | E17: =SUM(E18) -> 111981.95 | G17: =SUM(G18) -> 366500.76
B18: 6341 | C18: Tekuće pomoći od HZZ-a, HZZO-a | E18: =843728/7.5345 -> 111981.95 | G18: 366500.76
B19: 636 | C19: Pomoć proračunskim korisnicima iz prorač.koji im nije nadležan | E19: =SUM(E20) -> 54857.124 | G19: =SUM(G20) -> 796.34
B20: 6361 | C20: Tekuće pomoći iz državnog prorač. prorač.korisnicima JLP(R)S | E20: =413321/7.5345 -> 54857.124 | G20: =796.34 -> 796.34
B21: 638 | C21: Pomoć temeljem prijenosa EU | E21: =SUM(E22:E23) -> 107244.81 | G21: =SUM(G23) -> 272081.76
B22: 6381 | C22: Tekuće pomoći temeljem prijenosa EU sredstava | E22: =493624/7.5345 -> 65515.164 | G22: 0
B23: 6382 | C23: kapitalna pomoć temeljem prijenosa EU | E23: =314412/7.5345 -> 41729.644 | G23: 272081.76
B24: 639 | C24: Prijenosi između proračunskih korisnika | E24: =SUM(E25) -> 171.47787 | G24: =SUM(G25) -> 0
B25: 6391 | C25: Tekući prijenosi između proračunskih korisnika | E25: =1292/7.5345 -> 171.47787 | G25: 0
B26: 64 | C26: Prihodi od imovine | E26: =SUM(E27:E29) -> 50144.535 | G26: =SUM(G27:G29) -> 120462.42
B27: 6413 | C27: Kamate na oročena sredstva i depozite po viđenju | E27: =439/7.5345 -> 58.265313 | G27: 746.44
B28: 6419 | C28: Ostali prihode o financijske imovine | E28: =376342/7.5345 -> 49949.167 | G28: 119450.53
B29: 6429 | C29: Ostali prihodi od nefinancijske imovine | E29: =1033/7.5345 -> 137.10266 | G29: =265.45 -> 265.45
B30: 65 | C30: Prihodi po posebnim propisima | E30: =E31 -> 1523828.4 | G30: =SUM(G31) -> 6950029.9
B31: 652 | C31: Prihodi po posebnim propisima | E31: =SUM(E32) -> 1523828.4 | G31: =SUM(G32) -> 6950029.9
B32: 6526 | C32: Ostali nespomenuti prihodi (participacija) | E32: =11481285/7.5345 -> 1523828.4 | G32: =6950029.86 -> 6950029.9
B33: 66 | C33: Prihodi od prodaje i donacija | E33: =E34+E37 -> 1701559.2 | G33: =SUM(G34,G37) -> 3641484.9
B34: 661 | C34: Prihodi od prodaje roba i pruženih usluga (vlastiti prihodi) | E34: =SUM(E35:E36) -> 1677912 | G34: =SUM(G36,G35) -> 3521370.8
B35: 6614 | C35: Prihodi od prodaje proizvoda i robe | E35: =6216809/7.5345 -> 825112.35 | G35: 1725396.5
B36: 6615 | C36: Prihodi od pruženih usluga | E36: =6425419/7.5345 -> 852799.65 | G36: 1795974.2
B37: 663 | C37: Donacije od pravnih i fizičkih osoba izvan proračuna | E37: =SUM(E38:E39) -> 23647.223 | G37: =SUM(G38:G39) -> 120114.13
B38: 6631 | C38: Tekuće donacije | E38: =5000/7.5345 -> 663.61404 | G38: 53752.73
B39: 6632 | C39: Kapitalne donacije | E39: =173170/7.5345 -> 22983.609 | G39: 66361.4
B40: 67 | C40: Prihodi iz nadležnog proračuna i HZZOa | E40: =SUM(E41) -> 20985600 | G40: =SUM(G41) -> 52367289
B41: 673 | C41: Prihodi od HZZO-a | E41: =SUM(E42) -> 20985600 | G41: =SUM(G42) -> 52367289
B42: 6731 | C42: Prihodi od HZZO-a temeljem ugovora | E42: =158116000/7.5345 -> 20985600 | G42: 52367289
B43: 68 | C43: Kazne, upravne mjere i ostali prihodi | E43: =SUM(E44) -> 73202.601 | G43: =SUM(G44) -> 170007.44
B44: 683 | C44: Ostali prihodi | E44: =SUM(E45) -> 73202.601 | G44: =SUM(G45) -> 170007.44
B45: 6831 | C45: Ostali prihodi | E45: =551545/7.5345 -> 73202.601 | G45: 170007.44
A46: 7 | C46: Prihodi od prodaje nefinancijske imovine | E46: =E48 -> 206.78214 | G46: =SUM(G47) -> 7432.48
B47: 72 | C47: Prihodi od prodaje proizvedene dugotrajne imovine | E47: =SUM(E48) -> 206.78214 | G47: =SUM(G48) -> 7432.48
B48: 721 | C48: Prihodi od prodaje građevinskih objekata | E48: =SUM(E49) -> 206.78214 | G48: =SUM(G49,G50) -> 7432.48
B49: 7211 | C49: Stambeni objekti | E49: =1558/7.5345 -> 206.78214 | G49: 796.34
B50: 7231 | C50: Prijevozna sredstva u cestovnom prometu | E50: 0 | G50: 6636.14
A51: UKUPNO PRIHODI I PRIMICI: | E51: =E10+E46 -> 24659353 | G51: =G10+G46 -> 63896085
A54: RASHODI POSLOVANJA
A55: Razred | B55: Skupina/podskupina/odjeljak | C55: Naziv | D55: OSTVARENJE/IZVRŠENJE 1.-6.2024. | E55: IZVORNI PLAN ZA 2025. | F55: TEKUĆI PLAN 2025. | G55: Izvršenje tekuće godine I.-VI.2025.
A56: 1 | E56: 2 | G56: 3
A57: 3 | C57: RASHODI POSLOVANJA | D57: =D58+D82+D178+D190+D194+D199 -> 2567146.6 | E57: =E58+E82+E178+E190+E194+E199 -> 4299508.7 | F57: =F58+F82+F178+F190+F194+F199 -> 4244329.6 | G57: =G58+G82+G178+G190+G194+G199 -> 2396625.1
B58: 31 | C58: Rashodi za zaposlene | D58: =SUM(D59,D68,D76) -> 2059493.8 | E58: =SUM(E59,E68,E76) -> 3228791.6 | F58: =SUM(F59,F68,F76) -> 3224991.6 | G58: =SUM(G59,G68,G76) -> 1983259.5
B59: 311 | C59: Plaće (Bruto) | D59: =D60+D64+D66 -> 1741083.9 | E59: =E60+E64+E66 -> 2663983.7 | F59: =F60+F64+F66 -> 2660183.7 | G59: =G60+G64+G66 -> 1682622
B60: 3111 | C60: Plaće za redovan rad | D60: =D61+D62 -> 1655970.9 | E60: =E61+E62 -> 2614876.3 | F60: =F61+F62 -> 2611076.3 | G60: =G61+G62 -> 1628846
B61: 31111 | C61: Plaće za redovan rad | D61: =' PRIHODI I RASHODI-izvori'!E15+' PRIHODI I RASHODI-izvori'!E62+' PRIHODI I RASHODI-izvori'!E251+' PRIHODI I RASHODI-izvori'!E357 -> 1654254.9 | E61: =' PRIHODI I RASHODI-izvori'!F15+' PRIHODI I RASHODI-izvori'!F62+' PRIHODI I RASHODI-izvori'!F251+' PRIHODI I RASHODI-izvori'!F357 -> 2609876.3 | F61: =' PRIHODI I RASHODI-izvori'!G15+' PRIHODI I RASHODI-izvori'!G62+' PRIHODI I RASHODI-izvori'!G251+' PRIHODI I RASHODI-izvori'!G357 -> 2606076.3 | G61: =' PRIHODI I RASHODI-izvori'!H15+' PRIHODI I RASHODI-izvori'!H62+' PRIHODI I RASHODI-izvori'!H251+' PRIHODI I RASHODI-izvori'!H357 -> 1628846
B62: 31113 | C62: Plaće po sudskim presudama | D62: =' PRIHODI I RASHODI-izvori'!E63 -> 1715.99 | E62: =' PRIHODI I RASHODI-izvori'!F63 -> 5000 | F62: =' PRIHODI I RASHODI-izvori'!G63 -> 5000 | G62: =' PRIHODI I RASHODI-izvori'!H63 -> 0
B63: 3112 | C63: Plaće u naravi
B64: 3113 | C64: Plaće za prekovremeni rad | D64: =D65 -> 43363.13 | E64: =E65 -> 49107.44 | F64: =F65 -> 49107.44 | G64: =G65 -> 53776
B65: 31131 | C65: Plaće za prekovremeni rad | D65: =' PRIHODI I RASHODI-izvori'!E66 -> 43363.13 | E65: =' PRIHODI I RASHODI-izvori'!F66 -> 49107.44 | F65: =' PRIHODI I RASHODI-izvori'!G66 -> 49107.44 | G65: =' PRIHODI I RASHODI-izvori'!H66 -> 53776
B66: 3114 | C66: Plaće za posebne uvjete rada | D66: =D67 -> 41749.86 | E66: =E67 -> 0 | F66: =F67 -> 0 | G66: =G67 -> 0
B67: 31141 | C67: Plaće za posebne uvjete rada | D67: =' PRIHODI I RASHODI-izvori'!E68+' PRIHODI I RASHODI-izvori'!E255+' PRIHODI I RASHODI-izvori'!E360 -> 41749.86 | E67: =' PRIHODI I RASHODI-izvori'!F68+' PRIHODI I RASHODI-izvori'!F255+' PRIHODI I RASHODI-izvori'!F360 -> 0 | F67: =' PRIHODI I RASHODI-izvori'!G68+' PRIHODI I RASHODI-izvori'!G255+' PRIHODI I RASHODI-izvori'!G360 -> 0 | G67: =' PRIHODI I RASHODI-izvori'!H68+' PRIHODI I RASHODI-izvori'!H255+' PRIHODI I RASHODI-izvori'!H360 -> 0
B68: 312 | C68: Ostali rashodi za zaposlene | D68: =SUM(D69) -> 46531.28 | E68: =SUM(E69) -> 128191.98 | F68: =SUM(F69) -> 128191.98 | G68: =SUM(G69) -> 26084.95
B69: 3121 | C69: Ostali rashodi za zaposlene | D69: =SUM(D70:D75) -> 46531.28 | E69: =SUM(E70:E75) -> 128191.98 | F69: =SUM(F70:F75) -> 128191.98 | G69: =SUM(G70:G75) -> 26084.95
B70: 31212 | C70: Ostali rashodi za zaposlene-nagrade | D70: =' PRIHODI I RASHODI-izvori'!E71 -> 22279.33 | E70: =' PRIHODI I RASHODI-izvori'!F71 -> 13000 | F70: =' PRIHODI I RASHODI-izvori'!G71 -> 13000 | G70: =' PRIHODI I RASHODI-izvori'!H71 -> 10039.91
B71: 31213 | C71: Darovi | D71: =' PRIHODI I RASHODI-izvori'!E72 -> 22436.17 | E71: =' PRIHODI I RASHODI-izvori'!F72 -> 25000 | F71: =' PRIHODI I RASHODI-izvori'!G72 -> 25000 | G71: =' PRIHODI I RASHODI-izvori'!H72 -> 13062.16
B72: 31214 | C72: Otpremnine | D72: =' PRIHODI I RASHODI-izvori'!E73 -> 0 | E72: =' PRIHODI I RASHODI-izvori'!F73 -> 2000 | F72: =' PRIHODI I RASHODI-izvori'!G73 -> 2000 | G72: =' PRIHODI I RASHODI-izvori'!H73 -> 0
B73: 31215 | C73: Naknade za bolest, invalidnost i smrt | D73: =' PRIHODI I RASHODI-izvori'!E74 -> 1815.78 | E73: =' PRIHODI I RASHODI-izvori'!F74 -> 3800 | F73: =' PRIHODI I RASHODI-izvori'!G74 -> 3800 | G73: =' PRIHODI I RASHODI-izvori'!H74 -> 2082.88
B74: 31216 | C74: Regres za godišnji odmor | D74: =' PRIHODI I RASHODI-izvori'!E75+' PRIHODI I RASHODI-izvori'!E363 -> 0 | E74: =' PRIHODI I RASHODI-izvori'!F75+' PRIHODI I RASHODI-izvori'!F363 -> 40300 | F74: =' PRIHODI I RASHODI-izvori'!G75+' PRIHODI I RASHODI-izvori'!G363 -> 40300 | G74: =' PRIHODI I RASHODI-izvori'!H75+' PRIHODI I RASHODI-izvori'!H363 -> 900
B75: 31219 | C75: Ostali nenavedeni rashodi za zaposlene | D75: =' PRIHODI I RASHODI-izvori'!E76+' PRIHODI I RASHODI-izvori'!E258+' PRIHODI I RASHODI-izvori'!E364 -> 0 | E75: =' PRIHODI I RASHODI-izvori'!F76+' PRIHODI I RASHODI-izvori'!F258+' PRIHODI I RASHODI-izvori'!F364 -> 44091.98 | F75: =' PRIHODI I RASHODI-izvori'!G76+' PRIHODI I RASHODI-izvori'!G258+' PRIHODI I RASHODI-izvori'!G364 -> 44091.98 | G75: =' PRIHODI I RASHODI-izvori'!H76+' PRIHODI I RASHODI-izvori'!H258+' PRIHODI I RASHODI-izvori'!H364 -> 0
B76: 313 | C76: Doprinosi na plaće | D76: =D77+D78+D80 -> 271878.62 | E76: =E77+E78+E80 -> 436615.92 | F76: =F77+F78+F80 -> 436615.92 | G76: =G77+G78+G80 -> 274552.55
B77: 3131 | C77: Doprinosi za mirovinsko osiguranje
B78: 3132 | C78: Doprinosi za obavezno zdravst.osig. | D78: =D79 -> 271840.88 | E78: =E79 -> 436615.92 | F78: =F79 -> 436615.92 | G78: =G79 -> 274552.55
B79: 31321 | C79: Doprinosi za obavezno zdravst.osig. | D79: =' PRIHODI I RASHODI-izvori'!E18+' PRIHODI I RASHODI-izvori'!E79+' PRIHODI I RASHODI-izvori'!E261+' PRIHODI I RASHODI-izvori'!E367 -> 271840.88 | E79: =' PRIHODI I RASHODI-izvori'!F18+' PRIHODI I RASHODI-izvori'!F79+' PRIHODI I RASHODI-izvori'!F261+' PRIHODI I RASHODI-izvori'!F367 -> 436615.92 | F79: =' PRIHODI I RASHODI-izvori'!G18+' PRIHODI I RASHODI-izvori'!G79+' PRIHODI I RASHODI-izvori'!G261+' PRIHODI I RASHODI-izvori'!G367 -> 436615.92 | G79: =' PRIHODI I RASHODI-izvori'!H18+' PRIHODI I RASHODI-izvori'!H79+' PRIHODI I RASHODI-izvori'!H261+' PRIHODI I RASHODI-izvori'!H367 -> 274552.55
B80: 3133 | C80: Doprinosi za zapošljavanje | D80: =D81 -> 37.74 | E80: =E81 -> 0 | F80: =F81 -> 0 | G80: =G81 -> 0
B81: 31332 | C81: Doprinosi za obvezno osiguranje u slučaju nezaposlenosti | D81: =' PRIHODI I RASHODI-izvori'!E81 -> 37.74 | E81: =' PRIHODI I RASHODI-izvori'!F81 -> 0 | F81: =' PRIHODI I RASHODI-izvori'!G81 -> 0 | G81: =' PRIHODI I RASHODI-izvori'!H81 -> 0
B82: 32 | C82: Materijalni rashodi | D82: =D83+D95+D120+D151+D154+D158 -> 495063.84 | E82: =E83+E95+E120+E151+E154+E158 -> 1058244.5 | F82: =F83+F95+F120+F151+F154+F158 -> 1006865.4 | G82: =G83+G95+G120+G151+G154+G158 -> 410094.21
B83: 321 | C83: Naknade troškova zaposlenima | D83: =D84+D88+D90+D93 -> 65480.895 | E83: =E84+E88+E90+E93 -> 133321.71 | F83: =F84+F88+F90+F93 -> 135321.71 | G83: =G84+G88+G90+G93 -> 56008.5
B84: 3211 | C84: Službena putovanja | D84: =SUM(D85:D87) -> 5269.695 | E84: =SUM(E85:E87) -> 25357.02 | F84: =SUM(F85:F87) -> 25957.02 | G84: =SUM(G85:G87) -> 4533.42
B85: 32111 | C85: Dnevnice za službeni put u zemlji | D85: =' PRIHODI I RASHODI-izvori'!E85+' PRIHODI I RASHODI-izvori'!E371+' PRIHODI I RASHODI-izvori'!E450 -> 3945 | E85: =' PRIHODI I RASHODI-izvori'!F85+' PRIHODI I RASHODI-izvori'!F371+' PRIHODI I RASHODI-izvori'!F450 -> 17016.17 | F85: =' PRIHODI I RASHODI-izvori'!G85+' PRIHODI I RASHODI-izvori'!G371+' PRIHODI I RASHODI-izvori'!G450 -> 16616.17 | G85: =' PRIHODI I RASHODI-izvori'!H85+' PRIHODI I RASHODI-izvori'!H371+' PRIHODI I RASHODI-izvori'!H450 -> 2854.32
B86: 32113 | C86: Naknade za smještaj na službenom putu u zemlji | D86: =' PRIHODI I RASHODI-izvori'!E86+' PRIHODI I RASHODI-izvori'!E372 -> 0 | E86: =' PRIHODI I RASHODI-izvori'!F86+' PRIHODI I RASHODI-izvori'!F372 -> 700 | F86: =' PRIHODI I RASHODI-izvori'!G86+' PRIHODI I RASHODI-izvori'!G372 -> 1300 | G86: =' PRIHODI I RASHODI-izvori'!H86+' PRIHODI I RASHODI-izvori'!H372 -> 827.6
B87: 32115 | C87: Naknade za prijevoz na službenom putu u zemlji | D87: =' PRIHODI I RASHODI-izvori'!E87+' PRIHODI I RASHODI-izvori'!E265+' PRIHODI I RASHODI-izvori'!E451+' PRIHODI I RASHODI-izvori'!E373-0.01 -> 1324.695 | E87: =' PRIHODI I RASHODI-izvori'!F87+' PRIHODI I RASHODI-izvori'!F265+' PRIHODI I RASHODI-izvori'!F451+' PRIHODI I RASHODI-izvori'!F373 -> 7640.85 | F87: =' PRIHODI I RASHODI-izvori'!G87+' PRIHODI I RASHODI-izvori'!G265+' PRIHODI I RASHODI-izvori'!G451+' PRIHODI I RASHODI-izvori'!G373 -> 8040.85 | G87: =' PRIHODI I RASHODI-izvori'!H87+' PRIHODI I RASHODI-izvori'!H265+' PRIHODI I RASHODI-izvori'!H451+' PRIHODI I RASHODI-izvori'!H373 -> 851.5
B88: 3212 | C88: Naknade za prijevoz, odvojeni život | D88: =D89 -> 55697.2 | E88: =E89 -> 100465.85 | F88: =F89 -> 100865.85 | G88: =G89 -> 48304.58
B89: 32121 | C89: Naknade za prijevoz | D89: =' PRIHODI I RASHODI-izvori'!E89+' PRIHODI I RASHODI-izvori'!E267+' PRIHODI I RASHODI-izvori'!E375 -> 55697.2 | E89: =' PRIHODI I RASHODI-izvori'!F89+' PRIHODI I RASHODI-izvori'!F267+' PRIHODI I RASHODI-izvori'!F375 -> 100465.85 | F89: =' PRIHODI I RASHODI-izvori'!G89+' PRIHODI I RASHODI-izvori'!G267+' PRIHODI I RASHODI-izvori'!G375 -> 100865.85 | G89: =' PRIHODI I RASHODI-izvori'!H89+' PRIHODI I RASHODI-izvori'!H267+' PRIHODI I RASHODI-izvori'!H375 -> 48304.58
B90: 3213 | C90: Stručno usavršavanje zaposlenih | D90: =SUM(D91:D92) -> 4514 | E90: =SUM(E91:E92) -> 7100.67 | F90: =SUM(F91:F92) -> 8100.67 | G90: =SUM(G91:G92) -> 3170.5
B91: 32131 | C91: Seminari, savjetovanja i simpoziji | D91: =' PRIHODI I RASHODI-izvori'!E91 -> 480 | E91: =' PRIHODI I RASHODI-izvori'!F91 -> 2200 | F91: =' PRIHODI I RASHODI-izvori'!G91 -> 2200 | G91: =' PRIHODI I RASHODI-izvori'!H91 -> 802.5
B92: 32132 | C92: Tečajevi i stručni ispiti | D92: =' PRIHODI I RASHODI-izvori'!E92+' PRIHODI I RASHODI-izvori'!E269+' PRIHODI I RASHODI-izvori'!E377 -> 4034 | E92: =' PRIHODI I RASHODI-izvori'!F92+' PRIHODI I RASHODI-izvori'!F269+' PRIHODI I RASHODI-izvori'!F377 -> 4900.67 | F92: =' PRIHODI I RASHODI-izvori'!G92+' PRIHODI I RASHODI-izvori'!G269+' PRIHODI I RASHODI-izvori'!G377 -> 5900.67 | G92: =' PRIHODI I RASHODI-izvori'!H92+' PRIHODI I RASHODI-izvori'!H269+' PRIHODI I RASHODI-izvori'!H377 -> 2368
B93: 3214 | C93: Ostale naknade troškova zaposlenima | D93: =D94 -> 0 | E93: =E94 -> 398.17 | F93: =F94 -> 398.17 | G93: =G94 -> 0
B94: 32141 | C94: Naknada za korištenje privatnog automobila u službene svrhe | D94: =' PRIHODI I RASHODI-izvori'!E94 -> 0 | E94: =' PRIHODI I RASHODI-izvori'!F94 -> 398.17 | F94: =' PRIHODI I RASHODI-izvori'!G94 -> 398.17 | G94: =' PRIHODI I RASHODI-izvori'!H94 -> 0
B95: 322 | C95: Rashodi za materijal i energiju | D95: =D96+D102+D106+D111+D116+D118 -> 244625.49 | E95: =E96+E102+E106+E111+E116+E118 -> 492715.5 | F95: =F96+F102+F106+F111+F116+F118 -> 181956.2 | G95: =G96+G102+G106+G111+G116+G118 -> 70124.32
B96: 3221 | C96: Uredski materijal i ostali materijalni rashodi | D96: =SUM(D97:D101) -> 18193.56 | E96: =SUM(E97:E101) -> 30501.82 | F96: =SUM(F97:F101) -> 36501.82 | G96: =SUM(G97:G101) -> 14815.94
B97: 32211 | C97: Uredski materijal | D97: =' PRIHODI I RASHODI-izvori'!E97+' PRIHODI I RASHODI-izvori'!E273 -> 9747.73 | E97: =' PRIHODI I RASHODI-izvori'!F97+' PRIHODI I RASHODI-izvori'!F273 -> 12639.19 | F97: =' PRIHODI I RASHODI-izvori'!G97+' PRIHODI I RASHODI-izvori'!G273+' PRIHODI I RASHODI-izvori'!G380 -> 15439.19 | G97: =' PRIHODI I RASHODI-izvori'!H22+' PRIHODI I RASHODI-izvori'!H97+' PRIHODI I RASHODI-izvori'!H273+' PRIHODI I RASHODI-izvori'!H380 -> 5739.08
B98: 32212 | C98: Literatura | D98: =' PRIHODI I RASHODI-izvori'!E98 -> 0 | E98: =' PRIHODI I RASHODI-izvori'!F98 -> 500 | F98: =' PRIHODI I RASHODI-izvori'!G98 -> 500 | G98: =' PRIHODI I RASHODI-izvori'!H98 -> 270
B99: 32214 | C99: Materijal i sredstva za čišćenje i održavanje | D99: =' PRIHODI I RASHODI-izvori'!E99 -> 6750.85 | E99: =' PRIHODI I RASHODI-izvori'!F99 -> 15000 | F99: =' PRIHODI I RASHODI-izvori'!G99+' PRIHODI I RASHODI-izvori'!G381 -> 17000 | G99: =' PRIHODI I RASHODI-izvori'!H23+' PRIHODI I RASHODI-izvori'!H99+' PRIHODI I RASHODI-izvori'!H381 -> 5482.1
B100: 32215 | C100: Službena, radna i zaštitna odjeća | D100: =' PRIHODI I RASHODI-izvori'!E100 -> 0 | E100: =' PRIHODI I RASHODI-izvori'!F100 -> 700 | F100: =' PRIHODI I RASHODI-izvori'!G100 -> 700 | G100: =' PRIHODI I RASHODI-izvori'!H100 -> 0
B101: 32219 | C101: Ostali materijal za potrebe redovnog poslovanja | D101: =' PRIHODI I RASHODI-izvori'!E101+' PRIHODI I RASHODI-izvori'!E382 -> 1694.98 | E101: =' PRIHODI I RASHODI-izvori'!F101+' PRIHODI I RASHODI-izvori'!F382 -> 1662.63 | F101: =' PRIHODI I RASHODI-izvori'!G101+' PRIHODI I RASHODI-izvori'!G382 -> 2862.63 | G101: =' PRIHODI I RASHODI-izvori'!H101+' PRIHODI I RASHODI-izvori'!H382 -> 3324.76
B102: 3222 | C102: Materijal i sirovine | D102: =SUM(D103:D105) -> 127549 | E102: =SUM(E103:E105) -> 201075.05 | F102: =SUM(F103:F105) -> 0 | G102: =SUM(G103:G105) -> 0
B103: 32221 | C103: Potrošni medicinski materijal | D103: =' PRIHODI I RASHODI-izvori'!E103+' PRIHODI I RASHODI-izvori'!E275 -> 115763.72 | E103: =' PRIHODI I RASHODI-izvori'!F103+' PRIHODI I RASHODI-izvori'!F275 -> 177000 | F103: =' PRIHODI I RASHODI-izvori'!G103+' PRIHODI I RASHODI-izvori'!G275+' PRIHODI I RASHODI-izvori'!G384 -> 0 | G103: =' PRIHODI I RASHODI-izvori'!H103+' PRIHODI I RASHODI-izvori'!H275+' PRIHODI I RASHODI-izvori'!H384 -> 0
B104: 32226 | C104: Lijekovi | D104: =' PRIHODI I RASHODI-izvori'!E104+' PRIHODI I RASHODI-izvori'!E276 -> 11668.98 | E104: =' PRIHODI I RASHODI-izvori'!F104+' PRIHODI I RASHODI-izvori'!F276 -> 22954.21 | F104: =' PRIHODI I RASHODI-izvori'!G104+' PRIHODI I RASHODI-izvori'!G276 -> 0 | G104: =' PRIHODI I RASHODI-izvori'!H104+' PRIHODI I RASHODI-izvori'!H276 -> 0
B105: 32229 | C105: Ostali materijal i sirovine | D105: =' PRIHODI I RASHODI-izvori'!E105 -> 116.3 | E105: =' PRIHODI I RASHODI-izvori'!F105 -> 1120.84 | F105: =' PRIHODI I RASHODI-izvori'!G105 -> 0 | G105: =' PRIHODI I RASHODI-izvori'!H105 -> 0
...

Sheet Prihodi po ek klas i izvorima
A1: I. OPĆI DIO
A2: A. RAČUN PRIHODA
A3: PRIHODI PREMA EKONOMSKOJ KLASIFIKACIJI I IZVORIMA FINANCIRANJA
A5: PRIHODI POSLOVANJA
A6: Razred | B6: Skupina/podskupina/odjeljak | C6: Izvor | D6: Naziv | E6: OSTVARENJE/IZVRŠENJE 1.-6.2024. | F6: IZVORNI PLAN ZA 2025. | G6: TEKUĆI PLAN 2025. | H6: OSTVARENJE/IZVRŠENJE 1.-6.2025. | I6: Indeks | J6: Indeks
A7: 1 | E7: 2 | F7: 3 | G7: 4 | H7: 5 | I7: 6=5/3*100 | J7: 7=5/4*100
A8: 6 | D8: Prihodi poslovanja | E8: =SUM(E15,E36,E57,E75,E81,E86) -> 2228337.6 | F8: =SUM(F15,F36,F57,F75,F81,F86) -> 4702255.6 | G8: =SUM(G15,G36,G57,G75,G81,G86) -> 4988157.9 | H8: =SUM(H15,H36,H57,H75,H81,H86) -> 2608090.3 | I8: =H8/F8*100 -> 55.464665 | J8: =H8/G8*100 -> 52.28564
B9: 67 | D9: Prihodi iz nadležnog proračuna i od HZZO-a temeljem ugovornih obveza | E9: =E10 -> 130583.54 | F9: =F10 -> 369361.73 | G9: =G10 -> 311264.02 | H9: =H10 -> 116122.25 | I9: =H9/F9*100 -> 31.438625 | J9: =H9/G9*100 -> 37.306673
B10: 671 | D10: Prihodi iz nadležnog proračuna za financiranje redovne djelatnosti proračunskih korisnika | E10: =SUM(E11,E13) -> 130583.54 | F10: =SUM(F11,F13) -> 369361.73 | G10: =SUM(G11,G13) -> 311264.02 | H10: =SUM(H11,H13) -> 116122.25 | I10: =H10/F10*100 -> 31.438625 | J10: =H10/G10*100 -> 37.306673
B11: 6711 | D11: Prihodi iz nadležnog proračuna za financiranje rashoda poslovanja | E11: =E12 -> 54337.27 | F11: =F12 -> 103638.02 | G11: =G12 -> 102264.02 | H11: =H12 -> 116122.25 | I11: =H11/F11*100 -> 112.04599 | J11: =H11/G11*100 -> 113.55142
B12: 67111 | D12: Prihodi iz nadležnog proračuna za financiranje rashoda poslovanja | E12: 54337.27 | F12: 103638.02 | G12: 102264.02 | H12: =36122.25+40000+40000 -> 116122.25 | I12: =H12/F12*100 -> 112.04599 | J12: =H12/G12*100 -> 113.55142
B13: 6712 | D13: Prihodi iz nadležnog proračuna za nabavu nefinancijske imovine | E13: =E14 -> 76246.27 | F13: =F14 -> 265723.71 | G13: =G14 -> 209000 | H13: =H14 -> 0 | I13: =H13/F13*100 -> 0 | J13: =H13/G13*100 -> 0
B14: 67121 | D14: Prihodi iz nadležnog proračuna za nabavu nefinancijske imovine | E14: 76246.27 | F14: 265723.71 | G14: 209000 | H14: 0 | I14: =H14/F14*100 -> 0 | J14: =H14/G14*100 -> 0
C15: 11 | D15: Opći prihodi i primici | E15: =E9 -> 130583.54 | F15: =F9 -> 369361.73 | G15: =G9 -> 311264.02 | H15: =H9 -> 116122.25 | I15: =H15/F15*100 -> 31.438625 | J15: =H15/G15*100 -> 37.306673
B16: 63 | D16: Pomoći iz inozemstva i od subjekata unutar općeg proračuna | E16: =SUM(E17,E22,E25,E30,E34) -> 15048.23 | F16: =SUM(F17,F22,F25,F30,F34) -> 128013.95 | G16: =SUM(G17,G22,G25,G30,G34) -> 472013.95 | H16: =SUM(H17,H22,H25,H30,H34) -> 293965.23 | I16: =H16/F16*100 -> 229.63531 | J16: =H16/G16*100 -> 62.278928
B17: 633 | D17: Pomoći proračunu iz drugih proračuna | E17: =E18 -> 600 | F17: =F18 -> 0 | G17: =G18 -> 60000 | H17: =H18 -> 0 | I17: =H17/F17*100 -> #DIV/0! | J17: =H17/G17*100 -> 0
B18: 6331 | D18: Tekuće pomoći proračunu iz drugih proračuna | E18: =E20 -> 600 | F18: =F20 -> 0 | G18: =G19+G20 -> 60000 | H18: =H19+H20 -> 0 | I18: =H18/F18*100 -> #DIV/0! | J18: =H18/G18*100 -> 0
B19: 63312 | D19: Tekuće potpore iz županijskog proračuna | G19: 60000 | H19: 0 | J19: =H19/G19*100 -> 0
B20: 63313 | D20: Tekuće potpore iz gradskog proračuna | E20: 600 | F20: 0 | G20: 0 | H20: 0 | I20: =H20/F20*100 -> #DIV/0! | J20: =H20/G20*100 -> #DIV/0!
B21: 6332 | D21: Kapitalne pomoći proračunu iz drugih proračuna | I21: =H21/F21*100 -> #DIV/0! | J21: =H21/G21*100 -> #DIV/0!
B22: 634 | D22: Pomoći od izvanproračunskih korisnika | E22: =SUM(E23) -> 0 | F22: =SUM(F23) -> 68314.61 | G22: =SUM(G23) -> 68314.61 | H22: =SUM(H23) -> 0 | I22: =H22/F22*100 -> 0 | J22: =H22/G22*100 -> 0
B23: 6341 | D23: Tekuće pomoći od HZZ-a, HZZO-a | E23: =SUM(E24) -> 0 | F23: =SUM(F24) -> 68314.61 | G23: =SUM(G24) -> 68314.61 | H23: =SUM(H24) -> 0 | I23: =H23/F23*100 -> 0 | J23: =H23/G23*100 -> 0
B24: 63414 | D24: Tekuće pomoći od HZZ-a, HZZO-a | E24: 0 | F24: 68314.61 | G24: 68314.61 | H24: 0 | I24: =H24/F24*100 -> 0 | J24: =H24/G24*100 -> 0
B25: 636 | D25: Pomoći proračunskim korisnicima iz proračuna koji im nije nadležan | E25: =SUM(E26) -> 0 | F25: =SUM(F26) -> 14000 | G25: =G26+G28 -> 298000 | H25: =H26+H28 -> 284000 | I25: =H25/F25*100 -> 2028.5714 | J25: =H25/G25*100 -> 95.302013
B26: 6361 | D26: Tekuće pomoći iz državnog proračuna proračunskim korisnicma JLP(R)S | E26: =SUM(E27) -> 0 | F26: =SUM(F27) -> 14000 | G26: =SUM(G27) -> 14000 | H26: =SUM(H27) -> 0 | I26: =H26/F26*100 -> 0 | J26: =H26/G26*100 -> 0
B27: 63612 | D27: Tekuće pomoći iz državnog proračuna proračunskim korisnicma JLP(R)S | E27: 0 | F27: 14000 | G27: 14000 | H27: 0 | I27: =H27/F27*100 -> 0 | J27: =H27/G27*100 -> 0
B28: 6362 | D28: Kapitalne pomoći iz državnog proračuna proračunskim korisnicima JLP(R)S | E28: =SUM(E29) -> 0 | F28: =SUM(F29) -> 0 | G28: =SUM(G29) -> 284000 | H28: =SUM(H29) -> 284000
B29: 63622 | D29: Kapitalne pomoći iz državnog proračuna proračunskim korisnicima JLP(R)S | E29: 0 | F29: 0 | G29: 284000 | H29: 284000
B30: 638 | D30: Pomoć temeljem prijenosa EU sredstava | E30: =SUM(E31,E33) -> 14448.23 | F30: =SUM(F31,F33) -> 45699.34 | G30: =SUM(G31,G33) -> 45699.34 | H30: =SUM(H31,H33) -> 9965.23 | I30: =H30/F30*100 -> 21.80607 | J30: =H30/G30*100 -> 21.80607
B31: 6381 | D31: Tekuće pomoći temeljem prijenosa EU sredstava | E31: =SUM(E32) -> 14448.23 | F31: =SUM(F32) -> 45699.34 | G31: =SUM(G32) -> 45699.34 | H31: =SUM(H32) -> 9965.23 | I31: =H31/F31*100 -> 21.80607 | J31: =H31/G31*100 -> 21.80607
B32: 63814 | D32: Tekuće pomoći temeljem prijenosa EU sredstava | E32: 14448.23 | F32: 45699.34 | G32: 45699.34 | H32: 9965.23 | I32: =H32/F32*100 -> 21.80607 | J32: =H32/G32*100 -> 21.80607
B33: 6382 | D33: Kapitalna pomoć temeljem prijenosa EU sredstava | I33: =H33/F33*100 -> #DIV/0! | J33: =H33/G33*100 -> #DIV/0!
B34: 639 | D34: Prijenosi između proračunskih korisnika istog proračuna | E34: =E35 -> 0 | F34: =F35 -> 0 | G34: =G35 -> 0 | H34: =H35 -> 0 | I34: =H34/F34*100 -> #DIV/0! | J34: =H34/G34*100 -> #DIV/0!
B35: 6391 | D35: Tekući prijenosi između proračunskih korisnika istog proračuna | I35: =H35/F35*100 -> #DIV/0! | J35: =H35/G35*100 -> #DIV/0!
C36: 52 | D36: Pomoći | E36: =SUM(E16) -> 15048.23 | F36: =SUM(F16) -> 128013.95 | G36: =SUM(G16) -> 472013.95 | H36: =SUM(H16) -> 293965.23 | I36: =H36/F36*100 -> 229.63531 | J36: =H36/G36*100 -> 62.278928
B37: 64 | D37: Prihodi od imovine | E37: =SUM(E38) -> 0 | F37: =SUM(F38) -> 0 | G37: =SUM(G38) -> 0 | H37: =SUM(H38) -> 0 | I37: =H37/F37*100 -> #DIV/0! | J37: =H37/G37*100 -> #DIV/0!
B38: 641 | D38: Prihodi od financijske imovine | E38: =SUM(E39:E39) -> 0 | F38: =SUM(F39:F39) -> 0 | G38: =SUM(G39:G39) -> 0 | H38: =SUM(H39:H39) -> 0 | I38: =H38/F38*100 -> #DIV/0! | J38: =H38/G38*100 -> #DIV/0!
B39: 6419 | D39: Ostali prihodi od financijske imovine | I39: =H39/F39*100 -> #DIV/0! | J39: =H39/G39*100 -> #DIV/0!
B40: 65 | D40: Prihodi od upravnih i administrativnih pristojbi, pristojbi po posebnim propisima i nakanda | E40: =SUM(E41) -> 27405.34 | F40: =SUM(F41) -> 47500 | G40: =SUM(G41) -> 47500 | H40: =SUM(H41) -> 23644.07 | I40: =H40/F40*100 -> 49.776989 | J40: =H40/G40*100 -> 49.776989
B41: 652 | D41: Prihodi po posebnim propisima | E41: =SUM(E42) -> 27405.34 | F41: =SUM(F42) -> 47500 | G41: =SUM(G42) -> 47500 | H41: =SUM(H42) -> 23644.07 | I41: =H41/F41*100 -> 49.776989 | J41: =H41/G41*100 -> 49.776989
B42: 6526 | D42: Ostali nespomenuti prihodi (participacija) | E42: =SUM(E43:E45) -> 27405.34 | F42: =SUM(F43:F45) -> 47500 | G42: =SUM(G43:G45) -> 47500 | H42: =SUM(H43:H45) -> 23644.07 | I42: =H42/F42*100 -> 49.776989 | J42: =H42/G42*100 -> 49.776989
B43: 65264 | D43: Sufinanciranje cijene usluge, participacija | E43: 27405.34 | F43: 44000 | G43: 14000 | H43: 0 | I43: =H43/F43*100 -> 0 | J43: =H43/G43*100 -> 0
B44: 65265 | D44: Dopunsko osiguranje | G44: 30000 | H44: 23644.07
B45: 65269 | D45: Refundacija plaća specijalizanata | E45: 0 | F45: 3500 | G45: 3500 | H45: 0 | I45: =H45/F45*100 -> 0 | J45: =H45/G45*100 -> 0
B46: 67 | D46: Prihodi iz nadležnog proračuna i od HZZO-a temeljem ugovornih obveza | E46: =SUM(E47,E50) -> 1973039.5 | F46: =SUM(F47,F50) -> 3899096.7 | G46: =SUM(G47,G50) -> 3899096.7 | H46: =SUM(H47,H50) -> 2103137.3 | I46: =H46/F46*100 -> 53.93909 | J46: =H46/G46*100 -> 53.93909
B47: 671 | D47: Prihodi iz nadležnog proračuna za financiranje redovne djelatnosti proračunskih korisnika | E47: =SUM(E48:E49) -> 0 | F47: =SUM(F48:F49) -> 0 | G47: =SUM(G48:G49) -> 0 | H47: =SUM(H48:H49) -> 0 | I47: =H47/F47*100 -> #DIV/0! | J47: =H47/G47*100 -> #DIV/0!
B48: 6711 | D48: Prihodi iz nadležnog proračuna za financiranje rashoda poslovanja | E48: 0 | F48: 0 | G48: 0 | H48: 0 | I48: =H48/F48*100 -> #DIV/0! | J48: =H48/G48*100 -> #DIV/0!
B49: 6712 | D49: Prihodi iz nadležnog proračuna za nabavu nefinancijske imovine | E49: 0 | F49: 0 | G49: 0 | H49: 0 | I49: =H49/F49*100 -> #DIV/0! | J49: =H49/G49*100 -> #DIV/0!
B50: 673 | D50: Prihodi od HZZO-a temeljem ugovora | E50: =SUM(E51) -> 1973039.5 | F50: =SUM(F51) -> 3899096.7 | G50: =SUM(G51) -> 3899096.7 | H50: =SUM(H51) -> 2103137.3 | I50: =H50/F50*100 -> 53.93909 | J50: =H50/G50*100 -> 53.93909
B51: 6731 | D51: Prihodi od HZZO-a temeljem ugovora | E51: =SUM(E52) -> 1973039.5 | F51: =SUM(F52) -> 3899096.7 | G51: =SUM(G52) -> 3899096.7 | H51: =SUM(H52) -> 2103137.3 | I51: =H51/F51*100 -> 53.93909 | J51: =H51/G51*100 -> 53.93909
B52: 67311 | D52: Prihodi od HZZO-a temeljem ugovora | E52: 1973039.5 | F52: 3899096.7 | G52: 3899096.7 | H52: 2103137.3 | I52: =H52/F52*100 -> 53.93909 | J52: =H52/G52*100 -> 53.93909
B53: 68 | D53: Kazne, upravne mjere i ostali prihodi | E53: =SUM(E54) -> 712.71 | F53: =SUM(F54) -> 3000 | G53: =SUM(G54) -> 3000 | H53: =SUM(H54) -> 0 | I53: =H53/F53*100 -> 0 | J53: =H53/G53*100 -> 0
B54: 683 | D54: Ostali prihodi | E54: =SUM(E55) -> 712.71 | F54: =SUM(F55) -> 3000 | G54: =SUM(G55) -> 3000 | H54: =SUM(H55) -> 0 | I54: =H54/F54*100 -> 0 | J54: =H54/G54*100 -> 0
B55: 6831 | D55: Ostali prihodi | E55: =SUM(E56) -> 712.71 | F55: =SUM(F56) -> 3000 | G55: =SUM(G56) -> 3000 | H55: =SUM(H56) -> 0 | I55: =H55/F55*100 -> 0 | J55: =H55/G55*100 -> 0
B56: 68311 | D56: Ostali prihodi | E56: 712.71 | F56: 3000 | G56: 3000 | H56: 0 | I56: =H56/F56*100 -> 0 | J56: =H56/G56*100 -> 0
C57: 43 | D57: Ostali prihodi za posebne namjene | E57: =SUM(E37,E40,E46,E53) -> 2001157.5 | F57: =SUM(F37,F40,F46,F53) -> 3949596.7 | G57: =SUM(G37,G40,G46,G53) -> 3949596.7 | H57: =SUM(H37,H40,H46,H53) -> 2126781.3 | I57: =H57/F57*100 -> 53.848064 | J57: =H57/G57*100 -> 53.848064
B58: 64 | D58: Prihodi od imovine | E58: =SUM(E59) -> 34.92 | F58: =SUM(F59) -> 200 | G58: =SUM(G59) -> 200 | H58: =SUM(H59) -> 2.74 | I58: =H58/F58*100 -> 1.37 | J58: =H58/G58*100 -> 1.37
B59: 641 | D59: Prihodi od financijske imovine | E59: =SUM(E60,E62,E64,E65) -> 34.92 | F59: =SUM(F60,F62,F64,F65) -> 200 | G59: =SUM(G60,G62,G64,G65) -> 200 | H59: =SUM(H60,H62,H64,H65) -> 2.74 | I59: =H59/F59*100 -> 1.37 | J59: =H59/G59*100 -> 1.37
B60: 6413 | D60: Kamate na oročena sredstva i depozite po viđenju | E60: =SUM(E61) -> 18.17 | F60: =SUM(F61) -> 200 | G60: =SUM(G61) -> 200 | H60: =SUM(H61) -> 2.74 | I60: =H60/F60*100 -> 1.37 | J60: =H60/G60*100 -> 1.37
B61: 64132 | D61: Kamate na oročena sredstva i depozite po viđenju | E61: 18.17 | F61: 200 | G61: 200 | H61: 2.74 | I61: =H61/F61*100 -> 1.37 | J61: =H61/G61*100 -> 1.37
B62: 6414 | D62: Prihodi od zateznih kamata | E62: =SUM(E63) -> 16.75 | F62: =SUM(F63) -> 0 | G62: =SUM(G63) -> 0 | H62: =SUM(H63) -> 0 | I62: =H62/F62*100 -> #DIV/0! | J62: =H62/G62*100 -> #DIV/0!
B63: 64143 | D63: Prihodi od zateznih kamata | E63: 16.75 | H63: 0 | I63: =H63/F63*100 -> #DIV/0! | J63: =H63/G63*100 -> #DIV/0!
B64: 6419 | D64: Ostali prihodi od financijske imovine | I64: =H64/F64*100 -> #DIV/0! | J64: =H64/G64*100 -> #DIV/0!
B65: 6429 | D65: Ostali prihodi od nefinancijske imovine | I65: =H65/F65*100 -> #DIV/0! | J65: =H65/G65*100 -> #DIV/0!
B66: 66 | D66: Prihodi od prodaje proizvoda i robe te pruženih usluga i prihodi od donacija | E66: =SUM(E67) -> 73917.93 | F66: =SUM(F67) -> 199083.29 | G66: =SUM(G67) -> 199083.29 | H66: =SUM(H67) -> 70068.47 | I66: =H66/F66*100 -> 35.195556 | J66: =H66/G66*100 -> 35.195556
B67: 661 | D67: Prihodi od prodaje proizvoda i robe te pruženih usluga | E67: =SUM(E68:E69) -> 73917.93 | F67: =SUM(F68:F69) -> 199083.29 | G67: =SUM(G68:G69) -> 199083.29 | H67: =SUM(H68:H69) -> 70068.47 | I67: =H67/F67*100 -> 35.195556 | J67: =H67/G67*100 -> 35.195556
B68: 6614 | D68: Prihod od prodaje proizvoda i usluga | I68: =H68/F68*100 -> #DIV/0! | J68: =H68/G68*100 -> #DIV/0!
B69: 6615 | D69: Prihodi od pruženih usluga | E69: =SUM(E70) -> 73917.93 | F69: =SUM(F70) -> 199083.29 | G69: =SUM(G70:G71) -> 199083.29 | H69: =SUM(H70:H71) -> 70068.47 | I69: =H69/F69*100 -> 35.195556 | J69: =H69/G69*100 -> 35.195556
B70: 66151 | D70: Prihodi od pruženih usluga | E70: 73917.93 | F70: 199083.29 | G70: 199083.29 | H70: 70068.47 | I70: =H70/F70*100 -> 35.195556 | J70: =H70/G70*100 -> 35.195556
B71: 66153 | D71: Prihodi za udio troškova u zakupu | G71: 0
B72: 68 | D72: Kazne, upravne mjere i ostali prihodi | E72: =SUM(E73) -> 0 | F72: =SUM(F73) -> 0 | G72: =SUM(G73) -> 0 | H72: =SUM(H73) -> 0 | I72: =H72/F72*100 -> #DIV/0! | J72: =H72/G72*100 -> #DIV/0!
B73: 683 | D73: Ostali prihodi | E73: =SUM(E74) -> 0 | F73: =SUM(F74) -> 0 | G73: =SUM(G74) -> 0 | H73: =SUM(H74) -> 0 | I73: =H73/F73*100 -> #DIV/0! | J73: =H73/G73*100 -> #DIV/0!
B74: 6831 | D74: Ostali prihodi | I74: =H74/F74*100 -> #DIV/0! | J74: =H74/G74*100 -> #DIV/0!
C75: 31 | D75: Vlastiti prihodi | E75: =E58+E66+E72 -> 73952.85 | F75: =F58+F66+F72 -> 199283.29 | G75: =G58+G66+G72 -> 199283.29 | H75: =H58+H66+H72 -> 70071.21 | I75: =H75/F75*100 -> 35.161608 | J75: =H75/G75*100 -> 35.161608
B76: 66 | D76: Prihodi od prodaje proizvoda i robe te pruženih usluga i prihodi od donacija | E76: =E77 -> 3807.25 | F76: =F77 -> 50500 | G76: =G77 -> 50500 | H76: =H77 -> 0 | I76: =H76/F76*100 -> 0 | J76: =H76/G76*100 -> 0
B77: 663 | D77: Donacije od pravnih i fizičkih osoba izvan općeg proračuna i povrat donacija po protestiranim jamstvima | E77: =SUM(E78,E80) -> 3807.25 | F77: =SUM(F78,F80) -> 50500 | G77: =SUM(G78,G80) -> 50500 | H77: =SUM(H78,H80) -> 0 | I77: =H77/F77*100 -> 0 | J77: =H77/G77*100 -> 0
B78: 6631 | D78: Tekuće donacije | E78: =SUM(E79) -> 3807.25 | F78: =SUM(F79) -> 50500 | G78: =SUM(G79) -> 50500 | H78: =SUM(H79) -> 0 | I78: =H78/F78*100 -> 0 | J78: =H78/G78*100 -> 0
B79: 66313 | D79: Tekuće donacije | E79: 3807.25 | F79: 50500 | G79: 50500 | H79: 0 | I79: =H79/F79*100 -> 0 | J79: =H79/G79*100 -> 0
B80: 6632 | D80: Kapitalne donacije | I80: =H80/F80*100 -> #DIV/0! | J80: =H80/G80*100 -> #DIV/0!
C81: 61 | D81: Donacije | E81: =SUM(E76) -> 3807.25 | F81: =SUM(F76) -> 50500 | G81: =SUM(G76) -> 50500 | H81: =SUM(H76) -> 0 | I81: =H81/F81*100 -> 0 | J81: =H81/G81*100 -> 0
B82: 65 | D82: Prihodi od upravnih i administrativnih pristojbi, pristojbi po posebnim propisima i nakanda | E82: =SUM(E83) -> 3788.17 | F82: =SUM(F83) -> 5500 | G82: =SUM(G83) -> 5500 | H82: =SUM(H83) -> 1150.28 | I82: =H82/F82*100 -> 20.914182 | J82: =H82/G82*100 -> 20.914182
B83: 652 | D83: Prihodi po posebnim propisima | E83: =E84 -> 3788.17 | F83: =F84 -> 5500 | G83: =G84 -> 5500 | H83: =H84 -> 1150.28 | I83: =H83/F83*100 -> 20.914182 | J83: =H83/G83*100 -> 20.914182
B84: 6526 | D84: Ostali nespomenuti prihodi | E84: =E85 -> 3788.17 | F84: =F85 -> 5500 | G84: =G85 -> 5500 | H84: =H85 -> 1150.28 | I84: =H84/F84*100 -> 20.914182 | J84: =H84/G84*100 -> 20.914182
B85: 65267 | D85: Prihodi od osiguranja i refundacije štete | E85: 3788.17 | F85: 5500 | G85: 5500 | H85: 1150.28 | I85: =H85/F85*100 -> 20.914182 | J85: =H85/G85*100 -> 20.914182
C86: 71 | D86: Prihodi od prodaje nefinacijske imovine i naknade šteta | E86: =SUM(E82) -> 3788.17 | F86: =SUM(F82) -> 5500 | G86: =SUM(G82) -> 5500 | H86: =SUM(H82) -> 1150.28 | I86: =H86/F86*100 -> 20.914182 | J86: =H86/G86*100 -> 20.914182
A87: 7 | D87: Prihodi od prodaje nefinancijske imovine | E87: =SUM(E88) -> 0 | F87: =SUM(F88) -> 0 | G87: =SUM(G88) -> 800 | H87: =SUM(H88) -> 800 | I87: =H87/F87*100 -> #DIV/0! | J87: =H87/G87*100 -> 100
B88: 72 | D88: Prihodi od prodaje proizvedene dugotrajne imovine | E88: =SUM(E89,E91) -> 0 | F88: =SUM(F89,F91) -> 0 | G88: =SUM(G89,G91) -> 800 | H88: =SUM(H89,H91) -> 800 | I88: =H88/F88*100 -> #DIV/0! | J88: =H88/G88*100 -> 100
B89: 721 | D89: Prihodi od prodaje građevinskih objekata | E89: =SUM(E90) -> 0 | F89: =SUM(F90) -> 0 | G89: =SUM(G90) -> 0 | H89: =SUM(H90) -> 0 | I89: =H89/F89*100 -> #DIV/0! | J89: =H89/G89*100 -> #DIV/0!
B90: 7211 | D90: Stambeni objekti | I90: =H90/F90*100 -> #DIV/0! | J90: =H90/G90*100 -> #DIV/0!
B91: 723 | D91: Prihodi od prodaje prijevoznih sredstava | E91: =E92 -> 0 | F91: =F92 -> 0 | G91: =G92 -> 800 | H91: =H92 -> 800 | I91: =H91/F91*100 -> #DIV/0! | J91: =H91/G91*100 -> 100
B92: 7231 | D92: Prijevozna sredstva u cestovnom prometu | E92: =E93 -> 0 | F92: =F93 -> 0 | G92: =G93 -> 800 | H92: =H93 -> 800 | I92: =H92/F92*100 -> #DIV/0! | J92: =H92/G92*100 -> 100
B93: 72313 | D93: Kombi vozila | E93: 0 | F93: 0 | G93: 800 | H93: 800 | I93: =H93/F93*100 -> #DIV/0! | J93: =H93/G93*100 -> 100
C94: 71 | D94: Prihodi od prodaje nefinacijske imovine i naknade šteta | E94: =SUM(E87) -> 0 | F94: =SUM(F87) -> 0 | G94: =SUM(G87) -> 800 | H94: =SUM(H87) -> 800 | I94: =H94/F94*100 -> #DIV/0! | J94: =H94/G94*100 -> 100
A95: Ukupni prihodi | E95: =SUM(E8,E87) -> 2228337.6 | F95: =SUM(F8,F87) -> 4702255.6 | G95: =SUM(G8,G87) -> 4988957.9 | H95: =SUM(H8,H87) -> 2608890.3 | I95: =H95/F95*100 -> 55.481678 | J95: =H95/G95*100 -> 52.293292
A101: RASHODI POSLOVANJA
A102: Razred | B102: Skupina/podskupina/odjeljak | C102: Izvor | D102: Naziv | F102: IZVORNI PLAN | H102: TEKUĆI PLAN | I102: Izvršenje tekuće godine I.-IX.2023.
A103: 1 | F103: 2 | H103: 3 | I103: 4
A104: 3 | D104: Rashodi poslovanja | F104: =F105+F115+F148+F153+F157+F160 -> 0 | H104: =H105+H115+H148+H153+H157+H160 -> 59190451 | I104: =I105+I115+I148+I157+I160 -> 0
B105: 31 | D105: Rashodi za zaposlene | F105: =F106+F111+F113 -> 0 | H105: =H106+H111+H113 -> 38266104 | I105: =I106+I111+I113 -> 0
B106: 311 | D106: Plaće | F106: =SUM(F107:F110) -> 0 | H106: =SUM(H107:H110) -> 31479072 | I106: =SUM(I107:I110) -> 0
...

Sheet  PRIHODI I RASHODI-izvori
A1: I. OPĆI DIO
A2: A. RAČUN PRIHODA I RASHODA
A3: RASHODI PREMA EKONOMSKOJ KLASIFIKACIJI I IZVORIMA FINANCIRANJA
A5: RASHODI POSLOVANJA
A6: Razred | B6: Skupina/podskupina/odjeljak | C6: Izvor | D6: Naziv | E6: OSTVARENJE/IZVRŠENJE 1.-6.2024. | F6: IZVORNI PLAN ZA 2025. | G6: TEKUĆI PLAN 2025. | H6: OSTVARENJE/ IZVRŠENJE 1.-6.2025. | I6: Indeks | J6: Indeks
A7: 1 | E7: 2 | F7: 3 | G7: 4 | H7: 5 | I7: 6=5/3*100 | J7: 7=5/4*100
A8: 3 | D8: Rashodi poslovanja | E8: =E11+E58+(E247-0.01)+E353+E421+E446+E471 -> 2567146.6 | F8: =F11+F58+F247+F353+F421+F446+F471 -> 4299508.7 | G8: =G11+G58+G247+G353+G421+G446+G471 -> 4244329.6 | H8: =H11+H58+H247+H353+H421+H446+H471 -> 2396625.1 | I8: =H8/F8*100 -> 55.741836 | J8: =H8/G8*100 -> 56.466517
A9: 4 | D9: Rashodi za nabavu nefinancijske imovine | E9: =E41+E212+E331+E414+E459+E482 -> 83303.89 | F9: =F41+F212+F331+F414+F459+F482 -> 426425.88 | G9: =G41+G212+G331+G414+G441+G459+G482 -> 369702.17 | H9: =H41+H212+H331+H414+H441+H459+H482 -> 169919.99 | I9: =H9/F9*100 -> 39.847485 | J9: =H9/G9*100 -> 45.961318
D10: KORIŠTENJE DEC-a SREDSTAVA ŽUPANIJE | I10: =H10/F10*100 -> #DIV/0! | J10: =H10/G10*100 -> #DIV/0!
A11: 3 | D11: Rashodi poslovanja | E11: =E12+E19 -> 53837.27 | F11: =F12+F19 -> 103638.02 | G11: =G12+G19 -> 102264.02 | H11: =H12+H19 -> 116122.25 | I11: =H11/F11*100 -> 112.04599 | J11: =H11/G11*100 -> 113.55142
B12: 31 | D12: Rashodi za zaposlene | E12: =E13+E16 -> 4777.92 | F12: =F13+F16 -> 6978.02 | G12: =G13+G16 -> 6978.02 | H12: =H13+H16 -> 44588.96 | I12: =H12/F12*100 -> 638.99158 | J12: =H12/G12*100 -> 638.99158
B13: 311 | D13: Plaće | E13: =SUM(E14) -> 4101.24 | F13: =SUM(F14) -> 5989.73 | G13: =SUM(G14) -> 5989.73 | H13: =SUM(H14) -> 3939.03 | I13: =H13/F13*100 -> 65.763064 | J13: =H13/G13*100 -> 65.763064
B14: 3111 | D14: Plaće za redovan rad | E14: =SUM(E15) -> 4101.24 | F14: =SUM(F15) -> 5989.73 | G14: =SUM(G15) -> 5989.73 | H14: =SUM(H15) -> 3939.03 | I14: =H14/F14*100 -> 65.763064 | J14: =H14/G14*100 -> 65.763064
B15: 31111 | D15: Plaće za redovan rad | E15: ='Rekapitulacija Posebni dio'!C480+'Rekapitulacija Posebni dio'!C499+'Rekapitulacija Posebni dio'!C518 -> 4101.24 | F15: ='Rekapitulacija Posebni dio'!D480+'Rekapitulacija Posebni dio'!D499+'Rekapitulacija Posebni dio'!D518 -> 5989.73 | G15: ='Rekapitulacija Posebni dio'!E480+'Rekapitulacija Posebni dio'!E499+'Rekapitulacija Posebni dio'!E518 -> 5989.73 | H15: ='Rekapitulacija Posebni dio'!F480+'Rekapitulacija Posebni dio'!F499+'Rekapitulacija Posebni dio'!F518 -> 3939.03 | I15: =H15/F15*100 -> 65.763064 | J15: =H15/G15*100 -> 65.763064
B16: 313 | D16: Doprinosi na plaće | E16: =SUM(E17) -> 676.68 | F16: =SUM(F17) -> 988.29 | G16: =SUM(G17) -> 988.29 | H16: =SUM(H17) -> 40649.93 | I16: =H16/F16*100 -> 4113.1581 | J16: =H16/G16*100 -> 4113.1581
B17: 3132 | D17: Doprinosi za obvezno zdravstveno osiguranje | E17: =SUM(E18) -> 676.68 | F17: =SUM(F18) -> 988.29 | G17: =SUM(G18) -> 988.29 | H17: =SUM(H18) -> 40649.93 | I17: =H17/F17*100 -> 4113.1581 | J17: =H17/G17*100 -> 4113.1581
B18: 31321 | D18: Doprinosi za obvezno zdravstveno osiguranje | E18: ='Rekapitulacija Posebni dio'!C485+'Rekapitulacija Posebni dio'!C504+'Rekapitulacija Posebni dio'!C523 -> 676.68 | F18: ='Rekapitulacija Posebni dio'!D485+'Rekapitulacija Posebni dio'!D504+'Rekapitulacija Posebni dio'!D523 -> 988.29 | G18: ='Rekapitulacija Posebni dio'!E485+'Rekapitulacija Posebni dio'!E504+'Rekapitulacija Posebni dio'!E523 -> 988.29 | H18: ='Rekapitulacija Posebni dio'!F401+'Rekapitulacija Posebni dio'!F485+'Rekapitulacija Posebni dio'!F504+'Rekapitulacija Posebni dio'!F523 -> 40649.93 | I18: =H18/F18*100 -> 4113.1581 | J18: =H18/G18*100 -> 4113.1581
B19: 32 | D19: Materijalni rashodi | E19: =E26 -> 49059.35 | F19: =F26 -> 96660 | G19: =G20+G26+G37 -> 95286 | H19: =H20+H26+H37 -> 71533.29 | I19: =I20+I26 -> #DIV/0! | J19: =H19/G19*100 -> 75.072193
B20: 322 | D20: Rashodi za materijal i energiju | G20: =G24 -> 0 | H20: =H21+H24 -> 0 | I20: =H20/F20*100 -> #DIV/0! | J20: =H20/G20*100 -> #DIV/0!
B21: 3221 | D21: Uredski materijal i ostali materijalni rashodi | G21: =G22+G23 -> 0 | H21: =H22+H23 -> 0 | I21: =H21/F21*100 -> #DIV/0! | J21: =H21/G21*100 -> #DIV/0!
B22: 32211 | D22: Uredski materijal | G22: ='Rekapitulacija Posebni dio'!E407 -> 0 | H22: ='Rekapitulacija Posebni dio'!F407 -> 0 | I22: =H22/F22*100 -> #DIV/0! | J22: =H22/G22*100 -> #DIV/0!
B23: 32214 | D23: Materijal i sredstva za čišćenje i održavanje | G23: ='Rekapitulacija Posebni dio'!E408 -> 0 | H23: ='Rekapitulacija Posebni dio'!F408 -> 0 | I23: =H23/F23*100 -> #DIV/0! | J23: =H23/G23*100 -> #DIV/0!
B24: 3224 | D24: Materijal i dijelovi za tekuće i investicijsko održavanje | G24: =G25 -> 0 | H24: =H25 -> 0 | I24: =H24/F24*100 -> #DIV/0! | J24: =H24/G24*100 -> #DIV/0!
B25: 32241 | D25: Materijal i dijelovi za tekuće i invest. održavanje građ. objekata | G25: ='Rekapitulacija Posebni dio'!E448 -> 0 | H25: ='Rekapitulacija Posebni dio'!F448 -> 0 | I25: =H25/F25*100 -> #DIV/0! | J25: =H25/G25*100 -> #DIV/0!
B26: 323 | D26: Rashodi za usluge | E26: =E29+E35 -> 49059.35 | F26: =F29+F35 -> 96660 | G26: =G29+G33+G35 -> 95286 | H26: =H27+H29+H33+H35 -> 33086.95 | I26: =H26/F26*100 -> 34.23024 | J26: =H26/G26*100 -> 34.723831
B27: 3231 | D27: Usluge telefona i pošte | G27: =G28 -> 0 | H27: =H28 -> 1553.66 | I27: =H27/F27*100 -> #DIV/0! | J27: =H27/G27*100 -> #DIV/0!
B28: 32311 | D28: Usluge telefona, telefaksa | G28: ='Rekapitulacija Posebni dio'!E417 -> 0 | H28: ='Rekapitulacija Posebni dio'!F417 -> 1553.66 | I28: =H28/F28*100 -> #DIV/0! | J28: =H28/G28*100 -> #DIV/0!
B29: 3232 | D29: Usluge tekućeg i investicijskog održavanja | E29: =SUM(E30:E32) -> 31610.36 | F29: =SUM(F30:F32) -> 64440 | G29: =SUM(G30:G32) -> 55286 | H29: =SUM(H30:H32) -> 12192.03 | I29: =H29/F29*100 -> 18.919972 | J29: =H29/G29*100 -> 22.052653
B30: 32321 | D30: Usluge tekućeg i investicijskog održavanja građevinskih objekata | E30: ='Rekapitulacija Posebni dio'!C451 -> 8274.89 | F30: ='Rekapitulacija Posebni dio'!D451 -> 16110 | G30: ='Rekapitulacija Posebni dio'!E451 -> 20000 | H30: ='Rekapitulacija Posebni dio'!F451 -> 3395.31 | I30: =H30/F30*100 -> 21.075791 | J30: =H30/G30*100 -> 16.97655
B31: 32322 | D31: Usluge tekućeg i investicijskog održavanja postrojenja i opreme | E31: ='Rekapitulacija Posebni dio'!C452 -> 4687.71 | F31: ='Rekapitulacija Posebni dio'!D452 -> 16110 | G31: ='Rekapitulacija Posebni dio'!E452 -> 10000 | H31: ='Rekapitulacija Posebni dio'!F452 -> 2948.21 | I31: =H31/F31*100 -> 18.300497 | J31: =H31/G31*100 -> 29.4821
B32: 32323 | D32: Usluge tekućeg i investicijskog održavanja prijevoznih sredstava | E32: ='Rekapitulacija Posebni dio'!C453 -> 18647.76 | F32: ='Rekapitulacija Posebni dio'!D453 -> 32220 | G32: ='Rekapitulacija Posebni dio'!E453 -> 25286 | H32: ='Rekapitulacija Posebni dio'!F453 -> 5848.51 | I32: =H32/F32*100 -> 18.1518 | J32: =H32/G32*100 -> 23.129439
B33: 3236 | D33: Zdravstvene i veterinarske usluge | G33: =G34 -> 0 | H33: =H34 -> 0 | I33: =H33/F33*100 -> #DIV/0! | J33: =H33/G33*100 -> #DIV/0!
B34: 32369 | D34: Zdravstvene i veterinarske usluge | G34: ='Rekapitulacija Posebni dio'!E419 -> 0 | H34: ='Rekapitulacija Posebni dio'!F419 -> 0 | I34: =H34/F34*100 -> #DIV/0! | J34: =H34/G34*100 -> #DIV/0!
B35: 3238 | D35: Računalne usluge | E35: =SUM(E36) -> 17448.99 | F35: =SUM(F36) -> 32220 | G35: =SUM(G36) -> 40000 | H35: =SUM(H36) -> 19341.26 | I35: =H35/F35*100 -> 60.02874 | J35: =H35/G35*100 -> 48.35315
B36: 32389 | D36: Ostale računalne usluge | E36: ='Rekapitulacija Posebni dio'!C457 -> 17448.99 | F36: ='Rekapitulacija Posebni dio'!D457 -> 32220 | G36: ='Rekapitulacija Posebni dio'!E457 -> 40000 | H36: ='Rekapitulacija Posebni dio'!F457 -> 19341.26 | I36: =H36/F36*100 -> 60.02874 | J36: =H36/G36*100 -> 48.35315
B37: 325 | D37: Rashodi za usluge | G37: =G38 -> 0 | H37: =H38 -> 38446.34 | I37: =H37/F37*100 -> #DIV/0! | J37: =H37/G37*100 -> #DIV/0!
B38: 3251 | D38: Ostale usluge | G38: =G39+G40 -> 0 | H38: =H39+H40 -> 38446.34 | I38: =H38/F38*100 -> #DIV/0! | J38: =H38/G38*100 -> #DIV/0!
B39: 32511 | D39: Rashodi po osnovi utroška lijekova | G39: ='Rekapitulacija Posebni dio'!E427 -> 0 | H39: ='Rekapitulacija Posebni dio'!F427 -> 0 | I39: =H39/F39*100 -> #DIV/0! | J39: =H39/G39*100 -> #DIV/0!
B40: 32513 | D40: Rashodi po osnovi utroška potrošnog medicinskog materijala | G40: ='Rekapitulacija Posebni dio'!E428 -> 0 | H40: ='Rekapitulacija Posebni dio'!F428 -> 38446.34 | I40: =H40/F40*100 -> #DIV/0! | J40: =H40/G40*100 -> #DIV/0!
A41: 4 | D41: Rashodi za nabavu nefinancijske imovine | E41: =E42+E53 -> 76246.27 | F41: =F42+F53 -> 265723.71 | G41: =G42+G53 -> 209000 | H41: =H42+H53 -> 0 | I41: =H41/F41*100 -> 0 | J41: =H41/G41*100 -> 0
B42: 42 | D42: Rashodi za nabavu proizvedene dug. imovine | E42: =SUM(E43) -> 66332.4 | F42: =SUM(F43) -> 135136.05 | G42: =SUM(G43) -> 178000 | H42: =SUM(H43) -> 0 | I42: =H42/F42*100 -> 0 | J42: =H42/G42*100 -> 0
B43: 422 | D43: Postrojenja i oprema | E43: =E44+E47+E49+E51 -> 66332.4 | F43: =F44+F47+F49+F51 -> 135136.05 | G43: =G44+G47+G49+G51 -> 178000 | H43: =H44+H47+H49+H51 -> 0 | I43: =H43/F43*100 -> 0 | J43: =H43/G43*100 -> 0
B44: 4221 | D44: Uredska oprema i namještaj | E44: =SUM(E45:E46) -> 0 | F44: =SUM(F45:F46) -> 27345.38 | G44: =SUM(G45:G46) -> 6000 | H44: =SUM(H45:H46) -> 0 | I44: =H44/F44*100 -> 0 | J44: =H44/G44*100 -> 0
B45: 42211 | D45: Računala i računalna oprema | E45: ='Rekapitulacija Posebni dio'!C462 -> 0 | F45: ='Rekapitulacija Posebni dio'!D462 -> 5865.38 | G45: ='Rekapitulacija Posebni dio'!E462 -> 5000 | H45: ='Rekapitulacija Posebni dio'!F462 -> 0 | I45: =H45/F45*100 -> 0 | J45: =H45/G45*100 -> 0
B46: 42212 | D46: Uredski namještaj | E46: ='Rekapitulacija Posebni dio'!C463 -> 0 | F46: ='Rekapitulacija Posebni dio'!D463 -> 21480 | G46: ='Rekapitulacija Posebni dio'!E463 -> 1000 | H46: ='Rekapitulacija Posebni dio'!F463 -> 0 | I46: =H46/F46*100 -> 0 | J46: =H46/G46*100 -> 0
B47: 4223 | D47: Oprema za održavanje iz zaštitu | E47: =SUM(E48) -> 1457.4 | F47: =SUM(F48) -> 7518 | G47: =SUM(G48) -> 3000 | H47: =SUM(H48) -> 0 | I47: =H47/F47*100 -> 0 | J47: =H47/G47*100 -> 0
B48: 42231 | D48: Oprema za grijanje, ventilaciju i hlađenje | E48: ='Rekapitulacija Posebni dio'!C465 -> 1457.4 | F48: ='Rekapitulacija Posebni dio'!D465 -> 7518 | G48: ='Rekapitulacija Posebni dio'!E465 -> 3000 | H48: ='Rekapitulacija Posebni dio'!F465 -> 0 | I48: =H48/F48*100 -> 0 | J48: =H48/G48*100 -> 0
B49: 4224 | D49: Medicinska i laboratorijska oprema | E49: =SUM(E50) -> 54875 | F49: =SUM(F50) -> 62365.84 | G49: =SUM(G50) -> 134000 | H49: =SUM(H50) -> 0 | I49: =H49/F49*100 -> 0 | J49: =H49/G49*100 -> 0
B50: 42241 | D50: Medicinska oprema | E50: ='Rekapitulacija Posebni dio'!C467 -> 54875 | F50: ='Rekapitulacija Posebni dio'!D467 -> 62365.84 | G50: ='Rekapitulacija Posebni dio'!E467 -> 134000 | H50: ='Rekapitulacija Posebni dio'!F467 -> 0 | I50: =H50/F50*100 -> 0 | J50: =H50/G50*100 -> 0
B51: 4225 | D51: Instrumenti, uređaji i strojevi | E51: =SUM(E52) -> 10000 | F51: =SUM(F52) -> 37906.83 | G51: =SUM(G52) -> 35000 | H51: =SUM(H52) -> 0 | I51: =H51/F51*100 -> 0 | J51: =H51/G51*100 -> 0
B52: 42259 | D52: Instrumenti, uređaji i strojevi | E52: ='Rekapitulacija Posebni dio'!C469 -> 10000 | F52: ='Rekapitulacija Posebni dio'!D469 -> 37906.83 | G52: ='Rekapitulacija Posebni dio'!E469 -> 35000 | H52: ='Rekapitulacija Posebni dio'!F469 -> 0 | I52: =H52/F52*100 -> 0 | J52: =H52/G52*100 -> 0
B53: 45 | D53: Rashodi za dodatna ulaganja na financijskoj imovini | E53: =E54 -> 9913.87 | F53: =F54 -> 130587.66 | G53: =G54 -> 31000 | H53: =H54 -> 0 | I53: =H53/F53*100 -> 0 | J53: =H53/G53*100 -> 0
B54: 451 | D54: Dodatna ulaganja na građevinskim objektima | E54: =SUM(E55) -> 9913.87 | F54: =SUM(F55) -> 130587.66 | G54: =SUM(G55) -> 31000 | H54: =SUM(H55) -> 0 | I54: =H54/F54*100 -> 0 | J54: =H54/G54*100 -> 0
B55: 4511 | D55: Dodatna ulaganja na građevinskim objektima | E55: =SUM(E56) -> 9913.87 | F55: =SUM(F56) -> 130587.66 | G55: =SUM(G56) -> 31000 | H55: =SUM(H56) -> 0 | I55: =H55/F55*100 -> 0 | J55: =H55/G55*100 -> 0
B56: 45111 | D56: Dodatna ulaganja na građevinskim objektima | E56: ='Rekapitulacija Posebni dio'!C473 -> 9913.87 | F56: ='Rekapitulacija Posebni dio'!D473 -> 130587.66 | G56: ='Rekapitulacija Posebni dio'!E473 -> 31000 | H56: ='Rekapitulacija Posebni dio'!F473 -> 0 | I56: =H56/F56*100 -> 0 | J56: =H56/G56*100 -> 0
C57: 11 | D57: Opći prihodi i primici | E57: =E11+E41 -> 130083.54 | F57: =F11+F41 -> 369361.73 | G57: =G11+G41 -> 311264.02 | H57: =H11+H41 -> 116122.25 | I57: =H57/F57*100 -> 31.438625 | J57: =H57/G57*100 -> 37.306673
A58: 3 | D58: Rashodi poslovanja | E58: =E59+E82+E178+E189+E193+E198 -> 2419806.4 | F58: =F59+F82+F178+F189+F193+F198 -> 3883930.4 | G58: =G59+G82+G178+G189+G193+G198 -> 3770125.3 | H58: =H59+H82+H178+H189+H193+H198 -> 2181986.2 | I58: =H58/F58*100 -> 56.179848 | J58: =H58/G58*100 -> 57.875694
B59: 31 | D59: Rashodi za zaposlene | E59: =E60+E69+E77 -> 2006367.1 | F59: =F60+F69+F77 -> 3042112.3 | G59: =G60+G69+G77 -> 3042112.3 | H59: =H60+H69+H77 -> 1886674.4 | I59: =H59/F59*100 -> 62.018567 | J59: =H59/G59*100 -> 62.018567
B60: 311 | D60: Plaće | E60: =E61+E65+E67 -> 1692619.5 | F60: =F61+F65+F67 -> 2505491.4 | G60: =G61+G65+G67 -> 2505491.4 | H60: =H61+H65+H67 -> 1630599.2 | I60: =H60/F60*100 -> 65.081015 | J60: =H60/G60*100 -> 65.081015
B61: 3111 | D61: Plaće za redovan rad | E61: =SUM(E62:E63) -> 1607506.6 | F61: =SUM(F62:F63) -> 2456384 | G61: =SUM(G62:G63) -> 2456384 | H61: =SUM(H62:H63) -> 1576823.2 | I61: =H61/F61*100 -> 64.192865 | J61: =H61/G61*100 -> 64.192865
B62: 31111 | D62: Plaće za redovan rad | E62: ='Rekapitulacija Posebni dio'!C12 -> 1605790.6 | F62: ='Rekapitulacija Posebni dio'!D12 -> 2451384 | G62: ='Rekapitulacija Posebni dio'!E12 -> 2451384 | H62: ='Rekapitulacija Posebni dio'!F12 -> 1576823.2 | I62: =H62/F62*100 -> 64.323797 | J62: =H62/G62*100 -> 64.323797
B63: 31113 | D63: Plaće po sudskim presudama | E63: ='Rekapitulacija Posebni dio'!C13 -> 1715.99 | F63: ='Rekapitulacija Posebni dio'!D13 -> 5000 | G63: ='Rekapitulacija Posebni dio'!E13 -> 5000 | H63: ='Rekapitulacija Posebni dio'!F13 -> 0 | I63: =H63/F63*100 -> 0 | J63: =H63/G63*100 -> 0
B64: 3112 | D64: Plaće u naravi | I64: =H64/F64*100 -> #DIV/0! | J64: =H64/G64*100 -> #DIV/0!
B65: 3113 | D65: Plaće za prekovremeni rad | E65: =SUM(E66) -> 43363.13 | F65: =SUM(F66) -> 49107.44 | G65: =SUM(G66) -> 49107.44 | H65: =SUM(H66) -> 53776 | I65: =H65/F65*100 -> 109.50683 | J65: =H65/G65*100 -> 109.50683
B66: 31131 | D66: Plaće za prekovremeni rad | E66: ='Rekapitulacija Posebni dio'!C16 -> 43363.13 | F66: ='Rekapitulacija Posebni dio'!D16 -> 49107.44 | G66: ='Rekapitulacija Posebni dio'!E16 -> 49107.44 | H66: ='Rekapitulacija Posebni dio'!F16 -> 53776 | I66: =H66/F66*100 -> 109.50683 | J66: =H66/G66*100 -> 109.50683
B67: 3114 | D67: Plaća za posebne uvjete rada | E67: =SUM(E68) -> 41749.86 | F67: =SUM(F68) -> 0 | G67: =SUM(G68) -> 0 | H67: =SUM(H68) -> 0 | I67: =H67/F67*100 -> #DIV/0! | J67: =H67/G67*100 -> #DIV/0!
B68: 31141 | D68: Plaća za posebne uvjete rada | E68: ='Rekapitulacija Posebni dio'!C18 -> 41749.86 | F68: ='Rekapitulacija Posebni dio'!D18 -> 0 | G68: ='Rekapitulacija Posebni dio'!E18 -> 0 | H68: ='Rekapitulacija Posebni dio'!F18 -> 0 | I68: =H68/F68*100 -> #DIV/0! | J68: =H68/G68*100 -> #DIV/0!
B69: 312 | D69: Ostali rashodi za zaposlene | E69: =SUM(E70) -> 46531.28 | F69: =SUM(F70) -> 123214.88 | G69: =SUM(G70) -> 123214.88 | H69: =SUM(H70) -> 26084.95 | I69: =H69/F69*100 -> 21.170292 | J69: =H69/G69*100 -> 21.170292
B70: 3121 | D70: Ostali rashodi za zaposlene | E70: =SUM(E71:E76) -> 46531.28 | F70: =SUM(F71:F76) -> 123214.88 | G70: =SUM(G71:G76) -> 123214.88 | H70: =SUM(H71:H76) -> 26084.95 | I70: =H70/F70*100 -> 21.170292 | J70: =H70/G70*100 -> 21.170292
B71: 31212 | D71: Ostali rashodi za zaposlene-nagrade | E71: ='Rekapitulacija Posebni dio'!C21 -> 22279.33 | F71: ='Rekapitulacija Posebni dio'!D21 -> 13000 | G71: ='Rekapitulacija Posebni dio'!E21 -> 13000 | H71: ='Rekapitulacija Posebni dio'!F21 -> 10039.91 | I71: =H71/F71*100 -> 77.230077 | J71: =H71/G71*100 -> 77.230077
B72: 31213 | D72: Darovi | E72: ='Rekapitulacija Posebni dio'!C22 -> 22436.17 | F72: ='Rekapitulacija Posebni dio'!D22 -> 25000 | G72: ='Rekapitulacija Posebni dio'!E22 -> 25000 | H72: ='Rekapitulacija Posebni dio'!F22 -> 13062.16 | I72: =H72/F72*100 -> 52.24864 | J72: =H72/G72*100 -> 52.24864
B73: 31214 | D73: Otpremnine | E73: ='Rekapitulacija Posebni dio'!C23 -> 0 | F73: ='Rekapitulacija Posebni dio'!D23 -> 2000 | G73: ='Rekapitulacija Posebni dio'!E23 -> 2000 | H73: ='Rekapitulacija Posebni dio'!F23 -> 0 | I73: =H73/F73*100 -> 0 | J73: =H73/G73*100 -> 0
B74: 31215 | D74: Naknade za bolest, invalidnost i smrt | E74: ='Rekapitulacija Posebni dio'!C24 -> 1815.78 | F74: ='Rekapitulacija Posebni dio'!D24 -> 3800 | G74: ='Rekapitulacija Posebni dio'!E24 -> 3800 | H74: ='Rekapitulacija Posebni dio'!F24 -> 2082.88 | I74: =H74/F74*100 -> 54.812632 | J74: =H74/G74*100 -> 54.812632
B75: 31216 | D75: Regres za godišnji odmor | E75: ='Rekapitulacija Posebni dio'!C25 -> 0 | F75: ='Rekapitulacija Posebni dio'!D25 -> 40000 | G75: ='Rekapitulacija Posebni dio'!E25 -> 40000 | H75: ='Rekapitulacija Posebni dio'!F25 -> 900 | I75: =H75/F75*100 -> 2.25 | J75: =H75/G75*100 -> 2.25
B76: 31219 | D76: Ostali nenavedeni rashodi za zaposlene | E76: ='Rekapitulacija Posebni dio'!C26 -> 0 | F76: ='Rekapitulacija Posebni dio'!D26 -> 39414.88 | G76: ='Rekapitulacija Posebni dio'!E26 -> 39414.88 | H76: ='Rekapitulacija Posebni dio'!F26 -> 0 | I76: =H76/F76*100 -> 0 | J76: =H76/G76*100 -> 0
B77: 313 | D77: Doprinosi na plaće | E77: =E78+E80 -> 267216.27 | F77: =F78+F80 -> 413406 | G77: =G78+G80 -> 413406 | H77: =H78+H80 -> 229990.24 | I77: =H77/F77*100 -> 55.633019 | J77: =H77/G77*100 -> 55.633019
B78: 3132 | D78: Doprinosi za obvezno zdravstveno osiguranje | E78: =SUM(E79) -> 267178.53 | F78: =SUM(F79) -> 413406 | G78: =SUM(G79) -> 413406 | H78: =SUM(H79) -> 229990.24 | I78: =H78/F78*100 -> 55.633019 | J78: =H78/G78*100 -> 55.633019
B79: 31321 | D79: Doprinosi za obvezno zdravstveno osiguranje | E79: ='Rekapitulacija Posebni dio'!C29 -> 267178.53 | F79: ='Rekapitulacija Posebni dio'!D29 -> 413406 | G79: ='Rekapitulacija Posebni dio'!E29 -> 413406 | H79: ='Rekapitulacija Posebni dio'!F29 -> 229990.24 | I79: =H79/F79*100 -> 55.633019 | J79: =H79/G79*100 -> 55.633019
B80: 3133 | D80: Doprinosi za zapošljavanje | E80: =E81 -> 37.74 | F80: =F81 -> 0 | G80: =G81 -> 0 | H80: =H81 -> 0 | I80: =H80/F80*100 -> #DIV/0! | J80: =H80/G80*100 -> #DIV/0!
B81: 31332 | D81: Doprinosi za obvezno osiguranje u slučaju nezaposlenosti | E81: ='Rekapitulacija Posebni dio'!C31 -> 37.74 | F81: ='Rekapitulacija Posebni dio'!D31 -> 0 | G81: ='Rekapitulacija Posebni dio'!E31 -> 0 | H81: ='Rekapitulacija Posebni dio'!F31 -> 0 | I81: =H81/F81*100 -> #DIV/0! | J81: =H81/G81*100 -> #DIV/0!
B82: 32 | D82: Materijalni rashodi | E82: =E83+E95+E120+E151+E154+E158 -> 400850.39 | F82: =F83+F95+F120+F151+F154+F158 -> 829345.58 | G82: =G83+G95+G120+G151+G154+G158 -> 715540.49 | H82: =H83+H95+H120+H151+H154+H158 -> 292040.38 | I82: =H82/F82*100 -> 35.213352 | J82: =H82/G82*100 -> 40.813955
B83: 321 | D83: Naknade troškova zaposlenima | E83: =E84+E88+E90+E93 -> 54208.855 | F83: =F84+F88+F90+F93 -> 106441.57 | G83: =G84+G88+G90+G93 -> 106441.57 | H83: =H84+H88+H90+H93 -> 44479.62 | I83: =H83/F83*100 -> 41.787828 | J83: =H83/G83*100 -> 41.787828
B84: 3211 | D84: Službena putovanja | E84: =SUM(E85:E87) -> 1130.65 | F84: =SUM(F85:F87) -> 18977.24 | G84: =SUM(G85:G87) -> 18977.24 | H84: =SUM(H85:H87) -> 1201.39 | I84: =H84/F84*100 -> 6.3306888 | J84: =H84/G84*100 -> 6.3306888
B85: 32111 | D85: Dnevnice za službeni put u zemlji | E85: ='Rekapitulacija Posebni dio'!C35 -> 1130.65 | F85: ='Rekapitulacija Posebni dio'!D35 -> 11800 | G85: ='Rekapitulacija Posebni dio'!E35 -> 11800 | H85: ='Rekapitulacija Posebni dio'!F35 -> 825 | I85: =H85/F85*100 -> 6.9915254 | J85: =H85/G85*100 -> 6.9915254
B86: 32113 | D86: Naknade za smještaj na službenom putu u zemlji | E86: ='Rekapitulacija Posebni dio'!C36 -> 0 | F86: ='Rekapitulacija Posebni dio'!D36 -> 700 | G86: ='Rekapitulacija Posebni dio'!E36 -> 700 | H86: ='Rekapitulacija Posebni dio'!F36 -> 227.6 | I86: =H86/F86*100 -> 32.514286 | J86: =H86/G86*100 -> 32.514286
B87: 32115 | D87: Naknade za prijevoz na službenom putu u zemlji | E87: ='Rekapitulacija Posebni dio'!C37 -> 0 | F87: ='Rekapitulacija Posebni dio'!D37 -> 6477.24 | G87: ='Rekapitulacija Posebni dio'!E37 -> 6477.24 | H87: ='Rekapitulacija Posebni dio'!F37 -> 148.79 | I87: =H87/F87*100 -> 2.2971204 | J87: =H87/G87*100 -> 2.2971204
B88: 3212 | D88: Naknade za prijevoz, za rad na terenu i odvojeni život | E88: =SUM(E89) -> 48896.01 | F88: =SUM(F89) -> 82288.14 | G88: =SUM(G89) -> 82288.14 | H88: =SUM(H89) -> 40439.54 | I88: =H88/F88*100 -> 49.143826 | J88: =H88/G88*100 -> 49.143826
B89: 32121 | D89: Naknade za prijevoz, za rad na terenu i odvojeni život | E89: ='Rekapitulacija Posebni dio'!C39 -> 48896.01 | F89: ='Rekapitulacija Posebni dio'!D39 -> 82288.14 | G89: ='Rekapitulacija Posebni dio'!E39 -> 82288.14 | H89: ='Rekapitulacija Posebni dio'!F39 -> 40439.54 | I89: =H89/F89*100 -> 49.143826 | J89: =H89/G89*100 -> 49.143826
B90: 3213 | D90: Stručno usavršavanje zaposlenih | E90: =SUM(E91:E92) -> 4182.195 | F90: =SUM(F91:F92) -> 4778.02 | G90: =SUM(G91:G92) -> 4778.02 | H90: =SUM(H91:H92) -> 2838.69 | I90: =H90/F90*100 -> 59.41143 | J90: =H90/G90*100 -> 59.41143
B91: 32131 | D91: Seminari, savjetovanja i simpoziji | E91: ='Rekapitulacija Posebni dio'!C41 -> 480 | F91: ='Rekapitulacija Posebni dio'!D41 -> 2200 | G91: ='Rekapitulacija Posebni dio'!E41 -> 2200 | H91: ='Rekapitulacija Posebni dio'!F41 -> 802.5 | I91: =H91/F91*100 -> 36.477273 | J91: =H91/G91*100 -> 36.477273
B92: 32132 | D92: Tečajevi i stručni ispiti | E92: ='Rekapitulacija Posebni dio'!C42 -> 3702.195 | F92: ='Rekapitulacija Posebni dio'!D42 -> 2578.02 | G92: ='Rekapitulacija Posebni dio'!E42 -> 2578.02 | H92: ='Rekapitulacija Posebni dio'!F42 -> 2036.19 | I92: =H92/F92*100 -> 78.982708 | J92: =H92/G92*100 -> 78.982708
B93: 3214 | D93: Ostale naknade troškova zaposlenima | E93: =SUM(E94) -> 0 | F93: =SUM(F94) -> 398.17 | G93: =SUM(G94) -> 398.17 | H93: =SUM(H94) -> 0 | I93: =H93/F93*100 -> 0 | J93: =H93/G93*100 -> 0
B94: 32141 | D94: Naknada za korištenje privatnog autoobila u službene svrhe | E94: ='Rekapitulacija Posebni dio'!C44 -> 0 | F94: ='Rekapitulacija Posebni dio'!D44 -> 398.17 | G94: ='Rekapitulacija Posebni dio'!E44 -> 398.17 | H94: ='Rekapitulacija Posebni dio'!F44 -> 0 | I94: =H94/F94*100 -> 0 | J94: =H94/G94*100 -> 0
B95: 322 | D95: Rashodi za materijal i energiju | E95: =E96+E102+E106+E111+E116+E118 -> 217379.58 | F95: =F96+F102+F106+F111+F116+F118 -> 431866.74 | G95: =G96+G102+G106+G111+G116+G118 -> 146061.65 | H95: =H96+H102+H106+H111+H116+H118 -> 59362.92 | I95: =H95/F95*100 -> 13.745657 | J95: =H95/G95*100 -> 40.642373
B96: 3221 | D96: Uredski materijal i ostali materijalni rashodi | E96: =SUM(E97:E101) -> 17785.62 | F96: =SUM(F97:F101) -> 29862.63 | G96: =SUM(G97:G101) -> 29862.63 | H96: =SUM(H97:H101) -> 13387.22 | I96: =H96/F96*100 -> 44.82934 | J96: =H96/G96*100 -> 44.82934
B97: 32211 | D97: Uredski materijal | E97: ='Rekapitulacija Posebni dio'!C47 -> 9339.79 | F97: ='Rekapitulacija Posebni dio'!D47 -> 12000 | G97: ='Rekapitulacija Posebni dio'!E47 -> 12000 | H97: ='Rekapitulacija Posebni dio'!F47 -> 4925.26 | I97: =H97/F97*100 -> 41.043833 | J97: =H97/G97*100 -> 41.043833
B98: 32212 | D98: Literatura | E98: ='Rekapitulacija Posebni dio'!C48 -> 0 | F98: ='Rekapitulacija Posebni dio'!D48 -> 500 | G98: ='Rekapitulacija Posebni dio'!E48 -> 500 | H98: ='Rekapitulacija Posebni dio'!F48 -> 270 | I98: =H98/F98*100 -> 54 | J98: =H98/G98*100 -> 54
B99: 32214 | D99: Materijal i sredstva za čišćenje i održavanje | E99: ='Rekapitulacija Posebni dio'!C49 -> 6750.85 | F99: ='Rekapitulacija Posebni dio'!D49 -> 15000 | G99: ='Rekapitulacija Posebni dio'!E49 -> 15000 | H99: ='Rekapitulacija Posebni dio'!F49 -> 5482.1 | I99: =H99/F99*100 -> 36.547333 | J99: =H99/G99*100 -> 36.547333
B100: 32215 | D100: Službena, radna i zaštitna odjeća | E100: ='Rekapitulacija Posebni dio'!C50 -> 0 | F100: ='Rekapitulacija Posebni dio'!D50 -> 700 | G100: ='Rekapitulacija Posebni dio'!E50 -> 700 | H100: ='Rekapitulacija Posebni dio'!F50 -> 0 | I100: =H100/F100*100 -> 0 | J100: =H100/G100*100 -> 0
B101: 32219 | D101: Ostali materijal za potrebe redovnog poslovanja | E101: ='Rekapitulacija Posebni dio'!C51 -> 1694.98 | F101: ='Rekapitulacija Posebni dio'!D51 -> 1662.63 | G101: ='Rekapitulacija Posebni dio'!E51 -> 1662.63 | H101: ='Rekapitulacija Posebni dio'!F51 -> 2709.86 | I101: =H101/F101*100 -> 162.98635 | J101: =H101/G101*100 -> 162.98635
...

Sheet RASHODI-funkcijska
A2: I. OPĆI DIO
A4: A. RAČUN PRIHODA I RASHODA
A6: IZVJEŠTAJ O RASHODIMA PREMA FUNKCIJSKOJ KLASIFIKACIJI
A8: BROJČANA OZNAKA I NAZIV | B8: OSTVARENJE/IZVRŠENJE 1.-6.2024. | C8: IZVORNI PLAN ZA 2025. | D8: TEKUĆI PLAN 2025. | E8: Izvršenje tekuće godine I.-VI.2025. | F8: Indeks | G8: Indeks
A9: 1 | C9: 2 | D9: 3 | E9: 4 | F9: 5 | G9: 5
A10: UKUPNO RASHODI | B10: ='RASHODI-ek.kl.'!D248 -> 2650450.5 | C10: ='RASHODI-ek.kl.'!E248 -> 4725934.6 | D10: ='RASHODI-ek.kl.'!F248 -> 4614031.8 | E10: ='RASHODI-ek.kl.'!G248 -> 2566545.1 | F10: =E10/C10*100 -> 54.307673 | G10: =E10/D10*100 -> 55.624781
A11: 07 Zdravstvo | B11: =B12 -> 2650450.5 | C11: =C12 -> 4725934.6 | D11: =D12 -> 4614031.8 | E11: =E12 -> 2566545.1 | F11: =E11/C11*100 -> 54.307673 | G11: =E11/D11*100 -> 55.624781
A12: 072 Služba za vanjske pacijente | B12: =B13+B14+B15 -> 2650450.5 | C12: =C13+C14+C15 -> 4725934.6 | D12: =D13+D14+D15 -> 4614031.8 | E12: =E13+E14+E15 -> 2566545.1 | F12: =E12/C12*100 -> 54.307673 | G12: =E12/D12*100 -> 55.624781
A13: 0721 Opće medicinske usluge | B13: =ROUND(B10*0.6,2) -> 1590270.3 | C13: =ROUND(C10*0.6,2) -> 2835560.7 | D13: =ROUND(D10*0.6,2) -> 2768419.1 | E13: =ROUND(E10*0.6,2) -> 1539927 | F13: =E13/C13*100 -> 54.307672 | G13: =E13/D13*100 -> 55.624781
A14: 0722 Specijalističke med. usluge | B14: =ROUND(B10*0.15,2) -> 397567.57 | C14: =ROUND(C10*0.15,2) -> 708890.19 | D14: =ROUND(D10*0.15,2) -> 692104.77 | E14: =ROUND(E10*0.15,2) -> 384981.76 | F14: =E14/C14*100 -> 54.307672 | G14: =E14/D14*100 -> 55.624781
A15: 0723 Zubarske usluge | B15: =ROUND(B10*0.25,2) -> 662612.61 | C15: =ROUND(C10*0.25,2) -> 1181483.6 | D15: =ROUND(D10*0.25,2) -> 1153507.9 | E15: =ROUND(E10*0.25,2) -> 641636.27 | F15: =E15/C15*100 -> 54.307673 | G15: =E15/D15*100 -> 55.624781
A16: 073 Bolničke službe | C16: =C17 -> 0 | D16: =D17 -> 0 | E16: =E17 -> 0 | F16: =F17 -> 0 | G16: =G17 -> 0
A17: 0731 Usluge općih bolnica
A18: 074 Službe javnog zdravstva | C18: 0 | D18: 0 | E18: 0 | F18: 0 | G18: 0

Sheet Rekapitulacija Posebni dio
A1: II. POSEBNI DIO
A2: Rashodi i izdaci po izvorima financiranja i ekonomskoj klasifikaciji raspoređenih u programe, aktivnosti i projekte
A4: Šifra | B4: Naziv | C4: OSTVARENJE/IZVRŠENJE 1.-6.2024. | D4: IZVORNI PLAN ZA 2025. | E4: TEKUĆI PLAN 2025. | F4: OSTVARENJE/IZVRŠENJE 1.-6.2025. | G4: Indeks | H4: Indeks
A5: PROGRAM | B5: RAD I RAZVOJ USTANOVE | C5: 2 | D5: 3 | E5: 4 | F5: 5 | G5: 6=5/3*100 | H5: 7=5/4*100
A6: AKTIVNOST | B6: Redovna djelatnost | C6: =C7+C197+C297+C360+C376 -> 2504624.1 | D6: =D7+D197+D297+D360+D376 -> 4247373.5 | E6: =E7+E197+E297+E360+E376+E402 -> 4193568.4 | F6: =F7+F197+F297+F360+F376+F396+F402 -> 2503927.7 | G6: =F6/D6*100 -> 58.952378 | H6: =F6/E6*100 -> 59.708759
A7: 43 | B7: Ostali prihodi za posebne namjene | C7: =C8+C162 -> 2423075.8 | D7: =D8+D162 -> 4009442.6 | E7: =E8+E162 -> 3895637.5 | F7: =F8+F162 -> 2351906.2 | G7: =F7/D7*100 -> 58.659181 | H7: =F7/E7*100 -> 60.372819
A8: 3 | B8: Rashodi poslovanja | C8: =C9+C32+C128+C140+C143+C148 -> 2419806.4 | D8: =D9+D32+D128+D140+D143+D148 -> 3883930.4 | E8: =E9+E32+E128+E140+E143+E148 -> 3770125.3 | F8: =F9+F32+F128+F140+F143+F148 -> 2181986.2 | G8: =F8/D8*100 -> 56.179848 | H8: =F8/E8*100 -> 57.875694
A9: 31 | B9: Rashodi za zaposlene | C9: =C10+C19+C27 -> 2006367.1 | D9: =D10+D19+D27 -> 3042112.3 | E9: =E10+E19+E27 -> 3042112.3 | F9: =F10+F19+F27 -> 1886674.4 | G9: =F9/D9*100 -> 62.018567 | H9: =F9/E9*100 -> 62.018567
A10: 311 | B10: Plaće | C10: =C11+C14+C15+C17 -> 1692619.5 | D10: =D11+D14+D15+D17 -> 2505491.4 | E10: =E11+E14+E15+E17 -> 2505491.4 | F10: =F11+F14+F15+F17 -> 1630599.2 | G10: =F10/D10*100 -> 65.081015 | H10: =F10/E10*100 -> 65.081015
A11: 3111 | B11: Plaće za redovan rad | C11: =SUM(C12:C13) -> 1607506.6 | D11: =SUM(D12:D13) -> 2456384 | E11: =SUM(E12:E13) -> 2456384 | F11: =SUM(F12:F13) -> 1576823.2 | G11: =F11/D11*100 -> 64.192865 | H11: =F11/E11*100 -> 64.192865
A12: 31111 | B12: Plaće za redovan rad | C12: 1605790.6 | D12: 2451384 | E12: 2451384 | F12: =1628846-F202-F302-F480-F499-F518-F537-F615 -> 1576823.2 | G12: =F12/D12*100 -> 64.323797 | H12: =F12/E12*100 -> 64.323797
A13: 31113 | B13: Plaće po sudskim presudama | C13: 1715.99 | D13: 5000 | E13: 5000 | G13: =F13/D13*100 -> 0 | H13: =F13/E13*100 -> 0
A14: 3112 | B14: Plaće u naravi | G14: =F14/D14*100 -> #DIV/0! | H14: =F14/E14*100 -> #DIV/0!
A15: 3113 | B15: Plaće za prekovremeni rad | C15: =SUM(C16) -> 43363.13 | D15: =SUM(D16) -> 49107.44 | E15: =SUM(E16) -> 49107.44 | F15: =SUM(F16) -> 53776 | G15: =F15/D15*100 -> 109.50683 | H15: =F15/E15*100 -> 109.50683
A16: 31131 | B16: Plaće za prekovremeni rad | C16: 43363.13 | D16: 49107.44 | E16: 49107.44 | F16: =53776 -> 53776 | G16: =F16/D16*100 -> 109.50683 | H16: =F16/E16*100 -> 109.50683
A17: 3114 | B17: Plaće za posebne uvjete rada | C17: =SUM(C18) -> 41749.86 | D17: =SUM(D18) -> 0 | E17: =SUM(E18) -> 0 | F17: =SUM(F18) -> 0 | G17: =F17/D17*100 -> #DIV/0! | H17: =F17/E17*100 -> #DIV/0!
A18: 31141 | B18: Plaće za posebne uvjete rada | C18: 41749.86 | D18: 0 | F18: =0-F206-F568 -> 0 | G18: =F18/D18*100 -> #DIV/0! | H18: =F18/E18*100 -> #DIV/0!
A19: 312 | B19: Ostali rashodi za zaposlene | C19: =C20 -> 46531.28 | D19: =D20 -> 123214.88 | E19: =E20 -> 123214.88 | F19: =F20 -> 26084.95 | G19: =F19/D19*100 -> 21.170292 | H19: =F19/E19*100 -> 21.170292
A20: 3121 | B20: Ostali rashodi za zaposlene | C20: =SUM(C21:C26) -> 46531.28 | D20: =SUM(D21:D26) -> 123214.88 | E20: =SUM(E21:E26) -> 123214.88 | F20: =SUM(F21:F26) -> 26084.95 | G20: =F20/D20*100 -> 21.170292 | H20: =F20/E20*100 -> 21.170292
A21: 31212 | B21: Ostali rashodi za zaposlene-nagrade | C21: 22279.33 | D21: 13000 | E21: 13000 | F21: =10039.91 -> 10039.91 | G21: =F21/D21*100 -> 77.230077 | H21: =F21/E21*100 -> 77.230077
A22: 31213 | B22: Darovi | C22: 22436.17 | D22: 25000 | E22: 25000 | F22: =13062.16 -> 13062.16 | G22: =F22/D22*100 -> 52.24864 | H22: =F22/E22*100 -> 52.24864
A23: 31214 | B23: Otpremnine | C23: 0 | D23: 2000 | E23: 2000 | F23: 0 | G23: =F23/D23*100 -> 0 | H23: =F23/E23*100 -> 0
A24: 31215 | B24: Naknade za bolest, invalidnost i smrt | C24: 1815.78 | D24: 3800 | E24: 3800 | F24: =2082.88 -> 2082.88 | G24: =F24/D24*100 -> 54.812632 | H24: =F24/E24*100 -> 54.812632
A25: 31216 | B25: Regres za godišnji odmor | C25: 0 | D25: 40000 | E25: 40000 | F25: =900-F540 -> 900 | G25: =F25/D25*100 -> 2.25 | H25: =F25/E25*100 -> 2.25
A26: 31219 | B26: Ostali nenavedeni rashodi za zaposlene | C26: 0 | D26: =123214.88-D21-D22-D23-D24-D25 -> 39414.88 | E26: 39414.88 | F26: =0-F209-F541 -> 0 | G26: =F26/D26*100 -> 0 | H26: =F26/E26*100 -> 0
A27: 313 | B27: Doprinosi na plaće | C27: =C28+C30 -> 267216.27 | D27: =D28+D30 -> 413406 | E27: =E28+E30 -> 413406 | F27: =F28+F30 -> 229990.24 | G27: =F27/D27*100 -> 55.633019 | H27: =F27/E27*100 -> 55.633019
A28: 3132 | B28: Doprinosi za obvezno zdravstveno osiguranje | C28: =SUM(C29) -> 267178.53 | D28: =SUM(D29) -> 413406 | E28: =SUM(E29) -> 413406 | F28: =SUM(F29) -> 229990.24 | G28: =F28/D28*100 -> 55.633019 | H28: =F28/E28*100 -> 55.633019
A29: 31321 | B29: Doprinosi za obvezno zdravstveno osiguranje | C29: 267178.53 | D29: 413406 | E29: =413406 -> 413406 | F29: =273903.11+649.44-F212-F309-F401-F485-F504-F523-F544-F574-F618 -> 229990.24 | G29: =F29/D29*100 -> 55.633019 | H29: =F29/E29*100 -> 55.633019
A30: 3133 | B30: Doprinosi za zapošljavanje | C30: =C31 -> 37.74 | D30: =D31 -> 0 | E30: =E31 -> 0 | F30: =F31 -> 0 | G30: =F30/D30*100 -> #DIV/0! | H30: =F30/E30*100 -> #DIV/0!
A31: 31332 | B31: Doprinosi za obvezno osiguranje u slučaju nezaposlenosti | C31: 37.74 | F31: =0 -> 0 | G31: =F31/D31*100 -> #DIV/0! | H31: =F31/E31*100 -> #DIV/0!
A32: 32 | B32: Materijalni rashodi | C32: =C33+C45+C70+C101+C108 -> 400850.39 | D32: =D33+D45+D70+D101+D108 -> 829345.58 | E32: =E33+E45+E70+E101+E104+E108 -> 715540.49 | F32: =F33+F45+F70+F101+F104+F108 -> 292040.38 | G32: =G33+G45+G70+G101+G104+G108 -> #DIV/0! | H32: =F32/E32*100 -> 40.813955
A33: 321 | B33: Naknade troškova zaposlenima | C33: =C34+C38+C40+C43-0.01 -> 54208.845 | D33: =D34+D38+D40+D43 -> 106441.57 | E33: =E34+E38+E40+E43 -> 106441.57 | F33: =F34+F38+F40+F43 -> 44479.62 | G33: =G34+G38+G40+G43 -> 150.35819 | H33: =F33/E33*100 -> 41.787828
A34: 3211 | B34: Službena putovanja | C34: =SUM(C35:C37) -> 1130.65 | D34: =SUM(D35:D37) -> 18977.24 | E34: =SUM(E35:E37) -> 18977.24 | F34: =SUM(F35:F37) -> 1201.39 | G34: =SUM(G35:G37) -> 41.802932 | H34: =F34/E34*100 -> 6.3306888
A35: 32111 | B35: Dnevnice za službeni put u zemlji | C35: =3945-C365 -> 1130.65 | D35: 11800 | E35: 11800 | F35: =2854.32-F365-F548-F622 -> 825 | G35: =F35/D35*100 -> 6.9915254 | H35: =F35/E35*100 -> 6.9915254
A36: 32113 | B36: Naknade za smještaj na službenom putu u zemlji | C36: 0 | D36: 700 | E36: 700 | F36: =827.6-F623 -> 227.6 | G36: =F36/D36*100 -> 32.514286 | H36: =F36/E36*100 -> 32.514286
A37: 32115 | B37: Naknade za prijevoz na službenom putu u zemlji | C37: =992.9-C366 -> 0 | D37: =18977.24-D35-D36 -> 6477.24 | E37: 6477.24 | F37: =851.5-F216-F366-F624 -> 148.79 | G37: =F37/D37*100 -> 2.2971204 | H37: =F37/E37*100 -> 2.2971204
A38: 3212 | B38: Naknade za prijevoz, za rad na terenu i odvojeni život | C38: =SUM(C39) -> 48896.01 | D38: =SUM(D39) -> 82288.14 | E38: =SUM(E39) -> 82288.14 | F38: =SUM(F39) -> 40439.54 | G38: =SUM(G39) -> 49.143826 | H38: =F38/E38*100 -> 49.143826
A39: 32121 | B39: Naknade za prijevoz, za rad na terenu i odvojeni život | C39: 48896.01 | D39: 82288.14 | E39: 82288.14 | F39: =47964.81+339.77-F218-F550-F626 -> 40439.54 | G39: =F39/D39*100 -> 49.143826 | H39: =F39/E39*100 -> 49.143826
A40: 3213 | B40: Stručno usavršavanje zaposlenih | C40: =SUM(C41:C42) -> 4182.195 | D40: =SUM(D41:D42) -> 4778.02 | E40: =SUM(E41:E42) -> 4778.02 | F40: =SUM(F41:F42) -> 2838.69 | G40: =F40/D40*100 -> 59.41143 | H40: =F40/E40*100 -> 59.41143
A41: 32131 | B41: Seminari, savjetovanja i simpoziji | C41: 480 | D41: 2200 | E41: 2200 | F41: =802.5 -> 802.5 | G41: =F41/D41*100 -> 36.477273 | H41: =F41/E41*100 -> 36.477273
A42: 32132 | B42: Tečajevi i stručni ispiti | C42: 3702.195 | D42: =4778.02-D41 -> 2578.02 | E42: 2578.02 | F42: =2368-F220-F552-F628 -> 2036.19 | G42: =F42/D42*100 -> 78.982708 | H42: =F42/E42*100 -> 78.982708
A43: 3214 | B43: Ostale naknade troškova zaposlenima | C43: =SUM(C44) -> 0 | D43: =SUM(D44) -> 398.17 | E43: =SUM(E44) -> 398.17 | F43: =SUM(F44) -> 0 | G43: =F43/D43*100 -> 0 | H43: =F43/E43*100 -> 0
A44: 32141 | B44: Naknada za korištenje privatnog automobila u službene svrhe | C44: 0 | D44: 398.17 | E44: 398.17 | F44: 0 | G44: =F44/D44*100 -> 0 | H44: =F44/E44*100 -> 0
A45: 322 | B45: Rashodi za materijal i energiju | C45: =C46+C52+C56+C61+C66+C68 -> 217379.58 | D45: =D46+D52+D56+D61+D66+D68 -> 431866.74 | E45: =E46+E52+E56+E61+E66+E68 -> 146061.65 | F45: =F46+F52+F56+F61+F66+F68 -> 59362.92 | G45: =F45/D45*100 -> 13.745657 | H45: =F45/E45*100 -> 40.642373
A46: 3221 | B46: Uredski materijal i ostali materijalni rashodi | C46: =SUM(C47:C51) -> 17785.62 | D46: =SUM(D47:D51) -> 29862.63 | E46: =SUM(E47:E51) -> 29862.63 | F46: =SUM(F47:F51) -> 13387.22 | G46: =F46/D46*100 -> 44.82934 | H46: =F46/E46*100 -> 44.82934
A47: 32211 | B47: Uredski materijal | C47: 9339.79 | D47: 12000 | E47: 12000 | F47: =5739.08-F224-F313-F407-F583-F631 -> 4925.26 | G47: =F47/D47*100 -> 41.043833 | H47: =F47/E47*100 -> 41.043833
A48: 32212 | B48: Literatura | C48: 0 | D48: 500 | E48: 500 | F48: =270 -> 270 | G48: =F48/D48*100 -> 54 | H48: =F48/E48*100 -> 54
A49: 32214 | B49: Materijal i sredstva za čišćenje i održavanje | C49: 6750.85 | D49: 15000 | E49: 15000 | F49: =5482.1-F314-F408 -> 5482.1 | G49: =F49/D49*100 -> 36.547333 | H49: =F49/E49*100 -> 36.547333
A50: 32215 | B50: Službena, radna i zaštitna odjeća | C50: 0 | D50: 700 | E50: 700 | F50: 0 | G50: =F50/D50*100 -> 0 | H50: =F50/E50*100 -> 0
A51: 32219 | B51: Ostali materijal za potrebe redovnog poslovanja | C51: 1694.98 | D51: =29862.63-D47-D48-D49-D50 -> 1662.63 | E51: 1662.63 | F51: =3324.76-F632 -> 2709.86 | G51: =F51/D51*100 -> 162.98635 | H51: =F51/E51*100 -> 162.98635
A52: 3222 | B52: Materijal i sirovine | C52: =SUM(C53:C55) -> 120156.07 | D52: =SUM(D53:D55) -> 191120.84 | E52: =SUM(E53:E55) -> 0 | F52: =SUM(F53:F55) -> 0 | G52: =F52/D52*100 -> 0 | H52: =F52/E52*100 -> #DIV/0!
A53: 32221 | B53: Potrošni medicinski materijal | C53: 110024.57 | D53: 170000 | F53: 0 | G53: =F53/D53*100 -> 0 | H53: =F53/E53*100 -> #DIV/0!
A54: 32226 | B54: Lijekovi | C54: 10015.2 | D54: 20000 | F54: 0 | G54: =F54/D54*100 -> 0 | H54: =F54/E54*100 -> #DIV/0!
A55: 32229 | B55: Ostali materijal i sirovine | C55: 116.3 | D55: =191120.84-D53-D54 -> 1120.84 | F55: =0 -> 0 | G55: =F55/D55*100 -> 0 | H55: =F55/E55*100 -> #DIV/0!
A56: 3223 | B56: Energija | C56: =SUM(C57:C60) -> 68003.6 | D56: =SUM(D57:D60) -> 181684.25 | E56: =SUM(E57:E60) -> 87000 | F56: =SUM(F57:F60) -> 40528.38 | G56: =F56/D56*100 -> 22.307041 | H56: =F56/E56*100 -> 46.584345
A57: 32231 | B57: Električna energija | C57: 13304.5 | D57: 29000 | E57: 29000 | F57: =14059.48-F318 -> 14059.48 | G57: =F57/D57*100 -> 48.480966 | H57: =F57/E57*100 -> 48.480966
A58: 32232 | B58: Topla voda | C58: 1296.74 | D58: 2000 | E58: 2000 | F58: =1611.95 -> 1611.95 | G58: =F58/D58*100 -> 80.5975 | H58: =F58/E58*100 -> 80.5975
A59: 32233 | B59: Plin | C59: 12787.97 | D59: 36000 | E59: 36000 | F59: =23496.74-F229-F319 -> 16746.74 | G59: =F59/D59*100 -> 46.518722 | H59: =F59/E59*100 -> 46.518722
A60: 32234 | B60: Motorni benzin i dizel gorivo | C60: 40614.39 | D60: =181684.25-D57-D58-D59 -> 114684.25 | E60: 20000 | F60: =10692.89-F230-F635 -> 8110.21 | G60: =F60/D60*100 -> 7.0717732 | H60: =F60/E60*100 -> 40.55105
A61: 3224 | B61: Materijal i dijelovi za tekuće i investicijsko održavanje | C61: =SUM(C62:C65) -> 2876.05 | D61: =SUM(D62:D65) -> 13272.28 | E61: =SUM(E62:E65) -> 13272.28 | F61: =SUM(F62:F65) -> 3400.45 | G61: =F61/D61*100 -> 25.620692 | H61: =F61/E61*100 -> 25.620692
A62: 32241 | B62: Materijal i dijelovi za tekuće i invest. održavanje građevinskih objekata | C62: 2410.78 | D62: 7200 | E62: 7200 | F62: =848.53-F448 -> 848.53 | G62: =F62/D62*100 -> 11.785139 | H62: =F62/E62*100 -> 11.785139
A63: 32242 | B63: Materijal i dijelovi za tekuće i invest. održavanje postrojenja i opreme | C63: 145 | D63: 3000 | E63: 3000 | F63: =2487.88 -> 2487.88 | G63: =F63/D63*100 -> 82.929333 | H63: =F63/E63*100 -> 82.929333
A64: 32243 | B64: Materijal i dijelovi za tekuće i invest. održavanje transportnih sredstava | C64: 320.27 | D64: 2500 | E64: 2500 | F64: =50.78 -> 50.78 | G64: =F64/D64*100 -> 2.0312 | H64: =F64/E64*100 -> 2.0312
A65: 32244 | B65: Ostali materijal i dijelovi za tekuće i invest. održavanje | C65: 0 | D65: =13272.28-D62-D63-D64 -> 572.28 | E65: 572.28 | F65: =13.26 -> 13.26 | G65: =F65/D65*100 -> 2.3170476 | H65: =F65/E65*100 -> 2.3170476
A66: 3225 | B66: Sitan inventar i autogume | C66: =SUM(C67) -> 5218.32 | D66: =SUM(D67) -> 6636.14 | E66: =SUM(E67) -> 6636.14 | F66: =SUM(F67) -> 44.37 | G66: =F66/D66*100 -> 0.66861157 | H66: =F66/E66*100 -> 0.66861157
A67: 32251 | B67: Sitan inventar i autogume | C67: 5218.32 | D67: 6636.14 | E67: 6636.14 | F67: =44.37-F589 -> 44.37 | G67: =F67/D67*100 -> 0.66861157 | H67: =F67/E67*100 -> 0.66861157
A68: 3227 | B68: Službena radna i zaštitna odjeća | C68: =SUM(C69) -> 3339.92 | D68: =SUM(D69) -> 9290.6 | E68: =SUM(E69) -> 9290.6 | F68: =SUM(F69) -> 2002.5 | G68: =F68/D68*100 -> 21.554044 | H68: =F68/E68*100 -> 21.554044
A69: 32271 | B69: Službena radna i zaštitna odjeća | C69: 3339.92 | D69: 9290.6 | E69: 9290.6 | F69: =2002.5 -> 2002.5 | G69: =F69/D69*100 -> 21.554044 | H69: =F69/E69*100 -> 21.554044
A70: 323 | B70: Rashodi za usluge | C70: =C71+C75+C79+C81+C86+C88+C90+C95+C97 -> 105828.55 | D70: =D71+D75+D79+D81+D86+D88+D90+D95+D97 -> 238863.46 | E70: =E71+E75+E79+E81+E86+E88+E90+E95+E97 -> 240863.46 | F70: =F71+F75+F79+F81+F86+F88+F90+F95+F97 -> 99083.72 | G70: =F70/D70*100 -> 41.481322 | H70: =F70/E70*100 -> 41.136883
A71: 3231 | B71: Usluge telefona i pošte | C71: =SUM(C72:C74) -> 10203.15 | D71: =SUM(D72:D74) -> 21235.65 | E71: =SUM(E72:E74) -> 23235.65 | F71: =SUM(F72:F74) -> 8219.72 | G71: =SUM(G72:G74) -> #DIV/0! | H71: =F71/E71*100 -> 35.375468
A72: 32311 | B72: Usluge telefona, telefaksa | C72: 9912.67 | D72: 19500 | E72: 19500 | F72: =9238.36-F323-F417 -> 7684.7 | G72: =F72/D72*100 -> 39.408718 | H72: =F72/E72*100 -> 39.408718
A73: 32313 | B73: Poštarina | C73: 290.48 | D73: =21235.65-D72 -> 1735.65 | E73: 1735.65 | F73: =297.52 -> 297.52 | G73: =F73/D73*100 -> 17.141705 | H73: =F73/E73*100 -> 17.141705
A74: 32319 | B74: Ostale usluge za komunikaciju i prijevoz | E74: 2000 | F74: =637.5-F640 -> 237.5 | G74: =F74/D74*100 -> #DIV/0! | H74: =F74/E74*100 -> 11.875
A75: 3232 | B75: Usluge tekućeg i investicijskog održavanja | C75: =SUM(C76:C78) -> 12829.02 | D75: =SUM(D76:D78) -> 21053.72 | E75: =SUM(E76:E78) -> 21053.72 | F75: =SUM(F76:F78) -> 11686.5 | G75: =F75/D75*100 -> 55.508005 | H75: =F75/E75*100 -> 55.508005
A76: 32321 | B76: Usluge tekućeg i investicijskog održavanja građevinskih objekata | C76: 1938.69 | D76: 10500 | E76: 10500 | F76: =8328.12-F237-F451-F593 -> 4932.81 | G76: =F76/D76*100 -> 46.979143 | H76: =F76/E76*100 -> 46.979143
A77: 32322 | B77: Usluge tekućeg i investicijskog održavanja postrojenja i opreme | C77: 2476.21 | D77: 6500 | E77: 6500 | F77: =4861.83-F238-F452 -> 1913.62 | G77: =F77/D77*100 -> 29.440308 | H77: =F77/E77*100 -> 29.440308
A78: 32323 | B78: Usluge tekućeg i investicijskog održavanja prijevoznih sredstava | C78: 8414.12 | D78: =21053.72-D76-D77 -> 4053.72 | E78: 4053.72 | F78: =10688.58-F239-F453 -> 4840.07 | G78: =F78/D78*100 -> 119.39823 | H78: =F78/E78*100 -> 119.39823
A79: 3233 | B79: Usluge promidžbe i informiranja | C79: =SUM(C80) -> 0 | D79: =SUM(D80) -> 663.61 | E79: =SUM(E80) -> 663.61 | F79: =SUM(F80) -> 0 | G79: =F79/D79*100 -> 0 | H79: =F79/E79*100 -> 0
A80: 32339 | B80: Usluge promidžbe i informiranja | C80: 0 | D80: 663.61 | E80: 663.61 | F80: 0 | G80: =F80/D80*100 -> 0 | H80: =F80/E80*100 -> 0
A81: 3234 | B81: Komunalne usluge | C81: =SUM(C82:C85) -> 12945.85 | D81: =SUM(D82:D85) -> 19908.42 | E81: =SUM(E82:E85) -> 19908.42 | F81: =SUM(F82:F85) -> 12131.78 | G81: =F81/D81*100 -> 60.937935 | H81: =F81/E81*100 -> 60.937935
A82: 32341 | B82: Opskrba vodom | C82: 3442.95 | D82: 7500 | E82: 7500 | F82: =3108.69 -> 3108.69 | G82: =F82/D82*100 -> 41.4492 | H82: =F82/E82*100 -> 41.4492
A83: 32342 | B83: Iznošenje i odvoz smeća | C83: 7625.68 | D83: 10500 | E83: 10500 | F83: =2220.02+3520.01+2974.61 -> 8714.64 | G83: =F83/D83*100 -> 82.996571 | H83: =F83/E83*100 -> 82.996571
A84: 32343 | B84: Deratizacija i dezinsekcija | C84: 790.65 | D84: 1500 | E84: 1500 | F84: =0 -> 0 | G84: =F84/D84*100 -> 0 | H84: =F84/E84*100 -> 0
A85: 32349 | B85: Ostale komunalne usluge | C85: 1086.57 | D85: =19908.42-D82-D83-D84 -> 408.42 | E85: 408.42 | F85: =308.45 -> 308.45 | G85: =F85/D85*100 -> 75.522746 | H85: =F85/E85*100 -> 75.522746
A86: 3235 | B86: Zakupnine i najamnine | C86: =SUM(C87) -> 0 | D86: =SUM(D87) -> 132.72 | E86: =SUM(E87) -> 132.72 | F86: =SUM(F87) -> 0 | G86: =F86/D86*100 -> 0 | H86: =F86/E86*100 -> 0
A87: 32359 | B87: Zakupnine i najamnine | C87: 0 | D87: 132.72 | E87: 132.72 | F87: 0 | G87: =F87/D87*100 -> 0 | H87: =F87/E87*100 -> 0
A88: 3236 | B88: Zdravstvene i veterinarske usluge | C88: =SUM(C89) -> 14279.52 | D88: =SUM(D89) -> 22562.88 | E88: =SUM(E89) -> 22562.88 | F88: =SUM(F89) -> 21035.95 | G88: =F88/D88*100 -> 93.232557 | H88: =F88/E88*100 -> 93.232557
A89: 32369 | B89: Zdravstvene i veterinarske usluge | C89: 14279.52 | D89: 22562.88 | E89: 22562.88 | F89: =21903.34+459.84-F244-F325-F419 -> 21035.95 | G89: =F89/D89*100 -> 93.232557 | H89: =F89/E89*100 -> 93.232557
A90: 3237 | B90: Intelktualne usluge | C90: =SUM(C91:C94) -> 43446.85 | D90: =SUM(D91:D94) -> 110480.46 | E90: =SUM(E91:E94) -> 110480.46 | F90: =SUM(F91:F94) -> 40387.37 | G90: =F90/D90*100 -> 36.55612 | H90: =F90/E90*100 -> 36.55612
A91: 32372 | B91: Ugovori o djelu | C91: 34014.57 | D91: 94500 | E91: 94500 | F91: =20793.33+10941.54+1422.98+1258.42-F246-F557-F644 -> 32093.62 | G91: =F91/D91*100 -> 33.961503 | H91: =F91/E91*100 -> 33.961503
A92: 32373 | B92: Usluge odvjetnika i pravnog savjetovanja | C92: 9382.28 | D92: 12000 | E92: 12000 | F92: =7500 -> 7500 | G92: =F92/D92*100 -> 62.5 | H92: =F92/E92*100 -> 62.5
A93: 32375 | B93: Geodetsko-katastarske usluge | C93: 0 | D93: 0 | E93: 0 | F93: =0 -> 0 | G93: =F93/D93*100 -> #DIV/0! | H93: =F93/E93*100 -> #DIV/0!
A94: 32379 | B94: Ostale intelektualne usluge | C94: 50 | D94: =110480.46-D91-D92 -> 3980.46 | E94: 3980.46 | F94: =793.75-F327 -> 793.75 | G94: =F94/D94*100 -> 19.941163 | H94: =F94/E94*100 -> 19.941163
A95: 3238 | B95: Računalne usluge | C95: =SUM(C96) -> 4281.49 | D95: =SUM(D96) -> 18581.19 | E95: =SUM(E96) -> 18581.19 | F95: =SUM(F96) -> 3944.25 | G95: =F95/D95*100 -> 21.227112 | H95: =F95/E95*100 -> 21.227112
A96: 32389 | B96: Ostale računalne usluge | C96: 4281.49 | D96: 18581.19 | E96: 18581.19 | F96: =23285.51-F457 -> 3944.25 | G96: =F96/D96*100 -> 21.227112 | H96: =F96/E96*100 -> 21.227112
A97: 3239 | B97: Ostale usluge | C97: =SUM(C98:C100) -> 7842.67 | D97: =SUM(D98:D100) -> 24244.81 | E97: =SUM(E98:E100) -> 24244.81 | F97: =SUM(F98:F100) -> 1678.15 | G97: =F97/D97*100 -> 6.9216876 | H97: =F97/E97*100 -> 6.9216876
A98: 32394 | B98: Usluge pri registraciji prijevoznih sredstava | C98: 1681.88 | D98: 4000 | E98: 4000 | F98: =693.82-F329 -> 693.82 | G98: =F98/D98*100 -> 17.3455 | H98: =F98/E98*100 -> 17.3455
A99: 32395 | B99: Usluge čišćenja, pranja i slično | C99: 3597 | D99: 6500 | E99: 6500 | F99: =0 -> 0 | G99: =F99/D99*100 -> 0 | H99: =F99/E99*100 -> 0
A100: 32399 | B100: Ostale nespomenute usluge | C100: 2563.79 | D100: =24244.81-D98-D99 -> 13744.81 | E100: 13744.81 | F100: =2287.33-F249-F559-F646 -> 984.33 | G100: =F100/D100*100 -> 7.1614668 | H100: =F100/E100*100 -> 7.1614668
A101: 324 | B101: Naknade troškova osobama izvan radnog odnosa | C101: =SUM(C102) -> 0 | D101: =SUM(D102) -> 398.17 | E101: =SUM(E102) -> 398.17 | F101: =SUM(F102) -> 0 | G101: =F101/D101*100 -> 0 | H101: =F101/E101*100 -> 0
...

Sheet Kontrolna tablica
C2: PRIHODI I RASHODI PREMA IZVORIMA FINANCIRANJA
B4: R.br. | C4: Opis | D4: Izvorni plan 2025. | E4: Plan | F4: Ostvareno | G4: Indeks | H4: Indeks
C5: UKUPNO PRIHODI | D5: =D6+D8+D10+D14+D16+D18 -> 4702255.6 | E5: =E6+E8+E10+E14+E16+E18 -> 4988957.9 | F5: =F6+F8+F10+F14+F16+F18 -> 2608890.3 | G5: =F5/D5*100 -> 55.481678 | H5: =F5/E5*100 -> 52.293292
B6: 1 | C6: Opći prihodi i primici | D6: =D7 -> 369361.73 | E6: =E7 -> 311264.02 | F6: =F7 -> 116122.25 | G6: =F6/D6*100 -> 31.438625 | H6: =F6/E6*100 -> 37.306673
C7: 11 Opći prihodi i primici | D7: ='Prihodi po ek klas i izvorima'!F15 -> 369361.73 | E7: ='Prihodi po ek klas i izvorima'!G15 -> 311264.02 | F7: ='Prihodi po ek klas i izvorima'!H15 -> 116122.25 | G7: =F7/D7*100 -> 31.438625 | H7: =F7/E7*100 -> 37.306673
B8: 2 | C8: Vlastiti prihodi | D8: =D9 -> 199283.29 | E8: =E9 -> 199283.29 | F8: =F9 -> 70071.21 | G8: =F8/D8*100 -> 35.161608 | H8: =F8/E8*100 -> 35.161608
C9: 31 Vlastiti prihodi | D9: ='Prihodi po ek klas i izvorima'!F75 -> 199283.29 | E9: ='Prihodi po ek klas i izvorima'!G75 -> 199283.29 | F9: ='Prihodi po ek klas i izvorima'!H75 -> 70071.21 | G9: =F9/D9*100 -> 35.161608 | H9: =F9/E9*100 -> 35.161608
B10: 3 | C10: Prihodi za posebne namjene | D10: =SUM(D11:D13) -> 3949596.7 | E10: =SUM(E11:E13) -> 3949596.7 | F10: =SUM(F11:F13) -> 2126781.3 | G10: =F10/D10*100 -> 53.848064 | H10: =F10/E10*100 -> 53.848064
C11: 43 Prihodi za posebne namjene (HZZO) | D11: ='Prihodi po ek klas i izvorima'!F46 -> 3899096.7 | E11: ='Prihodi po ek klas i izvorima'!G46 -> 3899096.7 | F11: ='Prihodi po ek klas i izvorima'!H46 -> 2103137.3 | G11: =F11/D11*100 -> 53.93909 | H11: =F11/E11*100 -> 53.93909
C12: 43 Prihodi za posebne namjene (dopunsko osiguranje, participacija,…) | D12: ='Prihodi po ek klas i izvorima'!F40 -> 47500 | E12: ='Prihodi po ek klas i izvorima'!G40 -> 47500 | F12: ='Prihodi po ek klas i izvorima'!H40 -> 23644.07 | G12: =F12/D12*100 -> 49.776989 | H12: =F12/E12*100 -> 49.776989
C13: 43 Ostali prihodi | D13: ='Prihodi po ek klas i izvorima'!F53 -> 3000 | E13: ='Prihodi po ek klas i izvorima'!G53 -> 3000 | F13: ='Prihodi po ek klas i izvorima'!H53 -> 0 | G13: =F13/D13*100 -> 0 | H13: =F13/E13*100 -> 0
B14: 4 | C14: Pomoći | D14: =D15 -> 128013.95 | E14: =E15 -> 472013.95 | F14: =F15 -> 293965.23 | G14: =F14/D14*100 -> 229.63531 | H14: =F14/E14*100 -> 62.278928
C15: 52 Ostale pomoći | D15: ='Prihodi po ek klas i izvorima'!F36 -> 128013.95 | E15: ='Prihodi po ek klas i izvorima'!G36 -> 472013.95 | F15: ='Prihodi po ek klas i izvorima'!H36 -> 293965.23 | G15: =F15/D15*100 -> 229.63531 | H15: =F15/E15*100 -> 62.278928
B16: 5 | C16: Donacije | D16: =D17 -> 50500 | E16: =E17 -> 50500 | F16: =F17 -> 0 | G16: =F16/D16*100 -> 0 | H16: =F16/E16*100 -> 0
C17: 61 Donacije | D17: ='Prihodi po ek klas i izvorima'!F81 -> 50500 | E17: ='Prihodi po ek klas i izvorima'!G81 -> 50500 | F17: ='Prihodi po ek klas i izvorima'!H81 -> 0 | G17: =F17/D17*100 -> 0 | H17: =F17/E17*100 -> 0
B18: 6 | C18: Prihodi od nefinancijske imovine i naknade štete s naslova osiguranja | D18: =D19 -> 5500 | E18: =E19 -> 6300 | F18: =F19 -> 1950.28 | G18: =F18/D18*100 -> 35.459636 | H18: =F18/E18*100 -> 30.956825
C19: 71 Prihodi od nefinancijske imovine i naknade štete s naslova osiguranja | D19: ='Prihodi po ek klas i izvorima'!F86 -> 5500 | E19: ='Prihodi po ek klas i izvorima'!G86+'Prihodi po ek klas i izvorima'!G94 -> 6300 | F19: ='Prihodi po ek klas i izvorima'!H86+'Prihodi po ek klas i izvorima'!H94 -> 1950.28 | G19: =F19/D19*100 -> 35.459636 | H19: =F19/E19*100 -> 30.956825
C20: UKUPNO PRIHODI | D20: =D6+D8+D10+D14+D16+D18 -> 4702255.6 | E20: =E6+E8+E10+E14+E16+E18 -> 4988957.9 | F20: =F6+F8+F10+F14+F16+F18 -> 2608890.3 | G20: =F20/D20*100 -> 55.481678 | H20: =F20/E20*100 -> 52.293292
B23: R.br. | C23: Opis | D23: Izvorni plan 2025. | E23: Plan | F23: Ostvareno | G23: Indeks | H23: Indeks
C24: UKUPNO RASHODI | D24: =D25+D27+D29+D31+D33+D35 -> 4725934.6 | E24: =E25+E27+E29+E31+E33+E35 -> 4614031.8 | F24: =F25+F27+F29+F31+F33+F35 -> 2486545.1 | G24: =F24/D24*100 -> 52.614886 | H24: =F24/E24*100 -> 53.89094
B25: 1 | C25: Opći prihodi i primici | D25: =D26 -> 369361.73 | E25: =E26 -> 311264.02 | F25: =F26 -> 36122.25 | G25: =F25/D25*100 -> 9.7796407 | H25: =F25/E25*100 -> 11.605019
C26: 11 Opći prihodi i primici | D26: ='Rekapitulacija Posebni dio'!D430+'Rekapitulacija Posebni dio'!D475+'Rekapitulacija Posebni dio'!D494+'Rekapitulacija Posebni dio'!D513 -> 369361.73 | E26: ='Rekapitulacija Posebni dio'!E430+'Rekapitulacija Posebni dio'!E475+'Rekapitulacija Posebni dio'!E494+'Rekapitulacija Posebni dio'!E513 -> 311264.02 | F26: ='Rekapitulacija Posebni dio'!F430+'Rekapitulacija Posebni dio'!F475+'Rekapitulacija Posebni dio'!F494+'Rekapitulacija Posebni dio'!F513 -> 36122.25 | G26: =F26/D26*100 -> 9.7796407 | H26: =F26/E26*100 -> 11.605019
B27: 2 | C27: Vlastiti prihodi | D27: =D28 -> 163116.33 | E27: =E28 -> 163116.33 | F27: =F28 -> 70071.205 | G27: =F27/D27*100 -> 42.957811 | H27: =F27/E27*100 -> 42.957811
C28: 31 Vlastiti prihodi | D28: ='Rekapitulacija Posebni dio'!D197+'Rekapitulacija Posebni dio'!D578 -> 163116.33 | E28: ='Rekapitulacija Posebni dio'!E197+'Rekapitulacija Posebni dio'!E578 -> 163116.33 | F28: ='Rekapitulacija Posebni dio'!F197+'Rekapitulacija Posebni dio'!F578 -> 70071.205 | G28: =F28/D28*100 -> 42.957811 | H28: =F28/E28*100 -> 42.957811
B29: 3 | C29: Prihodi za posebne namjene | D29: =D30 -> 4009442.6 | E29: =E30 -> 3895637.5 | F29: =F30 -> 2351906.2 | G29: =F29/D29*100 -> 58.659181 | H29: =F29/E29*100 -> 60.372819
C30: 43 Prihodi za posebne namjene | D30: ='Rekapitulacija Posebni dio'!D7 -> 4009442.6 | E30: ='Rekapitulacija Posebni dio'!E7 -> 3895637.5 | F30: ='Rekapitulacija Posebni dio'!F7 -> 2351906.2 | G30: =F30/D30*100 -> 58.659181 | H30: =F30/E30*100 -> 60.372819
B31: 4 | C31: Pomoći | D31: =D32 -> 128013.95 | E31: =E32 -> 188013.95 | F31: =F32 -> 26495.16 | G31: =F31/D31*100 -> 20.697088 | H31: =F31/E31*100 -> 14.092125
C32: 52 Ostale pomoći | D32: ='Rekapitulacija Posebni dio'!D297+'Rekapitulacija Posebni dio'!D532+'Rekapitulacija Posebni dio'!D561+'Rekapitulacija Posebni dio'!D610 -> 128013.95 | E32: ='Rekapitulacija Posebni dio'!E297+'Rekapitulacija Posebni dio'!E532+'Rekapitulacija Posebni dio'!E561+'Rekapitulacija Posebni dio'!E610 -> 188013.95 | F32: ='Rekapitulacija Posebni dio'!F297+'Rekapitulacija Posebni dio'!F532+'Rekapitulacija Posebni dio'!F561+'Rekapitulacija Posebni dio'!F610+'Rekapitulacija Posebni dio'!F654 -> 26495.16 | G32: =F32/D32*100 -> 20.697088 | H32: =F32/E32*100 -> 14.092125
B33: 5 | C33: Donacije | D33: =D34 -> 50500 | E33: =E34 -> 50500 | F33: =F34 -> 0 | G33: =F33/D33*100 -> 0 | H33: =F33/E33*100 -> 0
C34: 61 Donacije | D34: ='Rekapitulacija Posebni dio'!D360+'Rekapitulacija Posebni dio'!D654 -> 50500 | E34: ='Rekapitulacija Posebni dio'!E360+'Rekapitulacija Posebni dio'!E654 -> 50500 | F34: ='Rekapitulacija Posebni dio'!F360 -> 0 | G34: =F34/D34*100 -> 0 | H34: =F34/E34*100 -> 0
B35: 6 | C35: Prihodi od nefinancijske imovine i naknade štete s naslova osiguranja | D35: =D36 -> 5500 | E35: =E36 -> 5500 | F35: =F36 -> 1950.28 | G35: =F35/D35*100 -> 35.459636 | H35: =F35/E35*100 -> 35.459636
C36: 71 Prihodi od nefinancijske imovine i naknade štete s naslova osiguranja | D36: ='Rekapitulacija Posebni dio'!D376 -> 5500 | E36: ='Rekapitulacija Posebni dio'!E376 -> 5500 | F36: ='Rekapitulacija Posebni dio'!F376 -> 1950.28 | G36: =F36/D36*100 -> 35.459636 | H36: =F36/E36*100 -> 35.459636
C37: UKUPNO RASHODI | D37: =D25+D27+D29+D31+D33+D35 -> 4725934.6 | E37: =E25+E27+E29+E31+E33+E35 -> 4614031.8 | F37: =F25+F27+F29+F31+F33+F35 -> 2486545.1 | G37: =F37/D37*100 -> 52.614886 | H37: =F37/E37*100 -> 53.89094
B39: R.br. | C39: Opis | D39: Izvorni plan 2025. | E39: Plan | F39: Ostvareno | G39: Indeks | H39: Indeks
B40: 1 | C40: Rashodi za zaposlene | D40: ='RASHODI-ek.kl.'!E58 -> 3228791.6 | E40: ='RASHODI-ek.kl.'!F58 -> 3224991.6 | F40: ='RASHODI-ek.kl.'!G58 -> 1983259.5 | G40: =F40/D40*100 -> 61.424202 | H40: =F40/E40*100 -> 61.496578
B41: 2 | C41: Materijalni rashodi | D41: ='RASHODI-ek.kl.'!E82 -> 1058244.5 | E41: ='RASHODI-ek.kl.'!F82 -> 1006865.4 | F41: ='RASHODI-ek.kl.'!G82 -> 410094.21 | G41: =F41/D41*100 -> 38.752311 | H41: =F41/E41*100 -> 40.729793
B42: 3 | C42: Financijski rashodi | D42: ='RASHODI-ek.kl.'!E178 -> 9972.52 | E42: ='RASHODI-ek.kl.'!F178 -> 9972.52 | F42: ='RASHODI-ek.kl.'!G178 -> 3054.41 | G42: =F42/D42*100 -> 30.628266 | H42: =F42/E42*100 -> 30.628266
B43: 4 | C43: Naknade građanima i kućanstvima na temelju osiguranja i druge naknade | D43: ='RASHODI-ek.kl.'!E194 -> 2000 | E43: ='RASHODI-ek.kl.'!F194 -> 2000 | F43: ='RASHODI-ek.kl.'!G194 -> 0 | G43: =F43/D43*100 -> 0 | H43: =F43/E43*100 -> 0
B44: 5 | C44: Ostali rashodi | D44: ='RASHODI-ek.kl.'!E199 -> 500 | E44: ='RASHODI-ek.kl.'!F199 -> 500 | F44: ='RASHODI-ek.kl.'!G199 -> 216.96 | G44: =F44/D44*100 -> 43.392 | H44: =F44/E44*100 -> 43.392
B45: 6 | C45: Rashodi za nabavu nefinancijske imovine | D45: ='RASHODI-ek.kl.'!E212 -> 426425.88 | E45: ='RASHODI-ek.kl.'!F212 -> 369702.17 | F45: ='RASHODI-ek.kl.'!G212 -> 169919.99 | G45: =F45/D45*100 -> 39.847485 | H45: =F45/E45*100 -> 45.961318
C46: UKUPNO RASHODI | D46: =SUM(D40:D45) -> 4725934.6 | E46: =SUM(E40:E45) -> 4614031.8 | F46: =SUM(F40:F45) -> 2566545.1 | G46: =F46/D46*100 -> 54.307673 | H46: =F46/E46*100 -> 55.624781

Sheet RAČUN FINANCIRANJA
A2: I. OPĆI DIO
A4: B. RAČUN FINANCIRANJA - prema ekonomskoj klasifikaciji i prema izvorima financiranja
A7: Razred | B7: Skupina | C7: Izvor | D7: Naziv | E7: Izvršenje tekuće godine I.-XII.2022. | F7: IZVORNI PLAN ILI REBALANS | G7: TEKUĆI PLAN 2025. | H7: Izvršenje tekuće godine I.-VI.2025. | I7: Indeks | J7: Indeks
A8: 1 | E8: 2 | F8: 3 | G8: 4 | H8: 5 | I8: 6=5/2*100 | J8: 7=5/4*100
A9: 8 | D9: Primici od financijske imovine i zaduživanja | E9: =SUM(E10) -> 0 | F9: =SUM(F10) -> 0 | G9: =SUM(G10) -> 0 | H9: =SUM(H10) -> 0 | I9: 0 | J9: 0
B10: 84 | D10: Primici od zaduživanja | E10: =SUM(E11) -> 0 | F10: 0 | G10: =SUM(G11) -> 0 | H10: =SUM(H11) -> 0 | I10: 0 | J10: 0
B11: 842 | D11: Primljeni krediti i zajmovi od kreditnih i ostalih financijskih institucija u javnom sektoru | E11: 0 | F11: 0 | G11: =SUM(G12) -> 0 | H11: =SUM(H12) -> 0 | I11: 0 | J11: 0
B12: 8422 | D12: Primljeni krediti od kreditnih institucija u javnom sektoru | E12: 0 | F12: 0 | G12: 0 | H12: 0 | I12: 0 | J12: 0
C13: 81 | D13: Namjenski primici od zaduživanja | E13: =SUM(E9) -> 0 | F13: =SUM(F9) -> 0 | G13: =SUM(G9) -> 0 | H13: =SUM(H9) -> 0 | I13: 0 | J13: 0
A14: 5 | D14: Izdaci za financijsku imovinu i otplate zajmova | E14: =SUM(E15) -> 0 | F14: =SUM(F15) -> 0 | G14: =SUM(G15) -> 0 | H14: =SUM(H15) -> 0 | I14: 0 | J14: 0
B15: 54 | D15: Izdaci za otplatu glavnice primljenih kredita i zajmova | E15: =SUM(E16) -> 0 | F15: 0 | G15: =SUM(G16) -> 0 | H15: =SUM(H16) -> 0 | I15: 0 | J15: 0
B16: 542 | D16: Otplata glavnice primljenih kredita i zajmova od kreditnih i ostalih financijskih institucija u javnom sektoru | E16: =SUM(E17) -> 0 | F16: =SUM(F17) -> 0 | G16: =SUM(G17) -> 0 | H16: =SUM(H17) -> 0 | I16: 0 | J16: 0
B17: 5422 | D17: Otplata glavnice primljenih kredita od kreditnih institucija u javnom sektoru | E17: 0 | F17: 0 | G17: 0 | H17: 0 | I17: 0 | J17: 0
C18: 11 | D18: Opći prihodi i primici | E18: =SUM(E14) -> 0 | F18: =SUM(F14) -> 0 | G18: =SUM(G14) -> 0 | H18: =SUM(H14) -> 0 | I18: 0 | J18: 0
