Workbook

Sheet SAŽETAK
B1: IZVJEŠTAJ O IZVRŠENJU FINANCIJSKOG PLANA DOMA ZDRAVLJA VUKOVAR ZA RAZDOBLJE OD 01.01. DO 30.06.2025. GODINE
B3: I. OPĆI DIO
B5: SAŽETAK RAČUNA PRIHODA I RASHODA I RAČUNA FINANCIRANJA
B7: SAŽETAK RAČUNA PRIHODA I RASHODA | K7: EUR | L7: EUR
B8: BROJČANA OZNAKA I NAZIV | G8: OSTVARENJE/IZVRŠENJE 1.-6.2024. | H8: IZVORNI PLAN ZA 2025. | I8: TEKUĆI PLAN 2025. | J8: OSTVARENJE/IZVRŠENJE 1.-6.2025. | K8: Indeks | L8: Indeks
B9: 1 | G9: 2 | H9: 3 | I9: 4 | J9: 5 | K9: 6=5/3*100 | L9: 6=5/4*100
B10: PRIHODI UKUPNO | G10: =G11+G12 -> 2228337.5 | H10: =H11+H12 -> 4702255.6 | I10: =I11+I12 -> 4988957.9 | J10: =J11+J12 -> 2608890.3 | K10: =J10/H10*100 -> 55.481678 | L10: =J10/I10*100 -> 52.293292
B11: 6 PRIHODI POSLOVANJA | G11: ='Prihodi po ekonomskoj klas'!D10 -> 2228337.5 | H11: ='Prihodi po ekonomskoj klas'!E10 -> 4702255.6 | I11: ='Prihodi po ekonomskoj klas'!F10 -> 4988157.9 | J11: ='Prihodi po ekonomskoj klas'!G10 -> 2608090.3 | K11: =J11/H11*100 -> 55.464665 | L11: =J11/I11*100 -> 52.28564
B12: 7 PRIHODI OD PRODAJE NEFINANCIJSKE IMOVINE | G12: ='Prihodi po ekonomskoj klas'!D70 -> 0 | H12: ='Prihodi po ekonomskoj klas'!E70 -> 0 | I12: ='Prihodi po ekonomskoj klas'!F70 -> 800 | J12: ='Prihodi po ekonomskoj klas'!G70 -> 800 | K12: =I12/H12*100 -> #DIV/0! | L12: =J12/I12*100 -> 100
B13: RASHODI UKUPNO | G13: =G14+G15 -> 2650450.5 | H13: =H14+H15 -> 4725934.6 | I13: =I14+I15 -> 4614031.8 | J13: =J14+J15 -> 2566545.1 | K13: =J13/H13*100 -> 54.307673 | L13: =J13/I13*100 -> 55.624781
B14: 3 RASHODI POSLOVANJA | G14: ='RASHODI-ek.kl.'!D57 -> 2567146.6 | H14: ='RASHODI-ek.kl.'!E57 -> 4299508.7 | I14: ='RASHODI-ek.kl.'!F57 -> 4244329.6 | J14: ='RASHODI-ek.kl.'!G57 -> 2396625.1 | K14: =J14/H14*100 -> 55.741836 | L14: =J14/I14*100 -> 56.466517
B15: 4 RASHODI ZA NABAVU NEFINANCIJSKE IMOVINE | G15: ='RASHODI-ek.kl.'!D212 -> 83303.89 | H15: ='RASHODI-ek.kl.'!E212 -> 426425.88 | I15: ='RASHODI-ek.kl.'!F212 -> 369702.17 | J15: ='RASHODI-ek.kl.'!G212 -> 169919.99 | K15: =J15/H15*100 -> 39.847485 | L15: =J15/I15*100 -> 45.961318
B16: RAZLIKA - VIŠAK MANJAK | G16: =G10-G13 -> -422112.9 | H16: =H10-H13 -> -23678.94 | I16: =I10-I13 -> 374926.15 | J16: =J10-J13 -> 42345.24 | K16: =-J16/H16*100 -> 178.83081 | L16: =J16/I16*100 -> 11.294288
B18: SAŽETAK RAČUNA FINANCIRANJA
B19: BROJČANA OZNAKA I NAZIV | G19: OSTVARENJE/IZVRŠENJE 1.-6.2024. | H19: IZVORNI PLAN ZA 2025. | I19: TEKUĆI PLAN 2025. | J19: OSTVARENJE/IZVRŠENJE 1.-6.2025. | K19: Indeks | L19: Indeks
B20: 1 | G20: 2 | H20: 3 | I20: 4 | J20: 5 | K20: 6 | L20: 7
B21: 8 PRIMICI OD FINANCIJSKE IMOVINE I ZADUŽIVANJA
B22: 5 IZDACI ZA FINANCIJSKU IMOVINU I OTPLATE ZAJMOVA
B23: RAZLIKA PRIMITAKA I IZDATAKA
B25: PRENESENI VIŠAK ILI PRENESENI MANJAK
B26: BROJČANA OZNAKA I NAZIV | G26: OSTVARENJE/IZVRŠENJE 1.-6.2024. | H26: IZVORNI PLAN ZA 2025. | I26: TEKUĆI PLAN 2025. | J26: OSTVARENJE/IZVRŠENJE 1.-6.2025. | K26: Indeks | L26: Indeks
B27: PRENESENI VIŠAK / MANJAK IZ PRETHODNE(IH) GODINE | H27: -830702.87 | I27: -830702.87 | J27: -830702.87 | L27: 0
B28: VIŠAK/MANJAK IZ PRETHODNE GODINE KOJI ĆE SE RASPOREDITI/POKRITI | G28: =G16+G27 -> -422112.9 | H28: =H16+H27 -> -854381.81 | I28: =I27+I16 -> -455776.72 | J28: =J27+J16 -> -788357.63 | L28: 0

Sheet Prihodi po ekonomskoj klas
A2: I. OPĆI DIO
A4: A. RAČUN PRIHODA
A6: PRIHODI PREMA EKONOMSKOJ KLASIFIKACIJI
A8: PRIHODI POSLOVANJA
A9: Razred | B9: Skupina/podskupina/odjeljak | C9: Naziv | D9: OSTVARENJE/IZVRŠENJE 1.-6.2024. | E9: IZVORNI PLAN ZA 2025. | F9: TEKUĆI PLAN 2025. | G9: Izvršenje tekuće godine I.-VI.2025.
A10: 6 | D10: =D11+D33+D40+D47+D57+D66 -> 2228337.5 | E10: =E11+E33+E40+E47+E57+E66 -> 4702255.6 | F10: =F11+F33+F40+F47+F57+F66 -> 4988157.9 | G10: =G11+G33+G40+G47+G57+G66 -> 2608090.3
B11: 63 | C11: Pomoći | D11: =D12+D14+D19+D22+D27+D31 -> 15048.23 | E11: =E12+E14+E19+E22+E27+E31 -> 128013.95 | F11: =F12+F14+F19+F22+F27+F31 -> 472013.95 | G11: =G12+G14+G19+G22+G27+G31 -> 293965.23 | I11: SAVJET: PRVO POPUNITE PRETHODNI LIST
B12: 632 | C12: Pomoći od međunaodnih organizacija te institucija i tijela EU | D12: =SUM(D13) -> 0 | E12: =SUM(E13) -> 0 | F12: =SUM(F13) -> 0 | G12: =SUM(G13) -> 0
B13: 6324 | C13: Kapitalne pomoći od instucija i tijela EU | D13: 0 | E13: 0 | F13: 0 | G13: 0
B14: 633 | C14: Pomoć proračunu iz drugih proračuna | D14: =D15+D18 -> 600 | E14: =E15+E18 -> 0 | F14: =F15+F18 -> 60000 | G14: =G15+G18 -> 0 | I14: OVA TABLICA AUTOMATSKI POVLAČI IZNOSE IZ PRETHODNOG LISTA (PRIHODI PO EK KLAS I IZVORIMA)
B15: 6331 | C15: Tekuća pomoć proračunu iz drugih proračuna | D15: =SUM(D17) -> 600 | E15: =SUM(E17) -> 0 | F15: =SUM(F16:F17) -> 60000 | G15: =SUM(G16:G17) -> 0 | I15: UKOLIKO STE U PRVOM LISTU DODAVALI RAČUNE MORATI ĆETE I U OVOME LISTU NAPRAVITI IZMJENE U FORMULI RAČUNA NA KOJI SE IZMJENA ODNOSI
B16: 63312 | C16: Tekuće potpore iz županijskog proračuna | F16: ='Prihodi po ek klas i izvorima'!G19 -> 60000 | G16: ='Prihodi po ek klas i izvorima'!H19 -> 0
B17: 63313 | C17: Tekuće potpore iz gradskog proračuna | D17: ='Prihodi po ek klas i izvorima'!E20 -> 600 | E17: ='Prihodi po ek klas i izvorima'!F20 -> 0 | F17: ='Prihodi po ek klas i izvorima'!G20 -> 0 | G17: ='Prihodi po ek klas i izvorima'!H20 -> 0
B18: 6332 | C18: Kapitalna pomoć proračunu iz drugih proračuna | D18: ='Prihodi po ek klas i izvorima'!E21 -> 0 | E18: ='Prihodi po ek klas i izvorima'!F21 -> 0 | F18: ='Prihodi po ek klas i izvorima'!G21 -> 0 | G18: ='Prihodi po ek klas i izvorima'!H21 -> 0
B19: 634 | C19: Pomoći od izvanproračunskih korisnika | D19: =SUM(D20) -> 0 | E19: =SUM(E20) -> 68314.61 | F19: =SUM(F20) -> 68314.61 | G19: =SUM(G20) -> 0
B20: 6341 | C20: Tekuće pomoći od izvanproračunskih korisnika | D20: =D21 -> 0 | E20: =E21 -> 68314.61 | F20: =F21 -> 68314.61 | G20: =G21 -> 0
B21: 63414 | C21: Tekuće pomoći od izvanproračunskih korisnika | D21: ='Prihodi po ek klas i izvorima'!E24 -> 0 | E21: ='Prihodi po ek klas i izvorima'!F24 -> 68314.61 | F21: ='Prihodi po ek klas i izvorima'!G24 -> 68314.61 | G21: ='Prihodi po ek klas i izvorima'!H24 -> 0
B22: 636 | C22: Pomoć proračunskim korisnicima iz prorač.koji im nije nadležan | D22: =SUM(D23) -> 0 | E22: =SUM(E23) -> 14000 | F22: =F23+F25 -> 298000 | G22: =G23+G25 -> 284000
B23: 6361 | C23: Tekuće pomoći iz državnog prorač. prorač.korisnicima JLP(R)S | D23: =D24 -> 0 | E23: =E24 -> 14000 | F23: =F24 -> 14000 | G23: =G24 -> 0
B24: 63612 | C24: Tekuće pomoći iz državnog prorač. prorač.korisnicima JLP(R)S | D24: ='Prihodi po ek klas i izvorima'!E27 -> 0 | E24: ='Prihodi po ek klas i izvorima'!F27 -> 14000 | F24: ='Prihodi po ek klas i izvorima'!G27 -> 14000 | G24: ='Prihodi po ek klas i izvorima'!H27 -> 0
B25: 6362 | C25: Kapitalne pomoći iz državnog proračuna proračunskim korisnicima JLP(R)S | F25: =F26 -> 284000 | G25: =G26 -> 284000
B26: 63622 | C26: Kapitalne pomoći iz državnog proračuna proračunskim korisnicima JLP(R)S | F26: ='Prihodi po ek klas i izvorima'!G29 -> 284000 | G26: ='Prihodi po ek klas i izvorima'!H29 -> 284000
B27: 638 | C27: Pomoć temeljem prijenosa EU | D27: =D28+D30 -> 14448.23 | E27: =E28+E30 -> 45699.34 | F27: =F28+F30 -> 45699.34 | G27: =G28+G30 -> 9965.23
B28: 6381 | C28: Tekuće pomoći temeljem prijenosa EU sredstava | D28: =SUM(D29) -> 14448.23 | E28: =SUM(E29) -> 45699.34 | F28: =SUM(F29) -> 45699.34 | G28: =SUM(G29) -> 9965.23
B29: 63814 | C29: Tekuće pomoći temeljem prijenosa EU sredstava | D29: ='Prihodi po ek klas i izvorima'!E32 -> 14448.23 | E29: ='Prihodi po ek klas i izvorima'!F32 -> 45699.34 | F29: ='Prihodi po ek klas i izvorima'!G32 -> 45699.34 | G29: ='Prihodi po ek klas i izvorima'!H32 -> 9965.23
B30: 6382 | C30: kapitalna pomoć temeljem prijenosa EU | D30: ='Prihodi po ek klas i izvorima'!E33 -> 0 | E30: ='Prihodi po ek klas i izvorima'!F33 -> 0 | F30: ='Prihodi po ek klas i izvorima'!G33 -> 0 | G30: ='Prihodi po ek klas i izvorima'!H33 -> 0
B31: 639 | C31: Prijenosi između proračunskih korisnika | D31: =SUM(D32) -> 0 | E31: =SUM(E32) -> 0 | F31: =SUM(F32) -> 0 | G31: =SUM(G32) -> 0
B32: 6391 | C32: Tekući prijenosi između proračunskih korisnika | D32: ='Prihodi po ek klas i izvorima'!E35 -> 0 | E32: ='Prihodi po ek klas i izvorima'!F35 -> 0 | F32: ='Prihodi po ek klas i izvorima'!G35 -> 0 | G32: ='Prihodi po ek klas i izvorima'!H35 -> 0
B33: 64 | C33: Prihodi od imovine | D33: =D34+D36+D38+D39 -> 34.92 | E33: =E34+E36+E38+E39 -> 200 | F33: =F34+F36+F38+F39 -> 200 | G33: =G34+G36+G38+G39 -> 2.74
B34: 6413 | C34: Kamate na oročena sredstva i depozite po viđenju | D34: =SUM(D35) -> 18.17 | E34: =SUM(E35) -> 200 | F34: =SUM(F35) -> 200 | G34: =SUM(G35) -> 2.74
B35: 64132 | C35: Kamate na oročena sredstva i depozite po viđenju | D35: ='Prihodi po ek klas i izvorima'!E61 -> 18.17 | E35: ='Prihodi po ek klas i izvorima'!F61 -> 200 | F35: ='Prihodi po ek klas i izvorima'!G61 -> 200 | G35: ='Prihodi po ek klas i izvorima'!H61 -> 2.74
B36: 6414 | C36: Prihodi od zateznih kamata | D36: =SUM(D37) -> 16.75 | E36: =SUM(E37) -> 0 | F36: =SUM(F37) -> 0 | G36: =SUM(G37) -> 0
B37: 64143 | C37: Prihodi od zateznih kamata | D37: ='Prihodi po ek klas i izvorima'!E63 -> 16.75 | E37: ='Prihodi po ek klas i izvorima'!F63 -> 0 | F37: ='Prihodi po ek klas i izvorima'!G63 -> 0 | G37: ='Prihodi po ek klas i izvorima'!H63 -> 0
B38: 6419 | C38: Ostali prihode o financijske imovine | D38: ='Prihodi po ek klas i izvorima'!E39+'Prihodi po ek klas i izvorima'!E64 -> 0 | E38: ='Prihodi po ek klas i izvorima'!F39+'Prihodi po ek klas i izvorima'!F64 -> 0 | F38: ='Prihodi po ek klas i izvorima'!G39+'Prihodi po ek klas i izvorima'!G64 -> 0 | G38: ='Prihodi po ek klas i izvorima'!H39+'Prihodi po ek klas i izvorima'!H64 -> 0
B39: 6429 | C39: Ostali prihodi od nefinancijske imovine | D39: ='Prihodi po ek klas i izvorima'!E65 -> 0 | E39: ='Prihodi po ek klas i izvorima'!F65 -> 0 | F39: ='Prihodi po ek klas i izvorima'!G65 -> 0 | G39: ='Prihodi po ek klas i izvorima'!H65 -> 0
B40: 65 | C40: Prihodi po posebnim propisima | D40: =D41 -> 31193.51 | E40: =E41 -> 53000 | F40: =F41 -> 53000 | G40: =G41 -> 24794.35
B41: 652 | C41: Prihodi po posebnim propisima | D41: =SUM(D42) -> 31193.51 | E41: =SUM(E42) -> 53000 | F41: =SUM(F42) -> 53000 | G41: =SUM(G42) -> 24794.35
B42: 6526 | C42: Ostali nespomenuti prihodi (participacija) | D42: =SUM(D43:D46) -> 31193.51 | E42: =SUM(E43:E46) -> 53000 | F42: =SUM(F43:F46) -> 53000 | G42: =SUM(G43:G46) -> 24794.35
B43: 65264 | C43: Sufinanciranje cijene usluge, participacija | D43: ='Prihodi po ek klas i izvorima'!E43 -> 27405.34 | E43: ='Prihodi po ek klas i izvorima'!F43 -> 44000 | F43: ='Prihodi po ek klas i izvorima'!G43 -> 14000 | G43: ='Prihodi po ek klas i izvorima'!H43 -> 0
B44: 65265 | C44: Dopunsko osiguranje | D44: ='Prihodi po ek klas i izvorima'!E44 -> 0 | E44: ='Prihodi po ek klas i izvorima'!F44 -> 0 | F44: ='Prihodi po ek klas i izvorima'!G44 -> 30000 | G44: ='Prihodi po ek klas i izvorima'!H44 -> 23644.07
...

Sheet RASHODI-ek.kl.
A1: I. OPĆI DIO
A2: A. RAČUN PRIHODA I RASHODA
A4: RASHODI PREMA EKONOMSKOJ KLASIFIKACIJI
A7: PRIHODI POSLOVANJA
A8: Razred | B8: Skupina/podskupina/odjeljak | C8: Naziv | E8: Izvršenje prethodne godine I.-VI. 2022. | G8: REBALANS 2023.
A9: 1 | E9: 2 | G9: 3
A10: 6 | E10: =E11+E26+E30+E33+E40+E43 -> 24659146 | G10: =G11+G26+G30+G33+G40+G43 -> 63888652
B11: 63 | C11: Pomoći | E11: =E12+E14+E17+E19+E21+E24 -> 324811.47 | G11: =SUM(G12,G14,G17,G19,G21,G24) -> 639378.86
B12: 632 | C12: Pomoći od međunaodnih organizacija te institucija i tijela EU | E12: =SUM(E13) -> 0 | G12: =SUM(G13) -> 0
B13: 6324 | C13: Kapitalne pomoći od instucija i tijela EU | E13: 0 | G13: 0
B14: 633 | C14: Pomoć proračunu iz drugih proračuna | E14: =SUM(E15:E16) -> 50556.109 | G14: =SUM(G15:G16) -> 0
B15: 6331 | C15: Tekuća pomoć proračunu iz drugih proračuna | E15: =380915/7.5345 -> 50556.109 | G15: 0
B16: 6332 | C16: Kapitalna pomoć proračunu iz drugih proračuna | E16: 0 | G16: 0
B17: 634 | C17: Pomoći od izvanproračunskih korisnika | E17: =SUM(E18) -> 111981.95 | G17: =SUM(G18) -> 366500.76
B18: 6341 | C18: Tekuće pomoći od HZZ-a, HZZO-a | E18: =843728/7.5345 -> 111981.95 | G18: 366500.76
B19: 636 | C19: Pomoć proračunskim korisnicima iz prorač.koji im nije nadležan | E19: =SUM(E20) -> 54857.124 | G19: =SUM(G20) -> 796.34
B20: 6361 | C20: Tekuće pomoći iz državnog prorač. prorač.korisnicima JLP(R)S | E20: =413321/7.5345 -> 54857.124 | G20: =796.34 -> 796.34
B21: 638 | C21: Pomoć temeljem prijenosa EU | E21: =SUM(E22:E23) -> 107244.81 | G21: =SUM(G23) -> 272081.76
B22: 6381 | C22: Tekuće pomoći temeljem prijenosa EU sredstava | E22: =493624/7.5345 -> 65515.164 | G22: 0
B23: 6382 | C23: kapitalna pomoć temeljem prijenosa EU | E23: =314412/7.5345 -> 41729.644 | G23: 272081.76
B24: 639 | C24: Prijenosi između proračunskih korisnika | E24: =SUM(E25) -> 171.47787 | G24: =SUM(G25) -> 0
B25: 6391 | C25: Tekući prijenosi između proračunskih korisnika | E25: =1292/7.5345 -> 171.47787 | G25: 0
B26: 64 | C26: Prihodi od imovine | E26: =SUM(E27:E29) -> 50144.535 | G26: =SUM(G27:G29) -> 120462.42
B27: 6413 | C27: Kamate na oročena sredstva i depozite po viđenju | E27: =439/7.5345 -> 58.265313 | G27: 746.44
B28: 6419 | C28: Ostali prihode o financijske imovine | E28: =376342/7.5345 -> 49949.167 | G28: 119450.53
B29: 6429 | C29: Ostali prihodi od nefinancijske imovine | E29: =1033/7.5345 -> 137.10266 | G29: =265.45 -> 265.45
B30: 65 | C30: Prihodi po posebnim propisima | E30: =E31 -> 1523828.4 | G30: =SUM(G31) -> 6950029.9
B31: 652 | C31: Prihodi po posebnim propisima | E31: =SUM(E32) -> 1523828.4 | G31: =SUM(G32) -> 6950029.9
B32: 6526 | C32: Ostali nespomenuti prihodi (participacija) | E32: =11481285/7.5345 -> 1523828.4 | G32: =6950029.86 -> 6950029.9
B33: 66 | C33: Prihodi od prodaje i donacija | E33: =E34+E37 -> 1701559.2 | G33: =SUM(G34,G37) -> 3641484.9
B34: 661 | C34: Prihodi od prodaje roba i pruženih usluga (vlastiti prihodi) | E34: =SUM(E35:E36) -> 1677912 | G34: =SUM(G36,G35) -> 3521370.8
B35: 6614 | C35: Prihodi od prodaje proizvoda i robe | E35: =6216809/7.5345 -> 825112.35 | G35: 1725396.5
B36: 6615 | C36: Prihodi od pruženih usluga | E36: =6425419/7.5345 -> 852799.65 | G36: 1795974.2
B37: 663 | C37: Donacije od pravnih i fizičkih osoba izvan proračuna | E37: =SUM(E38:E39) -> 23647.223 | G37: =SUM(G38:G39) -> 120114.13
B38: 6631 | C38: Tekuće donacije | E38: =5000/7.5345 -> 663.61404 | G38: 53752.73
B39: 6632 | C39: Kapitalne donacije | E39: =173170/7.5345 -> 22983.609 | G39: 66361.4
B40: 67 | C40: Prihodi iz nadležnog proračuna i HZZOa | E40: =SUM(E41) -> 20985600 | G40: =SUM(G41) -> 52367289
B41: 673 | C41: Prihodi od HZZO-a | E41: =SUM(E42) -> 20985600 | G41: =SUM(G42) -> 52367289
B42: 6731 | C42: Prihodi od HZZO-a temeljem ugovora | E42: =158116000/7.5345 -> 20985600 | G42: 52367289
B43: 68 | C43: Kazne, upravne mjere i ostali prihodi | E43: =SUM(E44) -> 73202.601 | G43: =SUM(G44) -> 170007.44
...

Sheet Prihodi po ek klas i izvorima
A1: I. OPĆI DIO
A2: A. RAČUN PRIHODA
A3: PRIHODI PREMA EKONOMSKOJ KLASIFIKACIJI I IZVORIMA FINANCIRANJA
A5: PRIHODI POSLOVANJA
A6: Razred | B6: Skupina/podskupina/odjeljak | C6: Izvor | D6: Naziv | E6: OSTVARENJE/IZVRŠENJE 1.-6.2024. | F6: IZVORNI PLAN ZA 2025. | G6: TEKUĆI PLAN 2025. | H6: OSTVARENJE/IZVRŠENJE 1.-6.2025. | I6: Indeks | J6: Indeks
A7: 1 | E7: 2 | F7: 3 | G7: 4 | H7: 5 | I7: 6=5/3*100 | J7: 7=5/4*100
A8: 6 | D8: Prihodi poslovanja | E8: =SUM(E15,E36,E57,E75,E81,E86) -> 2228337.6 | F8: =SUM(F15,F36,F57,F75,F81,F86) -> 4702255.6 | G8: =SUM(G15,G36,G57,G75,G81,G86) -> 4988157.9 | H8: =SUM(H15,H36,H57,H75,H81,H86) -> 2608090.3 | I8: =H8/F8*100 -> 55.464665 | J8: =H8/G8*100 -> 52.28564
B9: 67 | D9: Prihodi iz nadležnog proračuna i od HZZO-a temeljem ugovornih obveza | E9: =E10 -> 130583.54 | F9: =F10 -> 369361.73 | G9: =G10 -> 311264.02 | H9: =H10 -> 116122.25 | I9: =H9/F9*100 -> 31.438625 | J9: =H9/G9*100 -> 37.306673
B10: 671 | D10: Prihodi iz nadležnog proračuna za financiranje redovne djelatnosti proračunskih korisnika | E10: =SUM(E11,E13) -> 130583.54 | F10: =SUM(F11,F13) -> 369361.73 | G10: =SUM(G11,G13) -> 311264.02 | H10: =SUM(H11,H13) -> 116122.25 | I10: =H10/F10*100 -> 31.438625 | J10: =H10/G10*100 -> 37.306673
B11: 6711 | D11: Prihodi iz nadležnog proračuna za financiranje rashoda poslovanja | E11: =E12 -> 54337.27 | F11: =F12 -> 103638.02 | G11: =G12 -> 102264.02 | H11: =H12 -> 116122.25 | I11: =H11/F11*100 -> 112.04599 | J11: =H11/G11*100 -> 113.55142
B12: 67111 | D12: Prihodi iz nadležnog proračuna za financiranje rashoda poslovanja | E12: 54337.27 | F12: 103638.02 | G12: 102264.02 | H12: =36122.25+40000+40000 -> 116122.25 | I12: =H12/F12*100 -> 112.04599 | J12: =H12/G12*100 -> 113.55142
B13: 6712 | D13: Prihodi iz nadležnog proračuna za nabavu nefinancijske imovine | E13: =E14 -> 76246.27 | F13: =F14 -> 265723.71 | G13: =G14 -> 209000 | H13: =H14 -> 0 | I13: =H13/F13*100 -> 0 | J13: =H13/G13*100 -> 0
B14: 67121 | D14: Prihodi iz nadležnog proračuna za nabavu nefinancijske imovine | E14: 76246.27 | F14: 265723.71 | G14: 209000 | H14: 0 | I14: =H14/F14*100 -> 0 | J14: =H14/G14*100 -> 0
C15: 11 | D15: Opći prihodi i primici | E15: =E9 -> 130583.54 | F15: =F9 -> 369361.73 | G15: =G9 -> 311264.02 | H15: =H9 -> 116122.25 | I15: =H15/F15*100 -> 31.438625 | J15: =H15/G15*100 -> 37.306673
B16: 63 | D16: Pomoći iz inozemstva i od subjekata unutar općeg proračuna | E16: =SUM(E17,E22,E25,E30,E34) -> 15048.23 | F16: =SUM(F17,F22,F25,F30,F34) -> 128013.95 | G16: =SUM(G17,G22,G25,G30,G34) -> 472013.95 | H16: =SUM(H17,H22,H25,H30,H34) -> 293965.23 | I16: =H16/F16*100 -> 229.63531 | J16: =H16/G16*100 -> 62.278928
B17: 633 | D17: Pomoći proračunu iz drugih proračuna | E17: =E18 -> 600 | F17: =F18 -> 0 | G17: =G18 -> 60000 | H17: =H18 -> 0 | I17: =H17/F17*100 -> #DIV/0! | J17: =H17/G17*100 -> 0
B18: 6331 | D18: Tekuće pomoći proračunu iz drugih proračuna | E18: =E20 -> 600 | F18: =F20 -> 0 | G18: =G19+G20 -> 60000 | H18: =H19+H20 -> 0 | I18: =H18/F18*100 -> #DIV/0! | J18: =H18/G18*100 -> 0
B19: 63312 | D19: Tekuće potpore iz županijskog proračuna | G19: 60000 | H19: 0 | J19: =H19/G19*100 -> 0
B20: 63313 | D20: Tekuće potpore iz gradskog proračuna | E20: 600 | F20: 0 | G20: 0 | H20: 0 | I20: =H20/F20*100 -> #DIV/0! | J20: =H20/G20*100 -> #DIV/0!
B21: 6332 | D21: Kapitalne pomoći proračunu iz drugih proračuna | I21: =H21/F21*100 -> #DIV/0! | J21: =H21/G21*100 -> #DIV/0!
B22: 634 | D22: Pomoći od izvanproračunskih korisnika | E22: =SUM(E23) -> 0 | F22: =SUM(F23) -> 68314.61 | G22: =SUM(G23) -> 68314.61 | H22: =SUM(H23) -> 0 | I22: =H22/F22*100 -> 0 | J22: =H22/G22*100 -> 0
B23: 6341 | D23: Tekuće pomoći od HZZ-a, HZZO-a | E23: =SUM(E24) -> 0 | F23: =SUM(F24) -> 68314.61 | G23: =SUM(G24) -> 68314.61 | H23: =SUM(H24) -> 0 | I23: =H23/F23*100 -> 0 | J23: =H23/G23*100 -> 0
B24: 63414 | D24: Tekuće pomoći od HZZ-a, HZZO-a | E24: 0 | F24: 68314.61 | G24: 68314.61 | H24: 0 | I24: =H24/F24*100 -> 0 | J24: =H24/G24*100 -> 0
B25: 636 | D25: Pomoći proračunskim korisnicima iz proračuna koji im nije nadležan | E25: =SUM(E26) -> 0 | F25: =SUM(F26) -> 14000 | G25: =G26+G28 -> 298000 | H25: =H26+H28 -> 284000 | I25: =H25/F25*100 -> 2028.5714 | J25: =H25/G25*100 -> 95.302013
B26: 6361 | D26: Tekuće pomoći iz državnog proračuna proračunskim korisnicma JLP(R)S | E26: =SUM(E27) -> 0 | F26: =SUM(F27) -> 14000 | G26: =SUM(G27) -> 14000 | H26: =SUM(H27) -> 0 | I26: =H26/F26*100 -> 0 | J26: =H26/G26*100 -> 0
B27: 63612 | D27: Tekuće pomoći iz državnog proračuna proračunskim korisnicma JLP(R)S | E27: 0 | F27: 14000 | G27: 14000 | H27: 0 | I27: =H27/F27*100 -> 0 | J27: =H27/G27*100 -> 0
B28: 6362 | D28: Kapitalne pomoći iz državnog proračuna proračunskim korisnicima JLP(R)S | E28: =SUM(E29) -> 0 | F28: =SUM(F29) -> 0 | G28: =SUM(G29) -> 284000 | H28: =SUM(H29) -> 284000
B29: 63622 | D29: Kapitalne pomoći iz državnog proračuna proračunskim korisnicima JLP(R)S | E29: 0 | F29: 0 | G29: 284000 | H29: 284000
B30: 638 | D30: Pomoć temeljem prijenosa EU sredstava | E30: =SUM(E31,E33) -> 14448.23 | F30: =SUM(F31,F33) -> 45699.34 | G30: =SUM(G31,G33) -> 45699.34 | H30: =SUM(H31,H33) -> 9965.23 | I30: =H30/F30*100 -> 21.80607 | J30: =H30/G30*100 -> 21.80607
B31: 6381 | D31: Tekuće pomoći temeljem prijenosa EU sredstava | E31: =SUM(E32) -> 14448.23 | F31: =SUM(F32) -> 45699.34 | G31: =SUM(G32) -> 45699.34 | H31: =SUM(H32) -> 9965.23 | I31: =H31/F31*100 -> 21.80607 | J31: =H31/G31*100 -> 21.80607
B32: 63814 | D32: Tekuće pomoći temeljem prijenosa EU sredstava | E32: 14448.23 | F32: 45699.34 | G32: 45699.34 | H32: 9965.23 | I32: =H32/F32*100 -> 21.80607 | J32: =H32/G32*100 -> 21.80607
B33: 6382 | D33: Kapitalna pomoć temeljem prijenosa EU sredstava | I33: =H33/F33*100 -> #DIV/0! | J33: =H33/G33*100 -> #DIV/0!
B34: 639 | D34: Prijenosi između proračunskih korisnika istog proračuna | E34: =E35 -> 0 | F34: =F35 -> 0 | G34: =G35 -> 0 | H34: =H35 -> 0 | I34: =H34/F34*100 -> #DIV/0! | J34: =H34/G34*100 -> #DIV/0!
B35: 6391 | D35: Tekući prijenosi između proračunskih korisnika istog proračuna | I35: =H35/F35*100 -> #DIV/0! | J35: =H35/G35*100 -> #DIV/0!
C36: 52 | D36: Pomoći | E36: =SUM(E16) -> 15048.23 | F36: =SUM(F16) -> 128013.95 | G36: =SUM(G16) -> 472013.95 | H36: =SUM(H16) -> 293965.23 | I36: =H36/F36*100 -> 229.63531 | J36: =H36/G36*100 -> 62.278928
B37: 64 | D37: Prihodi od imovine | E37: =SUM(E38) -> 0 | F37: =SUM(F38) -> 0 | G37: =SUM(G38) -> 0 | H37: =SUM(H38) -> 0 | I37: =H37/F37*100 -> #DIV/0! | J37: =H37/G37*100 -> #DIV/0!
B38: 641 | D38: Prihodi od financijske imovine | E38: =SUM(E39:E39) -> 0 | F38: =SUM(F39:F39) -> 0 | G38: =SUM(G39:G39) -> 0 | H38: =SUM(H39:H39) -> 0 | I38: =H38/F38*100 -> #DIV/0! | J38: =H38/G38*100 -> #DIV/0!
B39: 6419 | D39: Ostali prihodi od financijske imovine | I39: =H39/F39*100 -> #DIV/0! | J39: =H39/G39*100 -> #DIV/0!
B40: 65 | D40: Prihodi od upravnih i administrativnih pristojbi, pristojbi po posebnim propisima i nakanda | E40: =SUM(E41) -> 27405.34 | F40: =SUM(F41) -> 47500 | G40: =SUM(G41) -> 47500 | H40: =SUM(H41) -> 23644.07 | I40: =H40/F40*100 -> 49.776989 | J40: =H40/G40*100 -> 49.776989
B41: 652 | D41: Prihodi po posebnim propisima | E41: =SUM(E42) -> 27405.34 | F41: =SUM(F42) -> 47500 | G41: =SUM(G42) -> 47500 | H41: =SUM(H42) -> 23644.07 | I41: =H41/F41*100 -> 49.776989 | J41: =H41/G41*100 -> 49.776989
...

Sheet  PRIHODI I RASHODI-izvori
A1: I. OPĆI DIO
A2: A. RAČUN PRIHODA I RASHODA
A3: RASHODI PREMA EKONOMSKOJ KLASIFIKACIJI I IZVORIMA FINANCIRANJA
A5: RASHODI POSLOVANJA
A6: Razred | B6: Skupina/podskupina/odjeljak | C6: Izvor | D6: Naziv | E6: OSTVARENJE/IZVRŠENJE 1.-6.2024. | F6: IZVORNI PLAN ZA 2025. | G6: TEKUĆI PLAN 2025. | H6: OSTVARENJE/ IZVRŠENJE 1.-6.2025. | I6: Indeks | J6: Indeks
A7: 1 | E7: 2 | F7: 3 | G7: 4 | H7: 5 | I7: 6=5/3*100 | J7: 7=5/4*100
A8: 3 | D8: Rashodi poslovanja | E8: =E11+E58+(E247-0.01)+E353+E421+E446+E471 -> 2567146.6 | F8: =F11+F58+F247+F353+F421+F446+F471 -> 4299508.7 | G8: =G11+G58+G247+G353+G421+G446+G471 -> 4244329.6 | H8: =H11+H58+H247+H353+H421+H446+H471 -> 2396625.1 | I8: =H8/F8*100 -> 55.741836 | J8: =H8/G8*100 -> 56.466517
A9: 4 | D9: Rashodi za nabavu nefinancijske imovine | E9: =E41+E212+E331+E414+E459+E482 -> 83303.89 | F9: =F41+F212+F331+F414+F459+F482 -> 426425.88 | G9: =G41+G212+G331+G414+G441+G459+G482 -> 369702.17 | H9: =H41+H212+H331+H414+H441+H459+H482 -> 169919.99 | I9: =H9/F9*100 -> 39.847485 | J9: =H9/G9*100 -> 45.961318
D10: KORIŠTENJE DEC-a SREDSTAVA ŽUPANIJE | I10: =H10/F10*100 -> #DIV/0! | J10: =H10/G10*100 -> #DIV/0!
A11: 3 | D11: Rashodi poslovanja | E11: =E12+E19 -> 53837.27 | F11: =F12+F19 -> 103638.02 | G11: =G12+G19 -> 102264.02 | H11: =H12+H19 -> 116122.25 | I11: =H11/F11*100 -> 112.04599 | J11: =H11/G11*100 -> 113.55142
B12: 31 | D12: Rashodi za zaposlene | E12: =E13+E16 -> 4777.92 | F12: =F13+F16 -> 6978.02 | G12: =G13+G16 -> 6978.02 | H12: =H13+H16 -> 44588.96 | I12: =H12/F12*100 -> 638.99158 | J12: =H12/G12*100 -> 638.99158
B13: 311 | D13: Plaće | E13: =SUM(E14) -> 4101.24 | F13: =SUM(F14) -> 5989.73 | G13: =SUM(G14) -> 5989.73 | H13: =SUM(H14) -> 3939.03 | I13: =H13/F13*100 -> 65.763064 | J13: =H13/G13*100 -> 65.763064
B14: 3111 | D14: Plaće za redovan rad | E14: =SUM(E15) -> 4101.24 | F14: =SUM(F15) -> 5989.73 | G14: =SUM(G15) -> 5989.73 | H14: =SUM(H15) -> 3939.03 | I14: =H14/F14*100 -> 65.763064 | J14: =H14/G14*100 -> 65.763064
B15: 31111 | D15: Plaće za redovan rad | E15: ='Rekapitulacija Posebni dio'!C480+'Rekapitulacija Posebni dio'!C499+'Rekapitulacija Posebni dio'!C518 -> 4101.24 | F15: ='Rekapitulacija Posebni dio'!D480+'Rekapitulacija Posebni dio'!D499+'Rekapitulacija Posebni dio'!D518 -> 5989.73 | G15: ='Rekapitulacija Posebni dio'!E480+'Rekapitulacija Posebni dio'!E499+'Rekapitulacija Posebni dio'!E518 -> 5989.73 | H15: ='Rekapitulacija Posebni dio'!F480+'Rekapitulacija Posebni dio'!F499+'Rekapitulacija Posebni dio'!F518 -> 3939.03 | I15: =H15/F15*100 -> 65.763064 | J15: =H15/G15*100 -> 65.763064
B16: 313 | D16: Doprinosi na plaće | E16: =SUM(E17) -> 676.68 | F16: =SUM(F17) -> 988.29 | G16: =SUM(G17) -> 988.29 | H16: =SUM(H17) -> 40649.93 | I16: =H16/F16*100 -> 4113.1581 | J16: =H16/G16*100 -> 4113.1581
B17: 3132 | D17: Doprinosi za obvezno zdravstveno osiguranje | E17: =SUM(E18) -> 676.68 | F17: =SUM(F18) -> 988.29 | G17: =SUM(G18) -> 988.29 | H17: =SUM(H18) -> 40649.93 | I17: =H17/F17*100 -> 4113.1581 | J17: =H17/G17*100 -> 4113.1581
B18: 31321 | D18: Doprinosi za obvezno zdravstveno osiguranje | E18: ='Rekapitulacija Posebni dio'!C485+'Rekapitulacija Posebni dio'!C504+'Rekapitulacija Posebni dio'!C523 -> 676.68 | F18: ='Rekapitulacija Posebni dio'!D485+'Rekapitulacija Posebni dio'!D504+'Rekapitulacija Posebni dio'!D523 -> 988.29 | G18: ='Rekapitulacija Posebni dio'!E485+'Rekapitulacija Posebni dio'!E504+'Rekapitulacija Posebni dio'!E523 -> 988.29 | H18: ='Rekapitulacija Posebni dio'!F401+'Rekapitulacija Posebni dio'!F485+'Rekapitulacija Posebni dio'!F504+'Rekapitulacija Posebni dio'!F523 -> 40649.93 | I18: =H18/F18*100 -> 4113.1581 | J18: =H18/G18*100 -> 4113.1581
B19: 32 | D19: Materijalni rashodi | E19: =E26 -> 49059.35 | F19: =F26 -> 96660 | G19: =G20+G26+G37 -> 95286 | H19: =H20+H26+H37 -> 71533.29 | I19: =I20+I26 -> #DIV/0! | J19: =H19/G19*100 -> 75.072193
B20: 322 | D20: Rashodi za materijal i energiju | G20: =G24 -> 0 | H20: =H21+H24 -> 0 | I20: =H20/F20*100 -> #DIV/0! | J20: =H20/G20*100 -> #DIV/0!
B21: 3221 | D21: Uredski materijal i ostali materijalni rashodi | G21: =G22+G23 -> 0 | H21: =H22+H23 -> 0 | I21: =H21/F21*100 -> #DIV/0! | J21: =H21/G21*100 -> #DIV/0!
B22: 32211 | D22: Uredski materijal | G22: ='Rekapitulacija Posebni dio'!E407 -> 0 | H22: ='Rekapitulacija Posebni dio'!F407 -> 0 | I22: =H22/F22*100 -> #DIV/0! | J22: =H22/G22*100 -> #DIV/0!
B23: 32214 | D23: Materijal i sredstva za čišćenje i održavanje | G23: ='Rekapitulacija Posebni dio'!E408 -> 0 | H23: ='Rekapitulacija Posebni dio'!F408 -> 0 | I23: =H23/F23*100 -> #DIV/0! | J23: =H23/G23*100 -> #DIV/0!
B24: 3224 | D24: Materijal i dijelovi za tekuće i investicijsko održavanje | G24: =G25 -> 0 | H24: =H25 -> 0 | I24: =H24/F24*100 -> #DIV/0! | J24: =H24/G24*100 -> #DIV/0!
B25: 32241 | D25: Materijal i dijelovi za tekuće i invest. održavanje građ. objekata | G25: ='Rekapitulacija Posebni dio'!E448 -> 0 | H25: ='Rekapitulacija Posebni dio'!F448 -> 0 | I25: =H25/F25*100 -> #DIV/0! | J25: =H25/G25*100 -> #DIV/0!
B26: 323 | D26: Rashodi za usluge | E26: =E29+E35 -> 49059.35 | F26: =F29+F35 -> 96660 | G26: =G29+G33+G35 -> 95286 | H26: =H27+H29+H33+H35 -> 33086.95 | I26: =H26/F26*100 -> 34.23024 | J26: =H26/G26*100 -> 34.723831
B27: 3231 | D27: Usluge telefona i pošte | G27: =G28 -> 0 | H27: =H28 -> 1553.66 | I27: =H27/F27*100 -> #DIV/0! | J27: =H27/G27*100 -> #DIV/0!
B28: 32311 | D28: Usluge telefona, telefaksa | G28: ='Rekapitulacija Posebni dio'!E417 -> 0 | H28: ='Rekapitulacija Posebni dio'!F417 -> 1553.66 | I28: =H28/F28*100 -> #DIV/0! | J28: =H28/G28*100 -> #DIV/0!
B29: 3232 | D29: Usluge tekućeg i investicijskog održavanja | E29: =SUM(E30:E32) -> 31610.36 | F29: =SUM(F30:F32) -> 64440 | G29: =SUM(G30:G32) -> 55286 | H29: =SUM(H30:H32) -> 12192.03 | I29: =H29/F29*100 -> 18.919972 | J29: =H29/G29*100 -> 22.052653
B30: 32321 | D30: Usluge tekućeg i investicijskog održavanja građevinskih objekata | E30: ='Rekapitulacija Posebni dio'!C451 -> 8274.89 | F30: ='Rekapitulacija Posebni dio'!D451 -> 16110 | G30: ='Rekapitulacija Posebni dio'!E451 -> 20000 | H30: ='Rekapitulacija Posebni dio'!F451 -> 3395.31 | I30: =H30/F30*100 -> 21.075791 | J30: =H30/G30*100 -> 16.97655
B31: 32322 | D31: Usluge tekućeg i investicijskog održavanja postrojenja i opreme | E31: ='Rekapitulacija Posebni dio'!C452 -> 4687.71 | F31: ='Rekapitulacija Posebni dio'!D452 -> 16110 | G31: ='Rekapitulacija Posebni dio'!E452 -> 10000 | H31: ='Rekapitulacija Posebni dio'!F452 -> 2948.21 | I31: =H31/F31*100 -> 18.300497 | J31: =H31/G31*100 -> 29.4821
B32: 32323 | D32: Usluge tekućeg i investicijskog održavanja prijevoznih sredstava | E32: ='Rekapitulacija Posebni dio'!C453 -> 18647.76 | F32: ='Rekapitulacija Posebni dio'!D453 -> 32220 | G32: ='Rekapitulacija Posebni dio'!E453 -> 25286 | H32: ='Rekapitulacija Posebni dio'!F453 -> 5848.51 | I32: =H32/F32*100 -> 18.1518 | J32: =H32/G32*100 -> 23.129439
B33: 3236 | D33: Zdravstvene i veterinarske usluge | G33: =G34 -> 0 | H33: =H34 -> 0 | I33: =H33/F33*100 -> #DIV/0! | J33: =H33/G33*100 -> #DIV/0!
B34: 32369 | D34: Zdravstvene i veterinarske usluge | G34: ='Rekapitulacija Posebni dio'!E419 -> 0 | H34: ='Rekapitulacija Posebni dio'!F419 -> 0 | I34: =H34/F34*100 -> #DIV/0! | J34: =H34/G34*100 -> #DIV/0!
B35: 3238 | D35: Računalne usluge | E35: =SUM(E36) -> 17448.99 | F35: =SUM(F36) -> 32220 | G35: =SUM(G36) -> 40000 | H35: =SUM(H36) -> 19341.26 | I35: =H35/F35*100 -> 60.02874 | J35: =H35/G35*100 -> 48.35315
B36: 32389 | D36: Ostale računalne usluge | E36: ='Rekapitulacija Posebni dio'!C457 -> 17448.99 | F36: ='Rekapitulacija Posebni dio'!D457 -> 32220 | G36: ='Rekapitulacija Posebni dio'!E457 -> 40000 | H36: ='Rekapitulacija Posebni dio'!F457 -> 19341.26 | I36: =H36/F36*100 -> 60.02874 | J36: =H36/G36*100 -> 48.35315
B37: 325 | D37: Rashodi za usluge | G37: =G38 -> 0 | H37: =H38 -> 38446.34 | I37: =H37/F37*100 -> #DIV/0! | J37: =H37/G37*100 -> #DIV/0!
B38: 3251 | D38: Ostale usluge | G38: =G39+G40 -> 0 | H38: =H39+H40 -> 38446.34 | I38: =H38/F38*100 -> #DIV/0! | J38: =H38/G38*100 -> #DIV/0!
B39: 32511 | D39: Rashodi po osnovi utroška lijekova | G39: ='Rekapitulacija Posebni dio'!E427 -> 0 | H39: ='Rekapitulacija Posebni dio'!F427 -> 0 | I39: =H39/F39*100 -> #DIV/0! | J39: =H39/G39*100 -> #DIV/0!
B40: 32513 | D40: Rashodi po osnovi utroška potrošnog medicinskog materijala | G40: ='Rekapitulacija Posebni dio'!E428 -> 0 | H40: ='Rekapitulacija Posebni dio'!F428 -> 38446.34 | I40: =H40/F40*100 -> #DIV/0! | J40: =H40/G40*100 -> #DIV/0!
A41: 4 | D41: Rashodi za nabavu nefinancijske imovine | E41: =E42+E53 -> 76246.27 | F41: =F42+F53 -> 265723.71 | G41: =G42+G53 -> 209000 | H41: =H42+H53 -> 0 | I41: =H41/F41*100 -> 0 | J41: =H41/G41*100 -> 0
...

Sheet RASHODI-funkcijska
A2: I. OPĆI DIO
A4: A. RAČUN PRIHODA I RASHODA
A6: IZVJEŠTAJ O RASHODIMA PREMA FUNKCIJSKOJ KLASIFIKACIJI
A8: BROJČANA OZNAKA I NAZIV | B8: OSTVARENJE/IZVRŠENJE 1.-6.2024. | C8: IZVORNI PLAN ZA 2025. | D8: TEKUĆI PLAN 2025. | E8: Izvršenje tekuće godine I.-VI.2025. | F8: Indeks | G8: Indeks
A9: 1 | C9: 2 | D9: 3 | E9: 4 | F9: 5 | G9: 5
A10: UKUPNO RASHODI | B10: ='RASHODI-ek.kl.'!D248 -> 2650450.5 | C10: ='RASHODI-ek.kl.'!E248 -> 4725934.6 | D10: ='RASHODI-ek.kl.'!F248 -> 4614031.8 | E10: ='RASHODI-ek.kl.'!G248 -> 2566545.1 | F10: =E10/C10*100 -> 54.307673 | G10: =E10/D10*100 -> 55.624781
A11: 07 Zdravstvo | B11: =B12 -> 2650450.5 | C11: =C12 -> 4725934.6 | D11: =D12 -> 4614031.8 | E11: =E12 -> 2566545.1 | F11: =E11/C11*100 -> 54.307673 | G11: =E11/D11*100 -> 55.624781
A12: 072 Služba za vanjske pacijente | B12: =B13+B14+B15 -> 2650450.5 | C12: =C13+C14+C15 -> 4725934.6 | D12: =D13+D14+D15 -> 4614031.8 | E12: =E13+E14+E15 -> 2566545.1 | F12: =E12/C12*100 -> 54.307673 | G12: =E12/D12*100 -> 55.624781
A13: 0721 Opće medicinske usluge | B13: =ROUND(B10*0.6,2) -> 1590270.3 | C13: =ROUND(C10*0.6,2) -> 2835560.7 | D13: =ROUND(D10*0.6,2) -> 2768419.1 | E13: =ROUND(E10*0.6,2) -> 1539927 | F13: =E13/C13*100 -> 54.307672 | G13: =E13/D13*100 -> 55.624781
A14: 0722 Specijalističke med. usluge | B14: =ROUND(B10*0.15,2) -> 397567.57 | C14: =ROUND(C10*0.15,2) -> 708890.19 | D14: =ROUND(D10*0.15,2) -> 692104.77 | E14: =ROUND(E10*0.15,2) -> 384981.76 | F14: =E14/C14*100 -> 54.307672 | G14: =E14/D14*100 -> 55.624781
A15: 0723 Zubarske usluge | B15: =ROUND(B10*0.25,2) -> 662612.61 | C15: =ROUND(C10*0.25,2) -> 1181483.6 | D15: =ROUND(D10*0.25,2) -> 1153507.9 | E15: =ROUND(E10*0.25,2) -> 641636.27 | F15: =E15/C15*100 -> 54.307673 | G15: =E15/D15*100 -> 55.624781
A16: 073 Bolničke službe | C16: =C17 -> 0 | D16: =D17 -> 0 | E16: =E17 -> 0 | F16: =F17 -> 0 | G16: =G17 -> 0
A17: 0731 Usluge općih bolnica
A18: 074 Službe javnog zdravstva | C18: 0 | D18: 0 | E18: 0 | F18: 0 | G18: 0

Sheet Rekapitulacija Posebni dio
A1: II. POSEBNI DIO
A2: Rashodi i izdaci po izvorima financiranja i ekonomskoj klasifikaciji raspoređenih u programe, aktivnosti i projekte
A4: Šifra | B4: Naziv | C4: OSTVARENJE/IZVRŠENJE 1.-6.2024. | D4: IZVORNI PLAN ZA 2025. | E4: TEKUĆI PLAN 2025. | F4: OSTVARENJE/IZVRŠENJE 1.-6.2025. | G4: Indeks | H4: Indeks
A5: PROGRAM | B5: RAD I RAZVOJ USTANOVE | C5: 2 | D5: 3 | E5: 4 | F5: 5 | G5: 6=5/3*100 | H5: 7=5/4*100
A6: AKTIVNOST | B6: Redovna djelatnost | C6: =C7+C197+C297+C360+C376 -> 2504624.1 | D6: =D7+D197+D297+D360+D376 -> 4247373.5 | E6: =E7+E197+E297+E360+E376+E402 -> 4193568.4 | F6: =F7+F197+F297+F360+F376+F396+F402 -> 2503927.7 | G6: =F6/D6*100 -> 58.952378 | H6: =F6/E6*100 -> 59.708759
A7: 43 | B7: Ostali prihodi za posebne namjene | C7: =C8+C162 -> 2423075.8 | D7: =D8+D162 -> 4009442.6 | E7: =E8+E162 -> 3895637.5 | F7: =F8+F162 -> 2351906.2 | G7: =F7/D7*100 -> 58.659181 | H7: =F7/E7*100 -> 60.372819
A8: 3 | B8: Rashodi poslovanja | C8: =C9+C32+C128+C140+C143+C148 -> 2419806.4 | D8: =D9+D32+D128+D140+D143+D148 -> 3883930.4 | E8: =E9+E32+E128+E140+E143+E148 -> 3770125.3 | F8: =F9+F32+F128+F140+F143+F148 -> 2181986.2 | G8: =F8/D8*100 -> 56.179848 | H8: =F8/E8*100 -> 57.875694
A9: 31 | B9: Rashodi za zaposlene | C9: =C10+C19+C27 -> 2006367.1 | D9: =D10+D19+D27 -> 3042112.3 | E9: =E10+E19+E27 -> 3042112.3 | F9: =F10+F19+F27 -> 1886674.4 | G9: =F9/D9*100 -> 62.018567 | H9: =F9/E9*100 -> 62.018567
A10: 311 | B10: Plaće | C10: =C11+C14+C15+C17 -> 1692619.5 | D10: =D11+D14+D15+D17 -> 2505491.4 | E10: =E11+E14+E15+E17 -> 2505491.4 | F10: =F11+F14+F15+F17 -> 1630599.2 | G10: =F10/D10*100 -> 65.081015 | H10: =F10/E10*100 -> 65.081015
A11: 3111 | B11: Plaće za redovan rad | C11: =SUM(C12:C13) -> 1607506.6 | D11: =SUM(D12:D13) -> 2456384 | E11: =SUM(E12:E13) -> 2456384 | F11: =SUM(F12:F13) -> 1576823.2 | G11: =F11/D11*100 -> 64.192865 | H11: =F11/E11*100 -> 64.192865
A12: 31111 | B12: Plaće za redovan rad | C12: 1605790.6 | D12: 2451384 | E12: 2451384 | F12: =1628846-F202-F302-F480-F499-F518-F537-F615 -> 1576823.2 | G12: =F12/D12*100 -> 64.323797 | H12: =F12/E12*100 -> 64.323797
A13: 31113 | B13: Plaće po sudskim presudama | C13: 1715.99 | D13: 5000 | E13: 5000 | G13: =F13/D13*100 -> 0 | H13: =F13/E13*100 -> 0
A14: 3112 | B14: Plaće u naravi | G14: =F14/D14*100 -> #DIV/0! | H14: =F14/E14*100 -> #DIV/0!
A15: 3113 | B15: Plaće za prekovremeni rad | C15: =SUM(C16) -> 43363.13 | D15: =SUM(D16) -> 49107.44 | E15: =SUM(E16) -> 49107.44 | F15: =SUM(F16) -> 53776 | G15: =F15/D15*100 -> 109.50683 | H15: =F15/E15*100 -> 109.50683
A16: 31131 | B16: Plaće za prekovremeni rad | C16: 43363.13 | D16: 49107.44 | E16: 49107.44 | F16: =53776 -> 53776 | G16: =F16/D16*100 -> 109.50683 | H16: =F16/E16*100 -> 109.50683
A17: 3114 | B17: Plaće za posebne uvjete rada | C17: =SUM(C18) -> 41749.86 | D17: =SUM(D18) -> 0 | E17: =SUM(E18) -> 0 | F17: =SUM(F18) -> 0 | G17: =F17/D17*100 -> #DIV/0! | H17: =F17/E17*100 -> #DIV/0!
A18: 31141 | B18: Plaće za posebne uvjete rada | C18: 41749.86 | D18: 0 | F18: =0-F206-F568 -> 0 | G18: =F18/D18*100 -> #DIV/0! | H18: =F18/E18*100 -> #DIV/0!
A19: 312 | B19: Ostali rashodi za zaposlene | C19: =C20 -> 46531.28 | D19: =D20 -> 123214.88 | E19: =E20 -> 123214.88 | F19: =F20 -> 26084.95 | G19: =F19/D19*100 -> 21.170292 | H19: =F19/E19*100 -> 21.170292
A20: 3121 | B20: Ostali rashodi za zaposlene | C20: =SUM(C21:C26) -> 46531.28 | D20: =SUM(D21:D26) -> 123214.88 | E20: =SUM(E21:E26) -> 123214.88 | F20: =SUM(F21:F26) -> 26084.95 | G20: =F20/D20*100 -> 21.170292 | H20: =F20/E20*100 -> 21.170292
A21: 31212 | B21: Ostali rashodi za zaposlene-nagrade | C21: 22279.33 | D21: 13000 | E21: 13000 | F21: =10039.91 -> 10039.91 | G21: =F21/D21*100 -> 77.230077 | H21: =F21/E21*100 -> 77.230077
A22: 31213 | B22: Darovi | C22: 22436.17 | D22: 25000 | E22: 25000 | F22: =13062.16 -> 13062.16 | G22: =F22/D22*100 -> 52.24864 | H22: =F22/E22*100 -> 52.24864
A23: 31214 | B23: Otpremnine | C23: 0 | D23: 2000 | E23: 2000 | F23: 0 | G23: =F23/D23*100 -> 0 | H23: =F23/E23*100 -> 0
A24: 31215 | B24: Naknade za bolest, invalidnost i smrt | C24: 1815.78 | D24: 3800 | E24: 3800 | F24: =2082.88 -> 2082.88 | G24: =F24/D24*100 -> 54.812632 | H24: =F24/E24*100 -> 54.812632
A25: 31216 | B25: Regres za godišnji odmor | C25: 0 | D25: 40000 | E25: 40000 | F25: =900-F540 -> 900 | G25: =F25/D25*100 -> 2.25 | H25: =F25/E25*100 -> 2.25
A26: 31219 | B26: Ostali nenavedeni rashodi za zaposlene | C26: 0 | D26: =123214.88-D21-D22-D23-D24-D25 -> 39414.88 | E26: 39414.88 | F26: =0-F209-F541 -> 0 | G26: =F26/D26*100 -> 0 | H26: =F26/E26*100 -> 0
A27: 313 | B27: Doprinosi na plaće | C27: =C28+C30 -> 267216.27 | D27: =D28+D30 -> 413406 | E27: =E28+E30 -> 413406 | F27: =F28+F30 -> 229990.24 | G27: =F27/D27*100 -> 55.633019 | H27: =F27/E27*100 -> 55.633019
A28: 3132 | B28: Doprinosi za obvezno zdravstveno osiguranje | C28: =SUM(C29) -> 267178.53 | D28: =SUM(D29) -> 413406 | E28: =SUM(E29) -> 413406 | F28: =SUM(F29) -> 229990.24 | G28: =F28/D28*100 -> 55.633019 | H28: =F28/E28*100 -> 55.633019
A29: 31321 | B29: Doprinosi za obvezno zdravstveno osiguranje | C29: 267178.53 | D29: 413406 | E29: =413406 -> 413406 | F29: =273903.11+649.44-F212-F309-F401-F485-F504-F523-F544-F574-F618 -> 229990.24 | G29: =F29/D29*100 -> 55.633019 | H29: =F29/E29*100 -> 55.633019
A30: 3133 | B30: Doprinosi za zapošljavanje | C30: =C31 -> 37.74 | D30: =D31 -> 0 | E30: =E31 -> 0 | F30: =F31 -> 0 | G30: =F30/D30*100 -> #DIV/0! | H30: =F30/E30*100 -> #DIV/0!
A31: 31332 | B31: Doprinosi za obvezno osiguranje u slučaju nezaposlenosti | C31: 37.74 | F31: =0 -> 0 | G31: =F31/D31*100 -> #DIV/0! | H31: =F31/E31*100 -> #DIV/0!
A32: 32 | B32: Materijalni rashodi | C32: =C33+C45+C70+C101+C108 -> 400850.39 | D32: =D33+D45+D70+D101+D108 -> 829345.58 | E32: =E33+E45+E70+E101+E104+E108 -> 715540.49 | F32: =F33+F45+F70+F101+F104+F108 -> 292040.38 | G32: =G33+G45+G70+G101+G104+G108 -> #DIV/0! | H32: =F32/E32*100 -> 40.813955
A33: 321 | B33: Naknade troškova zaposlenima | C33: =C34+C38+C40+C43-0.01 -> 54208.845 | D33: =D34+D38+D40+D43 -> 106441.57 | E33: =E34+E38+E40+E43 -> 106441.57 | F33: =F34+F38+F40+F43 -> 44479.62 | G33: =G34+G38+G40+G43 -> 150.35819 | H33: =F33/E33*100 -> 41.787828
A34: 3211 | B34: Službena putovanja | C34: =SUM(C35:C37) -> 1130.65 | D34: =SUM(D35:D37) -> 18977.24 | E34: =SUM(E35:E37) -> 18977.24 | F34: =SUM(F35:F37) -> 1201.39 | G34: =SUM(G35:G37) -> 41.802932 | H34: =F34/E34*100 -> 6.3306888
A35: 32111 | B35: Dnevnice za službeni put u zemlji | C35: =3945-C365 -> 1130.65 | D35: 11800 | E35: 11800 | F35: =2854.32-F365-F548-F622 -> 825 | G35: =F35/D35*100 -> 6.9915254 | H35: =F35/E35*100 -> 6.9915254
A36: 32113 | B36: Naknade za smještaj na službenom putu u zemlji | C36: 0 | D36: 700 | E36: 700 | F36: =827.6-F623 -> 227.6 | G36: =F36/D36*100 -> 32.514286 | H36: =F36/E36*100 -> 32.514286
A37: 32115 | B37: Naknade za prijevoz na službenom putu u zemlji | C37: =992.9-C366 -> 0 | D37: =18977.24-D35-D36 -> 6477.24 | E37: 6477.24 | F37: =851.5-F216-F366-F624 -> 148.79 | G37: =F37/D37*100 -> 2.2971204 | H37: =F37/E37*100 -> 2.2971204
A38: 3212 | B38: Naknade za prijevoz, za rad na terenu i odvojeni život | C38: =SUM(C39) -> 48896.01 | D38: =SUM(D39) -> 82288.14 | E38: =SUM(E39) -> 82288.14 | F38: =SUM(F39) -> 40439.54 | G38: =SUM(G39) -> 49.143826 | H38: =F38/E38*100 -> 49.143826
A39: 32121 | B39: Naknade za prijevoz, za rad na terenu i odvojeni život | C39: 48896.01 | D39: 82288.14 | E39: 82288.14 | F39: =47964.81+339.77-F218-F550-F626 -> 40439.54 | G39: =F39/D39*100 -> 49.143826 | H39: =F39/E39*100 -> 49.143826
A40: 3213 | B40: Stručno usavršavanje zaposlenih | C40: =SUM(C41:C42) -> 4182.195 | D40: =SUM(D41:D42) -> 4778.02 | E40: =SUM(E41:E42) -> 4778.02 | F40: =SUM(F41:F42) -> 2838.69 | G40: =F40/D40*100 -> 59.41143 | H40: =F40/E40*100 -> 59.41143
A41: 32131 | B41: Seminari, savjetovanja i simpoziji | C41: 480 | D41: 2200 | E41: 2200 | F41: =802.5 -> 802.5 | G41: =F41/D41*100 -> 36.477273 | H41: =F41/E41*100 -> 36.477273
...

Sheet Kontrolna tablica
C2: PRIHODI I RASHODI PREMA IZVORIMA FINANCIRANJA
B4: R.br. | C4: Opis | D4: Izvorni plan 2025. | E4: Plan | F4: Ostvareno | G4: Indeks | H4: Indeks
C5: UKUPNO PRIHODI | D5: =D6+D8+D10+D14+D16+D18 -> 4702255.6 | E5: =E6+E8+E10+E14+E16+E18 -> 4988957.9 | F5: =F6+F8+F10+F14+F16+F18 -> 2608890.3 | G5: =F5/D5*100 -> 55.481678 | H5: =F5/E5*100 -> 52.293292
B6: 1 | C6: Opći prihodi i primici | D6: =D7 -> 369361.73 | E6: =E7 -> 311264.02 | F6: =F7 -> 116122.25 | G6: =F6/D6*100 -> 31.438625 | H6: =F6/E6*100 -> 37.306673
C7: 11 Opći prihodi i primici | D7: ='Prihodi po ek klas i izvorima'!F15 -> 369361.73 | E7: ='Prihodi po ek klas i izvorima'!G15 -> 311264.02 | F7: ='Prihodi po ek klas i izvorima'!H15 -> 116122.25 | G7: =F7/D7*100 -> 31.438625 | H7: =F7/E7*100 -> 37.306673
B8: 2 | C8: Vlastiti prihodi | D8: =D9 -> 199283.29 | E8: =E9 -> 199283.29 | F8: =F9 -> 70071.21 | G8: =F8/D8*100 -> 35.161608 | H8: =F8/E8*100 -> 35.161608
C9: 31 Vlastiti prihodi | D9: ='Prihodi po ek klas i izvorima'!F75 -> 199283.29 | E9: ='Prihodi po ek klas i izvorima'!G75 -> 199283.29 | F9: ='Prihodi po ek klas i izvorima'!H75 -> 70071.21 | G9: =F9/D9*100 -> 35.161608 | H9: =F9/E9*100 -> 35.161608
B10: 3 | C10: Prihodi za posebne namjene | D10: =SUM(D11:D13) -> 3949596.7 | E10: =SUM(E11:E13) -> 3949596.7 | F10: =SUM(F11:F13) -> 2126781.3 | G10: =F10/D10*100 -> 53.848064 | H10: =F10/E10*100 -> 53.848064
C11: 43 Prihodi za posebne namjene (HZZO) | D11: ='Prihodi po ek klas i izvorima'!F46 -> 3899096.7 | E11: ='Prihodi po ek klas i izvorima'!G46 -> 3899096.7 | F11: ='Prihodi po ek klas i izvorima'!H46 -> 2103137.3 | G11: =F11/D11*100 -> 53.93909 | H11: =F11/E11*100 -> 53.93909
C12: 43 Prihodi za posebne namjene (dopunsko osiguranje, participacija,…) | D12: ='Prihodi po ek klas i izvorima'!F40 -> 47500 | E12: ='Prihodi po ek klas i izvorima'!G40 -> 47500 | F12: ='Prihodi po ek klas i izvorima'!H40 -> 23644.07 | G12: =F12/D12*100 -> 49.776989 | H12: =F12/E12*100 -> 49.776989
C13: 43 Ostali prihodi | D13: ='Prihodi po ek klas i izvorima'!F53 -> 3000 | E13: ='Prihodi po ek klas i izvorima'!G53 -> 3000 | F13: ='Prihodi po ek klas i izvorima'!H53 -> 0 | G13: =F13/D13*100 -> 0 | H13: =F13/E13*100 -> 0
B14: 4 | C14: Pomoći | D14: =D15 -> 128013.95 | E14: =E15 -> 472013.95 | F14: =F15 -> 293965.23 | G14: =F14/D14*100 -> 229.63531 | H14: =F14/E14*100 -> 62.278928
C15: 52 Ostale pomoći | D15: ='Prihodi po ek klas i izvorima'!F36 -> 128013.95 | E15: ='Prihodi po ek klas i izvorima'!G36 -> 472013.95 | F15: ='Prihodi po ek klas i izvorima'!H36 -> 293965.23 | G15: =F15/D15*100 -> 229.63531 | H15: =F15/E15*100 -> 62.278928
B16: 5 | C16: Donacije | D16: =D17 -> 50500 | E16: =E17 -> 50500 | F16: =F17 -> 0 | G16: =F16/D16*100 -> 0 | H16: =F16/E16*100 -> 0
C17: 61 Donacije | D17: ='Prihodi po ek klas i izvorima'!F81 -> 50500 | E17: ='Prihodi po ek klas i izvorima'!G81 -> 50500 | F17: ='Prihodi po ek klas i izvorima'!H81 -> 0 | G17: =F17/D17*100 -> 0 | H17: =F17/E17*100 -> 0
B18: 6 | C18: Prihodi od nefinancijske imovine i naknade štete s naslova osiguranja | D18: =D19 -> 5500 | E18: =E19 -> 6300 | F18: =F19 -> 1950.28 | G18: =F18/D18*100 -> 35.459636 | H18: =F18/E18*100 -> 30.956825
C19: 71 Prihodi od nefinancijske imovine i naknade štete s naslova osiguranja | D19: ='Prihodi po ek klas i izvorima'!F86 -> 5500 | E19: ='Prihodi po ek klas i izvorima'!G86+'Prihodi po ek klas i izvorima'!G94 -> 6300 | F19: ='Prihodi po ek klas i izvorima'!H86+'Prihodi po ek klas i izvorima'!H94 -> 1950.28 | G19: =F19/D19*100 -> 35.459636 | H19: =F19/E19*100 -> 30.956825
C20: UKUPNO PRIHODI | D20: =D6+D8+D10+D14+D16+D18 -> 4702255.6 | E20: =E6+E8+E10+E14+E16+E18 -> 4988957.9 | F20: =F6+F8+F10+F14+F16+F18 -> 2608890.3 | G20: =F20/D20*100 -> 55.481678 | H20: =F20/E20*100 -> 52.293292
B23: R.br. | C23: Opis | D23: Izvorni plan 2025. | E23: Plan | F23: Ostvareno | G23: Indeks | H23: Indeks
C24: UKUPNO RASHODI | D24: =D25+D27+D29+D31+D33+D35 -> 4725934.6 | E24: =E25+E27+E29+E31+E33+E35 -> 4614031.8 | F24: =F25+F27+F29+F31+F33+F35 -> 2486545.1 | G24: =F24/D24*100 -> 52.614886 | H24: =F24/E24*100 -> 53.89094
B25: 1 | C25: Opći prihodi i primici | D25: =D26 -> 369361.73 | E25: =E26 -> 311264.02 | F25: =F26 -> 36122.25 | G25: =F25/D25*100 -> 9.7796407 | H25: =F25/E25*100 -> 11.605019
C26: 11 Opći prihodi i primici | D26: ='Rekapitulacija Posebni dio'!D430+'Rekapitulacija Posebni dio'!D475+'Rekapitulacija Posebni dio'!D494+'Rekapitulacija Posebni dio'!D513 -> 369361.73 | E26: ='Rekapitulacija Posebni dio'!E430+'Rekapitulacija Posebni dio'!E475+'Rekapitulacija Posebni dio'!E494+'Rekapitulacija Posebni dio'!E513 -> 311264.02 | F26: ='Rekapitulacija Posebni dio'!F430+'Rekapitulacija Posebni dio'!F475+'Rekapitulacija Posebni dio'!F494+'Rekapitulacija Posebni dio'!F513 -> 36122.25 | G26: =F26/D26*100 -> 9.7796407 | H26: =F26/E26*100 -> 11.605019
B27: 2 | C27: Vlastiti prihodi | D27: =D28 -> 163116.33 | E27: =E28 -> 163116.33 | F27: =F28 -> 70071.205 | G27: =F27/D27*100 -> 42.957811 | H27: =F27/E27*100 -> 42.957811
C28: 31 Vlastiti prihodi | D28: ='Rekapitulacija Posebni dio'!D197+'Rekapitulacija Posebni dio'!D578 -> 163116.33 | E28: ='Rekapitulacija Posebni dio'!E197+'Rekapitulacija Posebni dio'!E578 -> 163116.33 | F28: ='Rekapitulacija Posebni dio'!F197+'Rekapitulacija Posebni dio'!F578 -> 70071.205 | G28: =F28/D28*100 -> 42.957811 | H28: =F28/E28*100 -> 42.957811
B29: 3 | C29: Prihodi za posebne namjene | D29: =D30 -> 4009442.6 | E29: =E30 -> 3895637.5 | F29: =F30 -> 2351906.2 | G29: =F29/D29*100 -> 58.659181 | H29: =F29/E29*100 -> 60.372819
C30: 43 Prihodi za posebne namjene | D30: ='Rekapitulacija Posebni dio'!D7 -> 4009442.6 | E30: ='Rekapitulacija Posebni dio'!E7 -> 3895637.5 | F30: ='Rekapitulacija Posebni dio'!F7 -> 2351906.2 | G30: =F30/D30*100 -> 58.659181 | H30: =F30/E30*100 -> 60.372819
B31: 4 | C31: Pomoći | D31: =D32 -> 128013.95 | E31: =E32 -> 188013.95 | F31: =F32 -> 26495.16 | G31: =F31/D31*100 -> 20.697088 | H31: =F31/E31*100 -> 14.092125
C32: 52 Ostale pomoći | D32: ='Rekapitulacija Posebni dio'!D297+'Rekapitulacija Posebni dio'!D532+'Rekapitulacija Posebni dio'!D561+'Rekapitulacija Posebni dio'!D610 -> 128013.95 | E32: ='Rekapitulacija Posebni dio'!E297+'Rekapitulacija Posebni dio'!E532+'Rekapitulacija Posebni dio'!E561+'Rekapitulacija Posebni dio'!E610 -> 188013.95 | F32: ='Rekapitulacija Posebni dio'!F297+'Rekapitulacija Posebni dio'!F532+'Rekapitulacija Posebni dio'!F561+'Rekapitulacija Posebni dio'!F610+'Rekapitulacija Posebni dio'!F654 -> 26495.16 | G32: =F32/D32*100 -> 20.697088 | H32: =F32/E32*100 -> 14.092125
B33: 5 | C33: Donacije | D33: =D34 -> 50500 | E33: =E34 -> 50500 | F33: =F34 -> 0 | G33: =F33/D33*100 -> 0 | H33: =F33/E33*100 -> 0
C34: 61 Donacije | D34: ='Rekapitulacija Posebni dio'!D360+'Rekapitulacija Posebni dio'!D654 -> 50500 | E34: ='Rekapitulacija Posebni dio'!E360+'Rekapitulacija Posebni dio'!E654 -> 50500 | F34: ='Rekapitulacija Posebni dio'!F360 -> 0 | G34: =F34/D34*100 -> 0 | H34: =F34/E34*100 -> 0
B35: 6 | C35: Prihodi od nefinancijske imovine i naknade štete s naslova osiguranja | D35: =D36 -> 5500 | E35: =E36 -> 5500 | F35: =F36 -> 1950.28 | G35: =F35/D35*100 -> 35.459636 | H35: =F35/E35*100 -> 35.459636
C36: 71 Prihodi od nefinancijske imovine i naknade štete s naslova osiguranja | D36: ='Rekapitulacija Posebni dio'!D376 -> 5500 | E36: ='Rekapitulacija Posebni dio'!E376 -> 5500 | F36: ='Rekapitulacija Posebni dio'!F376 -> 1950.28 | G36: =F36/D36*100 -> 35.459636 | H36: =F36/E36*100 -> 35.459636
C37: UKUPNO RASHODI | D37: =D25+D27+D29+D31+D33+D35 -> 4725934.6 | E37: =E25+E27+E29+E31+E33+E35 -> 4614031.8 | F37: =F25+F27+F29+F31+F33+F35 -> 2486545.1 | G37: =F37/D37*100 -> 52.614886 | H37: =F37/E37*100 -> 53.89094
B39: R.br. | C39: Opis | D39: Izvorni plan 2025. | E39: Plan | F39: Ostvareno | G39: Indeks | H39: Indeks
B40: 1 | C40: Rashodi za zaposlene | D40: ='RASHODI-ek.kl.'!E58 -> 3228791.6 | E40: ='RASHODI-ek.kl.'!F58 -> 3224991.6 | F40: ='RASHODI-ek.kl.'!G58 -> 1983259.5 | G40: =F40/D40*100 -> 61.424202 | H40: =F40/E40*100 -> 61.496578
B41: 2 | C41: Materijalni rashodi | D41: ='RASHODI-ek.kl.'!E82 -> 1058244.5 | E41: ='RASHODI-ek.kl.'!F82 -> 1006865.4 | F41: ='RASHODI-ek.kl.'!G82 -> 410094.21 | G41: =F41/D41*100 -> 38.752311 | H41: =F41/E41*100 -> 40.729793
B42: 3 | C42: Financijski rashodi | D42: ='RASHODI-ek.kl.'!E178 -> 9972.52 | E42: ='RASHODI-ek.kl.'!F178 -> 9972.52 | F42: ='RASHODI-ek.kl.'!G178 -> 3054.41 | G42: =F42/D42*100 -> 30.628266 | H42: =F42/E42*100 -> 30.628266
B43: 4 | C43: Naknade građanima i kućanstvima na temelju osiguranja i druge naknade | D43: ='RASHODI-ek.kl.'!E194 -> 2000 | E43: ='RASHODI-ek.kl.'!F194 -> 2000 | F43: ='RASHODI-ek.kl.'!G194 -> 0 | G43: =F43/D43*100 -> 0 | H43: =F43/E43*100 -> 0
B44: 5 | C44: Ostali rashodi | D44: ='RASHODI-ek.kl.'!E199 -> 500 | E44: ='RASHODI-ek.kl.'!F199 -> 500 | F44: ='RASHODI-ek.kl.'!G199 -> 216.96 | G44: =F44/D44*100 -> 43.392 | H44: =F44/E44*100 -> 43.392
B45: 6 | C45: Rashodi za nabavu nefinancijske imovine | D45: ='RASHODI-ek.kl.'!E212 -> 426425.88 | E45: ='RASHODI-ek.kl.'!F212 -> 369702.17 | F45: ='RASHODI-ek.kl.'!G212 -> 169919.99 | G45: =F45/D45*100 -> 39.847485 | H45: =F45/E45*100 -> 45.961318
...

Sheet RAČUN FINANCIRANJA
A2: I. OPĆI DIO
A4: B. RAČUN FINANCIRANJA - prema ekonomskoj klasifikaciji i prema izvorima financiranja
A7: Razred | B7: Skupina | C7: Izvor | D7: Naziv | E7: Izvršenje tekuće godine I.-XII.2022. | F7: IZVORNI PLAN ILI REBALANS | G7: TEKUĆI PLAN 2025. | H7: Izvršenje tekuće godine I.-VI.2025. | I7: Indeks | J7: Indeks
A8: 1 | E8: 2 | F8: 3 | G8: 4 | H8: 5 | I8: 6=5/2*100 | J8: 7=5/4*100
A9: 8 | D9: Primici od financijske imovine i zaduživanja | E9: =SUM(E10) -> 0 | F9: =SUM(F10) -> 0 | G9: =SUM(G10) -> 0 | H9: =SUM(H10) -> 0 | I9: 0 | J9: 0
B10: 84 | D10: Primici od zaduživanja | E10: =SUM(E11) -> 0 | F10: 0 | G10: =SUM(G11) -> 0 | H10: =SUM(H11) -> 0 | I10: 0 | J10: 0
B11: 842 | D11: Primljeni krediti i zajmovi od kreditnih i ostalih financijskih institucija u javnom sektoru | E11: 0 | F11: 0 | G11: =SUM(G12) -> 0 | H11: =SUM(H12) -> 0 | I11: 0 | J11: 0
B12: 8422 | D12: Primljeni krediti od kreditnih institucija u javnom sektoru | E12: 0 | F12: 0 | G12: 0 | H12: 0 | I12: 0 | J12: 0
C13: 81 | D13: Namjenski primici od zaduživanja | E13: =SUM(E9) -> 0 | F13: =SUM(F9) -> 0 | G13: =SUM(G9) -> 0 | H13: =SUM(H9) -> 0 | I13: 0 | J13: 0
A14: 5 | D14: Izdaci za financijsku imovinu i otplate zajmova | E14: =SUM(E15) -> 0 | F14: =SUM(F15) -> 0 | G14: =SUM(G15) -> 0 | H14: =SUM(H15) -> 0 | I14: 0 | J14: 0
B15: 54 | D15: Izdaci za otplatu glavnice primljenih kredita i zajmova | E15: =SUM(E16) -> 0 | F15: 0 | G15: =SUM(G16) -> 0 | H15: =SUM(H16) -> 0 | I15: 0 | J15: 0
B16: 542 | D16: Otplata glavnice primljenih kredita i zajmova od kreditnih i ostalih financijskih institucija u javnom sektoru | E16: =SUM(E17) -> 0 | F16: =SUM(F17) -> 0 | G16: =SUM(G17) -> 0 | H16: =SUM(H17) -> 0 | I16: 0 | J16: 0
B17: 5422 | D17: Otplata glavnice primljenih kredita od kreditnih institucija u javnom sektoru | E17: 0 | F17: 0 | G17: 0 | H17: 0 | I17: 0 | J17: 0
C18: 11 | D18: Opći prihodi i primici | E18: =SUM(E14) -> 0 | F18: =SUM(F14) -> 0 | G18: =SUM(G14) -> 0 | H18: =SUM(H14) -> 0 | I18: 0 | J18: 0
